BEGIN:VCALENDAR
VERSION:2.0
PRODID:-//Turn Purple 2 Blue - ECPv6.15.20//NONSGML v1.0//EN
CALSCALE:GREGORIAN
METHOD:PUBLISH
X-ORIGINAL-URL:https://turnpurple2blue.org
X-WR-CALDESC:Events for Turn Purple 2 Blue
REFRESH-INTERVAL;VALUE=DURATION:PT1H
X-Robots-Tag:noindex
X-PUBLISHED-TTL:PT1H
BEGIN:VTIMEZONE
TZID:America/New_York
BEGIN:DAYLIGHT
TZOFFSETFROM:-0500
TZOFFSETTO:-0400
TZNAME:EDT
DTSTART:20240310T070000
END:DAYLIGHT
BEGIN:STANDARD
TZOFFSETFROM:-0400
TZOFFSETTO:-0500
TZNAME:EST
DTSTART:20241103T060000
END:STANDARD
BEGIN:DAYLIGHT
TZOFFSETFROM:-0500
TZOFFSETTO:-0400
TZNAME:EDT
DTSTART:20250309T070000
END:DAYLIGHT
BEGIN:STANDARD
TZOFFSETFROM:-0400
TZOFFSETTO:-0500
TZNAME:EST
DTSTART:20251102T060000
END:STANDARD
BEGIN:DAYLIGHT
TZOFFSETFROM:-0500
TZOFFSETTO:-0400
TZNAME:EDT
DTSTART:20260308T070000
END:DAYLIGHT
BEGIN:STANDARD
TZOFFSETFROM:-0400
TZOFFSETTO:-0500
TZNAME:EST
DTSTART:20261101T060000
END:STANDARD
END:VTIMEZONE
BEGIN:VEVENT
DTSTART;TZID=America/New_York:20250619T100000
DTEND;TZID=America/New_York:20250619T120000
DTSTAMP:20260422T194529
CREATED:20250612T195042Z
LAST-MODIFIED:20250615T123040Z
UID:10000612-1750327200-1750334400@turnpurple2blue.org
SUMMARY:Westford's 2nd Juneteenth Flag Raising & Celebration
DESCRIPTION:Mark your calendars for Westford’s 2nd Annual Juneteenth event and celebration. As we hoist the traditional Juneteenth flag\, we will be joined by representatives from the community to help us mark this occasion. This event marks an important statement about our town’s ongoing commitment to racial equity. \n\n\n\nImmediately after the flag raising – approximately 10:30am – we will head over to the Parish Center for the Arts where we will be treated to a spoken historical account of Lowell’s abolitionist legacy by UMass Lowell Professor Dr. Robert Forrant. He will explain the hidden connections between cotton plantations and the New England textile mills. Discover how Northern and Southern lives were intertwined — and how both oppression and courage shaped the road to freedom. \n\n\n\n\nGet Your Tickets
URL:https://turnpurple2blue.org/event/celebrate-pride-in-westford/
LOCATION:Westford Common\, Lincoln St\, Westford\, Massachusetts\, 01886
CATEGORIES:Community Gatherings
GEO:42.5812539;-71.4381738
X-APPLE-STRUCTURED-LOCATION;VALUE=URI;X-ADDRESS=Westford Common Lincoln St Westford Massachusetts 01886;X-APPLE-RADIUS=500;X-TITLE=Lincoln St:geo:-71.4381738,42.5812539
END:VEVENT
BEGIN:VEVENT
DTSTART;TZID=America/New_York:20250619T140000
DTEND;TZID=America/New_York:20250619T160000
DTSTAMP:20260422T194529
CREATED:20250619T180744Z
LAST-MODIFIED:20250619T180746Z
UID:10001228-1750341600-1750348800@turnpurple2blue.org
SUMMARY:Celebrate Juneteenth in Acton!!
DESCRIPTION:On June 19 at 2:00 pm\, Acton’s Diversity\, Equity and Inclusion Commission invites you to our celebration of Juneteenth. We begin at the Acton Congregational Church with Author Ray Anthony Shephard\, who will present a history of Juneteenth and its relevance to other fights for freedom\, followed by several musical selections. Around 3:00 pm\, we will walk to the Acton Women’s Club where Local Tour Guide Amy Cole will share Acton’s history about Emancipation and local abolitionists. We end our celebration with how horse culture ties into the histories of Black freedom and survival at the heart of Juneteenth. \n\n\n\n\nRSVP for Updates
URL:https://turnpurple2blue.org/event/celebrate-juneteenth-in-acton-2/
LOCATION:Acton Congregational Church\, 12 Concord Rd\, Acton\, Massachusetts\, 01720
CATEGORIES:Community Gatherings
GEO:42.4851326;-71.4323019
X-APPLE-STRUCTURED-LOCATION;VALUE=URI;X-ADDRESS=Acton Congregational Church 12 Concord Rd Acton Massachusetts 01720;X-APPLE-RADIUS=500;X-TITLE=12 Concord Rd:geo:-71.4323019,42.4851326
END:VEVENT
BEGIN:VEVENT
DTSTART;TZID=America/New_York:20250619T160000
DTEND;TZID=America/New_York:20250619T173000
DTSTAMP:20260422T194529
CREATED:20250612T190313Z
LAST-MODIFIED:20250612T193544Z
UID:10000586-1750348800-1750354200@turnpurple2blue.org
SUMMARY:Stand Out – Mansfield
DESCRIPTION:This a local Indivisible event! Let’s show Mansfield that we are fighting for Democracy! Bring your signs and messages. \n\n\n\nA core principle behind all Indivisible events is a commitment to nonviolent tactics. We expect all participants to seek to de-escalate any potential confrontation with those who disagree with our values.
URL:https://turnpurple2blue.org/event/stand-out-mansfield/2025-06-19/
LOCATION:Mansfield Stand Out\, 360 N. Main Street\, Mansfield\, Massachusetts
CATEGORIES:Protests
ATTACH;FMTTYPE=image/png:https://turnpurple2blue.org/wp-content/uploads/2025/03/rsvpnow.png
GEO:42.0322413;-71.2193915
X-APPLE-STRUCTURED-LOCATION;VALUE=URI;X-ADDRESS=Mansfield Stand Out 360 N. Main Street Mansfield Massachusetts;X-APPLE-RADIUS=500;X-TITLE=360 N. Main Street:geo:-71.2193915,42.0322413
END:VEVENT
END:VCALENDAR