BEGIN:VCALENDAR
VERSION:2.0
PRODID:-//Turn Purple 2 Blue - ECPv6.15.20//NONSGML v1.0//EN
CALSCALE:GREGORIAN
METHOD:PUBLISH
X-WR-CALNAME:Turn Purple 2 Blue
X-ORIGINAL-URL:https://turnpurple2blue.org
X-WR-CALDESC:Events for Turn Purple 2 Blue
REFRESH-INTERVAL;VALUE=DURATION:PT1H
X-Robots-Tag:noindex
X-PUBLISHED-TTL:PT1H
BEGIN:VTIMEZONE
TZID:America/New_York
BEGIN:DAYLIGHT
TZOFFSETFROM:-0500
TZOFFSETTO:-0400
TZNAME:EDT
DTSTART:20240310T070000
END:DAYLIGHT
BEGIN:STANDARD
TZOFFSETFROM:-0400
TZOFFSETTO:-0500
TZNAME:EST
DTSTART:20241103T060000
END:STANDARD
BEGIN:DAYLIGHT
TZOFFSETFROM:-0500
TZOFFSETTO:-0400
TZNAME:EDT
DTSTART:20250309T070000
END:DAYLIGHT
BEGIN:STANDARD
TZOFFSETFROM:-0400
TZOFFSETTO:-0500
TZNAME:EST
DTSTART:20251102T060000
END:STANDARD
BEGIN:DAYLIGHT
TZOFFSETFROM:-0500
TZOFFSETTO:-0400
TZNAME:EDT
DTSTART:20260308T070000
END:DAYLIGHT
BEGIN:STANDARD
TZOFFSETFROM:-0400
TZOFFSETTO:-0500
TZNAME:EST
DTSTART:20261101T060000
END:STANDARD
END:VTIMEZONE
BEGIN:VTIMEZONE
TZID:EDT
END:VTIMEZONE
BEGIN:VEVENT
DTSTART;TZID=America/New_York:20250704T000000
DTEND;TZID=America/New_York:20250704T235959
DTSTAMP:20260420T094121
CREATED:20250627T183700Z
LAST-MODIFIED:20250627T183703Z
UID:10001341-1751587200-1751673599@turnpurple2blue.org
SUMMARY:How and Where to Protest on Independence Day
DESCRIPTION:On July 4\, 2025\, we call on the people of Massachusetts to embrace the true spirit of Independence Day by celebrating freedom – and spreading the “No Kings” message – on the 249th anniversary of the original “No Kings” day. \n\n\n\n\nAttend your local Independence Day celebrations. Bring an American flag. Bring a Pride flag. Wear a “No Kings” shirt. Bring your “No Kings” signs.\n\n\n\n\nMass 50501 volunteers will be in various communities spreading the message. We’ll share our handouts here for you to print and hand out at your local July 4 celebration\, too. \n\n\n\nSpeak to your friends\, family\, and coworkers about this movement at July 4 gatherings. Visit our blog for tips and talking points.  \n\n\n\n\nWatch this space for additional info
URL:https://turnpurple2blue.org/event/how-and-where-to-protest-on-independence-day/
LOCATION:MA
CATEGORIES:Protests
ATTACH;FMTTYPE=image/png:https://turnpurple2blue.org/wp-content/uploads/2025/06/america-has-no-kings-50501.png
END:VEVENT
BEGIN:VEVENT
DTSTART;TZID=America/New_York:20250704T110000
DTEND;TZID=America/New_York:20250704T130000
DTSTAMP:20260420T094121
CREATED:20250703T182212Z
LAST-MODIFIED:20250703T182214Z
UID:10001416-1751626800-1751634000@turnpurple2blue.org
SUMMARY:Stand Up to Tyranny
DESCRIPTION:Across from the Minuteman Statue and Next to Buckman Tavern \n\n\n\nCelebrate July 4 by joining Indivisible LAB and our allies at Lexington Alarm! for a community reading of the Declaration of Independence. We’ll gather on the lawn across from the Minuteman Statue and next to Buckman Tavern from 11am – 1pm. Take part in the reading\, pick up one of Lexington Alarm’s signs\, take a photo at the Minuteman Statue\, and get free flags\, stickers\, or copies of the Declaration (while supplies last). This is a festive\, family-friendly event and will include face painting for young children! You’re welcome to just stop by\, but if you RSVP here\, we can let you know if there any last-minute weather-related changes \n\n\n\n\nRSVP for Updates
URL:https://turnpurple2blue.org/event/stand-up-to-tyranny/
LOCATION:Lexington Center\, Lexington\, MA\, 02421
CATEGORIES:Community Gatherings,Protests
GEO:42.4286907;-71.2280234
END:VEVENT
BEGIN:VEVENT
DTSTART;TZID=America/New_York:20250704T113000
DTEND;TZID=America/New_York:20250704T130000
DTSTAMP:20260420T094121
CREATED:20250702T143945Z
LAST-MODIFIED:20250702T143947Z
UID:10001401-1751628600-1751634000@turnpurple2blue.org
SUMMARY:Free America No Kings 2.0
DESCRIPTION:This a local Indivisible event! \n\n\n\nOn this Independence day\, join us as we gather together to raise our voices in community to Free America from authoritarians overwhelming us\, a fascist regime\, a grip of hate and the politics of fear\, to protect our freedoms before they’re gone. \n\n\n\nWe welcome you to join us. \n\n\n\n\nRSVP for Updates\n\n\n\n\nWe are looking for…..YOU!? We need people willing to lend their time and talents for the rally. Please contact us if you are interested in helping out in anyway. You can: Speak of your own experience Sing a song Lead a chant Make phone calls Provide transportation Man our table at rally event * Other? Give us your ideas\, we would love to hear from you! \n\n\n\nIn league with the NO KINGS 2.0 rally\, Women’s March\, and\, of course\, Indivisible
URL:https://turnpurple2blue.org/event/free-america-no-kings-2-0/
LOCATION:Riley Plaza\, 1-21 Margin St\, Salem\, MA\, 01970
CATEGORIES:Protests
ATTACH;FMTTYPE=image/png:https://turnpurple2blue.org/wp-content/uploads/2025/06/Mobilize20Generalized20Indivisible20Event20Campaign20Image201_20231214173802957298-IUQ1yJ.png
GEO:42.5159039;-70.8974288
X-APPLE-STRUCTURED-LOCATION;VALUE=URI;X-ADDRESS=Riley Plaza 1-21 Margin St Salem MA 01970;X-APPLE-RADIUS=500;X-TITLE=1-21 Margin St:geo:-70.8974288,42.5159039
END:VEVENT
BEGIN:VEVENT
DTSTART;TZID=EDT:20250704T120000
DTEND;TZID=EDT:20250704T140000
DTSTAMP:20260420T094121
CREATED:20250619T203501Z
LAST-MODIFIED:20250619T203503Z
UID:10001233-1751630400-1751637600@turnpurple2blue.org
SUMMARY:Celebrate Your Independence: Rally & March
DESCRIPTION:Celebrate Your Independence: Rally & March \nWorcester City Hall (Front) | 12–2 PM | Friday\, July 4\, 2025 \nWorcester Indivisible invites you to celebrate independence YOUR way with us on the 4th of July from 12:00PM-2:00PM\, at Worcester City Hall on the very spot the Declaration of Independence was first read in New England. \nDECLARE YOUR TRUTHS TO BE SELF EVIDENT. \nWhether your version of freedom and independence revolves around women’s reproductive rights\, LGBTQ+ equality\, ICE and immigration\, Indigenous and First People rights to tribal land and sovereignty\, food insecurity\, housing affordability\, or racial justice and equality for all\, these are the fundamental principles the Declaration of Independence and the 4th of July are built on. Ignored\, dismissed and unlawfully obstructed by the current Trump administration\, it is to you\, the people of these United States\, that we must look to in order to make us whole and declare our sovereignty as a united people. \nWE THE PEOPLE DECLARE OUR INDEPENDENCE. \nPlease join us for a day of declaration\, celebrating our freedom of diversity and independence from a tyrannical administration by asserting the fundamental rights granted to us by both the Declaration of Independence and the United States Constitution. Let us declare our truths and rights to be self evident by making our voices heard and coming together as the diverse and united community we are\, can and should be. Come with your families\, wear your best 4th finery or regalia celebrating your individual expressions of independence\, to enjoy good food from local food trucks\, inspirational speakers\, music\, and tables with resources! \nA core principle behind all Indivisible events is a commitment to nonviolent action. We expect all participants to seek to de-escalate any potential confrontation with those who disagree with our values. \n\n\n\nRSVP for Updates
URL:https://turnpurple2blue.org/event/celebrate-your-independence-rally-march/
LOCATION:Worcester City Hall\, 455 Main St\, Worcester\, MA\, 01608
CATEGORIES:Community Gatherings
ATTACH;FMTTYPE=image/png:https://turnpurple2blue.org/wp-content/uploads/2025/06/Mobilize20Generalized20Indivisible20Event20Campaign20Image202_20231214173755488494-jU7OB5.png
GEO:42.2627622;-71.8018178
X-APPLE-STRUCTURED-LOCATION;VALUE=URI;X-ADDRESS=Worcester City Hall 455 Main St Worcester MA 01608;X-APPLE-RADIUS=500;X-TITLE=455 Main St:geo:-71.8018178,42.2627622
END:VEVENT
BEGIN:VEVENT
DTSTART;TZID=America/New_York:20250704T120000
DTEND;TZID=America/New_York:20250704T170000
DTSTAMP:20260420T094121
CREATED:20250701T214911Z
LAST-MODIFIED:20250701T214913Z
UID:10001368-1751630400-1751648400@turnpurple2blue.org
SUMMARY:Reading with Frederick Douglass at The Robbins House.
DESCRIPTION:Held annually on the front lawn of The Robbins House\, this community event features a reading of Douglass’s famous speech\, “What to the Slave Is the Fourth of July?” \n\n\n\nThis event is free\, but please consider donating to the The Robbins House to support their programming. \n\n\n\n\nMore Info
URL:https://turnpurple2blue.org/event/reading-with-frederick-douglass-at-the-robbins-house/
LOCATION:The Robbins House\, 320 Monument St\, Concord\, MA\, 01742
CATEGORIES:Community Gatherings
GEO:42.4702081;-71.3482011
X-APPLE-STRUCTURED-LOCATION;VALUE=URI;X-ADDRESS=The Robbins House 320 Monument St Concord MA 01742;X-APPLE-RADIUS=500;X-TITLE=320 Monument St:geo:-71.3482011,42.4702081
END:VEVENT
BEGIN:VEVENT
DTSTART;TZID=America/New_York:20250704T170000
DTEND;TZID=America/New_York:20250704T180000
DTSTAMP:20260420T094121
CREATED:20250624T145912Z
LAST-MODIFIED:20250624T150614Z
UID:10001278-1751648400-1751652000@turnpurple2blue.org
SUMMARY:Choose Democracy Action on the Common
DESCRIPTION:Join us for the weekly action on the common protesting the current administration and sharing our vision for a community centered on love. Dozens of signs are available. We center on positive messages defending democracy\, due process\, the constitution\, and migrant rights. \n\n\n\nRSVP
URL:https://turnpurple2blue.org/event/choose-democracy-action-on-the-common/2025-07-04/
LOCATION:Bedford Town Common\, 75 Great Rd\, Bedford\, MA\, 01730
CATEGORIES:Protests
ATTACH;FMTTYPE=image/jpeg:https://turnpurple2blue.org/wp-content/uploads/2025/06/Banner2028229_20250516122525436882-uPCuwB.jpg
GEO:42.491285;-71.279863
X-APPLE-STRUCTURED-LOCATION;VALUE=URI;X-ADDRESS=Bedford Town Common 75 Great Rd Bedford MA 01730;X-APPLE-RADIUS=500;X-TITLE=75 Great Rd:geo:-71.279863,42.491285
END:VEVENT
BEGIN:VEVENT
DTSTART;TZID=America/New_York:20250704T170000
DTEND;TZID=America/New_York:20250704T230000
DTSTAMP:20260420T094121
CREATED:20250703T152427Z
LAST-MODIFIED:20250703T152429Z
UID:10001413-1751648400-1751670000@turnpurple2blue.org
SUMMARY:Fourth of July at Nara Park\, Acton
DESCRIPTION:Food trucks\, concert\, fireworks!Mass 50501 urges us to wear T-shirts\, carry American flags or pride flags\, bring “No Kings” signs\, to make Independence Day a day for saying “No Kings in Our Community.” Their message is here. \n\n\n\n\nSchedule and parking information
URL:https://turnpurple2blue.org/event/fourth-of-july-at-nara-park-acton/
LOCATION:Nara Park\, Acton\, MA
CATEGORIES:Community Gatherings,Protests
GEO:42.4850931;-71.43284
END:VEVENT
END:VCALENDAR