BEGIN:VCALENDAR
VERSION:2.0
PRODID:-//Turn Purple 2 Blue - ECPv6.15.20//NONSGML v1.0//EN
CALSCALE:GREGORIAN
METHOD:PUBLISH
X-ORIGINAL-URL:https://turnpurple2blue.org
X-WR-CALDESC:Events for Turn Purple 2 Blue
REFRESH-INTERVAL;VALUE=DURATION:PT1H
X-Robots-Tag:noindex
X-PUBLISHED-TTL:PT1H
BEGIN:VTIMEZONE
TZID:America/New_York
BEGIN:DAYLIGHT
TZOFFSETFROM:-0500
TZOFFSETTO:-0400
TZNAME:EDT
DTSTART:20240310T070000
END:DAYLIGHT
BEGIN:STANDARD
TZOFFSETFROM:-0400
TZOFFSETTO:-0500
TZNAME:EST
DTSTART:20241103T060000
END:STANDARD
BEGIN:DAYLIGHT
TZOFFSETFROM:-0500
TZOFFSETTO:-0400
TZNAME:EDT
DTSTART:20250309T070000
END:DAYLIGHT
BEGIN:STANDARD
TZOFFSETFROM:-0400
TZOFFSETTO:-0500
TZNAME:EST
DTSTART:20251102T060000
END:STANDARD
BEGIN:DAYLIGHT
TZOFFSETFROM:-0500
TZOFFSETTO:-0400
TZNAME:EDT
DTSTART:20260308T070000
END:DAYLIGHT
BEGIN:STANDARD
TZOFFSETFROM:-0400
TZOFFSETTO:-0500
TZNAME:EST
DTSTART:20261101T060000
END:STANDARD
END:VTIMEZONE
BEGIN:VEVENT
DTSTART;TZID=America/New_York:20250710T090000
DTEND;TZID=America/New_York:20250710T100000
DTSTAMP:20260422T110538
CREATED:20250710T205834Z
LAST-MODIFIED:20250718T122336Z
UID:10001619-1752138000-1752141600@turnpurple2blue.org
SUMMARY:State House Protest
DESCRIPTION:We will be protesting at the state house against the governments abuses of our constitutional rights\, civil liberties\, and human rights. The authoritarian and oppressive nature of the government will be discussed. We will be standing up for the constitutional rights of all people but there will be a special emphasis on upholding the constitutional rights of sick\, disabled\, and vulnerable people. When one person’s rights are violated it effects all of us. We will not ignore the injustices committed against people who have health conditions and we will speak out against all abusive government actions. \n\n\n\n\nRSVP for updates\n\n\n\n\nA core principle behind all Indivisible events is a commitment to nonviolent action. We expect all participants to seek to de-escalate any potential confrontation with those who disagree with our values.
URL:https://turnpurple2blue.org/event/state-house-protest/2025-07-10/
LOCATION:Massachusetts State House\, 24 Beacon St\, Boston\, MA\, 02133
CATEGORIES:Protests
ATTACH;FMTTYPE=image/png:https://turnpurple2blue.org/wp-content/uploads/2025/06/Mobilize20Generalized20Indivisible20Event20Campaign20Image201_20231214173802957298-gOiVqn.png
GEO:42.3587596;-71.063803
X-APPLE-STRUCTURED-LOCATION;VALUE=URI;X-ADDRESS=Massachusetts State House 24 Beacon St Boston MA 02133;X-APPLE-RADIUS=500;X-TITLE=24 Beacon St:geo:-71.063803,42.3587596
END:VEVENT
BEGIN:VEVENT
DTSTART;TZID=America/New_York:20250710T160000
DTEND;TZID=America/New_York:20250710T173000
DTSTAMP:20260422T110538
CREATED:20250612T190313Z
LAST-MODIFIED:20250612T193544Z
UID:10000589-1752163200-1752168600@turnpurple2blue.org
SUMMARY:Stand Out – Mansfield
DESCRIPTION:This a local Indivisible event! Let’s show Mansfield that we are fighting for Democracy! Bring your signs and messages. \n\n\n\nA core principle behind all Indivisible events is a commitment to nonviolent tactics. We expect all participants to seek to de-escalate any potential confrontation with those who disagree with our values.
URL:https://turnpurple2blue.org/event/stand-out-mansfield/2025-07-10/
LOCATION:Mansfield Stand Out\, 360 N. Main Street\, Mansfield\, Massachusetts
CATEGORIES:Protests
ATTACH;FMTTYPE=image/png:https://turnpurple2blue.org/wp-content/uploads/2025/03/rsvpnow.png
GEO:42.0322413;-71.2193915
X-APPLE-STRUCTURED-LOCATION;VALUE=URI;X-ADDRESS=Mansfield Stand Out 360 N. Main Street Mansfield Massachusetts;X-APPLE-RADIUS=500;X-TITLE=360 N. Main Street:geo:-71.2193915,42.0322413
END:VEVENT
BEGIN:VEVENT
DTSTART;TZID=America/New_York:20250710T163000
DTEND;TZID=America/New_York:20250710T180000
DTSTAMP:20260422T110538
CREATED:20250702T123955Z
LAST-MODIFIED:20250702T123957Z
UID:10001394-1752165000-1752170400@turnpurple2blue.org
SUMMARY:Stand Out in Concord
DESCRIPTION:Every Thursday\, 4:30–6:00pm | Concord Center stand-out\, Monument Square. Bring a sign! All are welcome — from Concord and beyond.
URL:https://turnpurple2blue.org/event/stand-out-in-concord/
LOCATION:Monument Square Concord\, Monument Square\, Concord\, MA
CATEGORIES:Protests
ATTACH;FMTTYPE=image/png:https://turnpurple2blue.org/wp-content/uploads/2025/04/concord-Indivsible-sign.png
ORGANIZER;CN="Concord Indivisible":MAILTO:info@ConcordIndivisible.org
GEO:42.4608449;-71.3493342
X-APPLE-STRUCTURED-LOCATION;VALUE=URI;X-ADDRESS=Monument Square Concord Monument Square Concord MA;X-APPLE-RADIUS=500;X-TITLE=Monument Square:geo:-71.3493342,42.4608449
END:VEVENT
BEGIN:VEVENT
DTSTART;TZID=America/New_York:20250710T180000
DTEND;TZID=America/New_York:20250710T200000
DTSTAMP:20260422T110538
CREATED:20250708T161325Z
LAST-MODIFIED:20250718T123619Z
UID:10001509-1752170400-1752177600@turnpurple2blue.org
SUMMARY:Postponed-People of Welcome
DESCRIPTION:We’re postponing the event due to unforeseen delays in the permitting process. We’re working with the appropriate authorities to finalize everything and will share a new date as soon as possible. To get updated when this is rescheduled\, please RSVP here. \n\n\n\nAn Immigrant Justice and Solidarity Gathering \n\n\n\nHave you been watching the horrific injustices our immigrant neighbors are facing and wondering what to do? Join us on Thursday\, July 10th\, 6pm\, at Kerouac Park in Lowell to stand with immigrants! We’ll begin with a peaceful protest\, standing in visible support of immigrant justice\, followed by a community gathering where you can meet local groups working on the ground and learn how to take action. Co-sponsored by Solidarity Lowell. All are welcome. RSVP here.
URL:https://turnpurple2blue.org/event/people-of-welcome-an-immigrant-justice-and-solidarity-gathering/
LOCATION:Jack Kerouac Park\, 75 BridgeSt\, Lowell\, MA
CATEGORIES:Action Hours,Protests
GEO:42.6499618;-71.303985
X-APPLE-STRUCTURED-LOCATION;VALUE=URI;X-ADDRESS=Jack Kerouac Park 75 BridgeSt Lowell MA;X-APPLE-RADIUS=500;X-TITLE=75 BridgeSt:geo:-71.303985,42.6499618
END:VEVENT
END:VCALENDAR