BEGIN:VCALENDAR
VERSION:2.0
PRODID:-//Turn Purple 2 Blue - ECPv6.15.20//NONSGML v1.0//EN
CALSCALE:GREGORIAN
METHOD:PUBLISH
X-ORIGINAL-URL:https://turnpurple2blue.org
X-WR-CALDESC:Events for Turn Purple 2 Blue
REFRESH-INTERVAL;VALUE=DURATION:PT1H
X-Robots-Tag:noindex
X-PUBLISHED-TTL:PT1H
BEGIN:VTIMEZONE
TZID:America/New_York
BEGIN:DAYLIGHT
TZOFFSETFROM:-0500
TZOFFSETTO:-0400
TZNAME:EDT
DTSTART:20240310T070000
END:DAYLIGHT
BEGIN:STANDARD
TZOFFSETFROM:-0400
TZOFFSETTO:-0500
TZNAME:EST
DTSTART:20241103T060000
END:STANDARD
BEGIN:DAYLIGHT
TZOFFSETFROM:-0500
TZOFFSETTO:-0400
TZNAME:EDT
DTSTART:20250309T070000
END:DAYLIGHT
BEGIN:STANDARD
TZOFFSETFROM:-0400
TZOFFSETTO:-0500
TZNAME:EST
DTSTART:20251102T060000
END:STANDARD
BEGIN:DAYLIGHT
TZOFFSETFROM:-0500
TZOFFSETTO:-0400
TZNAME:EDT
DTSTART:20260308T070000
END:DAYLIGHT
BEGIN:STANDARD
TZOFFSETFROM:-0400
TZOFFSETTO:-0500
TZNAME:EST
DTSTART:20261101T060000
END:STANDARD
END:VTIMEZONE
BEGIN:VEVENT
DTSTART;TZID=America/New_York:20250805T120000
DTEND;TZID=America/New_York:20250805T130000
DTSTAMP:20260424T044548
CREATED:20250731T182538Z
LAST-MODIFIED:20250807T195458Z
UID:10001896-1754395200-1754398800@turnpurple2blue.org
SUMMARY:Standout for Palestine- Boston\, Israeli Consulate
DESCRIPTION:Every Tuesday: Noon at the Israeli Consulate\, 20 Park Plaza\, Boston. Organized by Boston Coalition for Palestine.
URL:https://turnpurple2blue.org/event/standout-for-palestine-boston-israeli-consulate/2025-08-05/
LOCATION:Israeli Consulate\, Boston\, 20 Park Plaza\, Boston\, MA\, 02116
CATEGORIES:Protests
ATTACH;FMTTYPE=image/png:https://turnpurple2blue.org/wp-content/uploads/2025/07/palestine-standout.png
GEO:42.3513427;-71.0689899
X-APPLE-STRUCTURED-LOCATION;VALUE=URI;X-ADDRESS=Israeli Consulate Boston 20 Park Plaza Boston MA 02116;X-APPLE-RADIUS=500;X-TITLE=20 Park Plaza:geo:-71.0689899,42.3513427
END:VEVENT
BEGIN:VEVENT
DTSTART;TZID=America/New_York:20250805T163000
DTEND;TZID=America/New_York:20250805T173000
DTSTAMP:20260424T044548
CREATED:20250731T180402Z
LAST-MODIFIED:20250807T195542Z
UID:10001904-1754411400-1754415000@turnpurple2blue.org
SUMMARY:Standout for Palestine- Medford
DESCRIPTION:Medford:Tuesdays\, 4:30-5:30. 147 High Street. Unitarian Universalist Church of Medford. This is a quiet vigil.
URL:https://turnpurple2blue.org/event/standout-for-palestine-medford/2025-08-05/
LOCATION:Unitarian Universalist Church of Medford\, 147 High St\, Medford\, MA\, 02155
CATEGORIES:Protests
ATTACH;FMTTYPE=image/png:https://turnpurple2blue.org/wp-content/uploads/2025/07/palestine-standout.png
GEO:42.4206369;-71.1150672
X-APPLE-STRUCTURED-LOCATION;VALUE=URI;X-ADDRESS=Unitarian Universalist Church of Medford 147 High St Medford MA 02155;X-APPLE-RADIUS=500;X-TITLE=147 High St:geo:-71.1150672,42.4206369
END:VEVENT
BEGIN:VEVENT
DTSTART;TZID=America/New_York:20250805T163000
DTEND;TZID=America/New_York:20250805T183000
DTSTAMP:20260424T044548
CREATED:20250805T130122Z
LAST-MODIFIED:20250805T130124Z
UID:10002080-1754411400-1754418600@turnpurple2blue.org
SUMMARY:Monthly Standouts - Westford
DESCRIPTION:Bring your signs to fight for Democracy in this monthly standout. \n\n\n\n\nRSVP for Updates
URL:https://turnpurple2blue.org/event/monthly-standouts-westford/2025-08-05/
LOCATION:Minot’s Corner/Four Corners\, One Carlisle Rd\, Westford\, Massachusetts\, 01886
CATEGORIES:Protests
ATTACH;FMTTYPE=image/png:https://turnpurple2blue.org/wp-content/uploads/2025/08/Westford-Standouts.png
GEO:42.5467399;-71.4112072
X-APPLE-STRUCTURED-LOCATION;VALUE=URI;X-ADDRESS=Minot’s Corner/Four Corners One Carlisle Rd Westford Massachusetts 01886;X-APPLE-RADIUS=500;X-TITLE=One Carlisle Rd:geo:-71.4112072,42.5467399
END:VEVENT
END:VCALENDAR