BEGIN:VCALENDAR
VERSION:2.0
PRODID:-//Turn Purple 2 Blue - ECPv6.15.20//NONSGML v1.0//EN
CALSCALE:GREGORIAN
METHOD:PUBLISH
X-ORIGINAL-URL:https://turnpurple2blue.org
X-WR-CALDESC:Events for Turn Purple 2 Blue
REFRESH-INTERVAL;VALUE=DURATION:PT1H
X-Robots-Tag:noindex
X-PUBLISHED-TTL:PT1H
BEGIN:VTIMEZONE
TZID:America/New_York
BEGIN:DAYLIGHT
TZOFFSETFROM:-0500
TZOFFSETTO:-0400
TZNAME:EDT
DTSTART:20240310T070000
END:DAYLIGHT
BEGIN:STANDARD
TZOFFSETFROM:-0400
TZOFFSETTO:-0500
TZNAME:EST
DTSTART:20241103T060000
END:STANDARD
BEGIN:DAYLIGHT
TZOFFSETFROM:-0500
TZOFFSETTO:-0400
TZNAME:EDT
DTSTART:20250309T070000
END:DAYLIGHT
BEGIN:STANDARD
TZOFFSETFROM:-0400
TZOFFSETTO:-0500
TZNAME:EST
DTSTART:20251102T060000
END:STANDARD
BEGIN:DAYLIGHT
TZOFFSETFROM:-0500
TZOFFSETTO:-0400
TZNAME:EDT
DTSTART:20260308T070000
END:DAYLIGHT
BEGIN:STANDARD
TZOFFSETFROM:-0400
TZOFFSETTO:-0500
TZNAME:EST
DTSTART:20261101T060000
END:STANDARD
END:VTIMEZONE
BEGIN:VEVENT
DTSTART;TZID=America/New_York:20250928T090000
DTEND;TZID=America/New_York:20250928T100000
DTSTAMP:20260421T215543
CREATED:20250907T182323Z
LAST-MODIFIED:20250907T182353Z
UID:10002555-1759050000-1759053600@turnpurple2blue.org
SUMMARY:Rowley Stand Up for our Country
DESCRIPTION:Stand Out across from Agawam Diner at Route One and 133. Parking on side road off 133 going to McDonalds\, or Institution for Savings. One hour: 9-10AM. \n\n\n\n\nRSVP for updates
URL:https://turnpurple2blue.org/event/rowley-stand-up-for-our-country-nationwide-2/
LOCATION:Rowley Center\, US Rte 1 and MA 133\, Rowley\, Massachusetts
CATEGORIES:Protests
ATTACH;FMTTYPE=image/png:https://turnpurple2blue.org/wp-content/uploads/2025/09/Rowley.png
GEO:42.7051727;-70.9092118
X-APPLE-STRUCTURED-LOCATION;VALUE=URI;X-ADDRESS=Rowley Center US Rte 1 and MA 133 Rowley Massachusetts;X-APPLE-RADIUS=500;X-TITLE=US Rte 1 and MA 133:geo:-70.9092118,42.7051727
END:VEVENT
END:VCALENDAR