BEGIN:VCALENDAR
VERSION:2.0
PRODID:-//Turn Purple 2 Blue - ECPv6.15.20//NONSGML v1.0//EN
CALSCALE:GREGORIAN
METHOD:PUBLISH
X-ORIGINAL-URL:https://turnpurple2blue.org
X-WR-CALDESC:Events for Turn Purple 2 Blue
REFRESH-INTERVAL;VALUE=DURATION:PT1H
X-Robots-Tag:noindex
X-PUBLISHED-TTL:PT1H
BEGIN:VTIMEZONE
TZID:America/New_York
BEGIN:DAYLIGHT
TZOFFSETFROM:-0500
TZOFFSETTO:-0400
TZNAME:EDT
DTSTART:20240310T070000
END:DAYLIGHT
BEGIN:STANDARD
TZOFFSETFROM:-0400
TZOFFSETTO:-0500
TZNAME:EST
DTSTART:20241103T060000
END:STANDARD
BEGIN:DAYLIGHT
TZOFFSETFROM:-0500
TZOFFSETTO:-0400
TZNAME:EDT
DTSTART:20250309T070000
END:DAYLIGHT
BEGIN:STANDARD
TZOFFSETFROM:-0400
TZOFFSETTO:-0500
TZNAME:EST
DTSTART:20251102T060000
END:STANDARD
BEGIN:DAYLIGHT
TZOFFSETFROM:-0500
TZOFFSETTO:-0400
TZNAME:EDT
DTSTART:20260308T070000
END:DAYLIGHT
BEGIN:STANDARD
TZOFFSETFROM:-0400
TZOFFSETTO:-0500
TZNAME:EST
DTSTART:20261101T060000
END:STANDARD
END:VTIMEZONE
BEGIN:VEVENT
DTSTART;TZID=America/New_York:20251012T090000
DTEND;TZID=America/New_York:20251012T100000
DTSTAMP:20260421T120233
CREATED:20251004T140538Z
LAST-MODIFIED:20251004T140540Z
UID:10002793-1760259600-1760263200@turnpurple2blue.org
SUMMARY:Stand Out for our Democracy-Rowley
DESCRIPTION:Stand out across from the Agawam Diner. \n\n\n\n\nOct 5\n\n\n\nOct 12\n\n\n\nOct 19\n\n\n\nOct 26\n\n\n\n\nA core principle behind all Indivisible events is a commitment to nonviolent action. We expect all participants to seek to de-escalate any potential confrontation with those who disagree with our values.
URL:https://turnpurple2blue.org/event/stand-out-for-our-democracy-rowley/2025-10-12/
LOCATION:Agawam Diner\, Rte 1 and Rte 133\, Rowley\, Massachusetts\, 01951
CATEGORIES:Protests
ATTACH;FMTTYPE=image/png:https://turnpurple2blue.org/wp-content/uploads/2025/10/rowley-october.png
GEO:42.7051727;-70.9092118
X-APPLE-STRUCTURED-LOCATION;VALUE=URI;X-ADDRESS=Agawam Diner Rte 1 and Rte 133 Rowley Massachusetts 01951;X-APPLE-RADIUS=500;X-TITLE=Rte 1 and Rte 133:geo:-70.9092118,42.7051727
END:VEVENT
END:VCALENDAR