BEGIN:VCALENDAR
VERSION:2.0
PRODID:-//Turn Purple 2 Blue - ECPv6.15.20//NONSGML v1.0//EN
CALSCALE:GREGORIAN
METHOD:PUBLISH
X-ORIGINAL-URL:https://turnpurple2blue.org
X-WR-CALDESC:Events for Turn Purple 2 Blue
REFRESH-INTERVAL;VALUE=DURATION:PT1H
X-Robots-Tag:noindex
X-PUBLISHED-TTL:PT1H
BEGIN:VTIMEZONE
TZID:America/New_York
BEGIN:DAYLIGHT
TZOFFSETFROM:-0500
TZOFFSETTO:-0400
TZNAME:EDT
DTSTART:20240310T070000
END:DAYLIGHT
BEGIN:STANDARD
TZOFFSETFROM:-0400
TZOFFSETTO:-0500
TZNAME:EST
DTSTART:20241103T060000
END:STANDARD
BEGIN:DAYLIGHT
TZOFFSETFROM:-0500
TZOFFSETTO:-0400
TZNAME:EDT
DTSTART:20250309T070000
END:DAYLIGHT
BEGIN:STANDARD
TZOFFSETFROM:-0400
TZOFFSETTO:-0500
TZNAME:EST
DTSTART:20251102T060000
END:STANDARD
BEGIN:DAYLIGHT
TZOFFSETFROM:-0500
TZOFFSETTO:-0400
TZNAME:EDT
DTSTART:20260308T070000
END:DAYLIGHT
BEGIN:STANDARD
TZOFFSETFROM:-0400
TZOFFSETTO:-0500
TZNAME:EST
DTSTART:20261101T060000
END:STANDARD
END:VTIMEZONE
BEGIN:VEVENT
DTSTART;TZID=America/New_York:20251104T083000
DTEND;TZID=America/New_York:20251104T100000
DTSTAMP:20260420T194413
CREATED:20251020T202539Z
LAST-MODIFIED:20251020T202544Z
UID:10002913-1762245000-1762250400@turnpurple2blue.org
SUMMARY:Standout at Framingham ISAP Office
DESCRIPTION:Join us as we draw attention to the invasive cruelty of ICE’s ISAP program.  The Intensive Supervision Appearance Program (ISAP) utilizes private contractors to surveil and monitor undocumented neighbors via biometric scans and ankle monitors. \n\n\n\nPark at Life Time Fitness.  Protest on public sidewalk facing the intersection at 10 Speen St.  Signs welcome.
URL:https://turnpurple2blue.org/event/standout-at-framingham-isap-office/2025-11-04/
LOCATION:Lifetime Fitness Parking Lot\, 490 Old Connecticut Path\, Framingham\, Massachusetts\, 01701
CATEGORIES:Protests
ATTACH;FMTTYPE=image/png:https://turnpurple2blue.org/wp-content/uploads/2025/10/framingham.png
GEO:42.3128824;-71.3948911
X-APPLE-STRUCTURED-LOCATION;VALUE=URI;X-ADDRESS=Lifetime Fitness Parking Lot 490 Old Connecticut Path Framingham Massachusetts 01701;X-APPLE-RADIUS=500;X-TITLE=490 Old Connecticut Path:geo:-71.3948911,42.3128824
END:VEVENT
BEGIN:VEVENT
DTSTART;TZID=America/New_York:20251104T103000
DTEND;TZID=America/New_York:20251104T113000
DTSTAMP:20260420T194413
CREATED:20250907T192349Z
LAST-MODIFIED:20250907T192351Z
UID:10002603-1762252200-1762255800@turnpurple2blue.org
SUMMARY:Stand up Speak out (Marshfield)
DESCRIPTION:Don’t let the headlines get you down; come spend some time with the good troublemakers of Southeastern Massachusetts from 10:30 to 11:30 in the morning on Tuesday\, Wednesday\, and The good troublemakers of Southeastern Massachusetts are standing up and speaking out on the South Shore for democracy. Every Tuesday\, Wednesday\, and Thursday morning\, join our crew of good troublemakers. The team meets at different locations on a schedule of Tuesdays at Marshfield Roche Brothers\, Wednesdays at the Hingham post office\, and Thursdays at Nantasket Beach in Hull. This is a bring your own sign event\, but keep your messages clean\, since Good Troublemaker events are always family-friendly. \n\n\n\n\nRSVP for updates
URL:https://turnpurple2blue.org/event/stand-up-speak-out-marshfield/2025-11-04/
LOCATION:Roche Bros. Marshfield\, 605 Plain St\, Marshfield\, Massachusetts\, 02050
CATEGORIES:Protests
ATTACH;FMTTYPE=image/png:https://turnpurple2blue.org/wp-content/uploads/2025/09/marshfield.png
GEO:42.1041734;-70.7408652
X-APPLE-STRUCTURED-LOCATION;VALUE=URI;X-ADDRESS=Roche Bros. Marshfield 605 Plain St Marshfield Massachusetts 02050;X-APPLE-RADIUS=500;X-TITLE=605 Plain St:geo:-70.7408652,42.1041734
END:VEVENT
BEGIN:VEVENT
DTSTART;TZID=America/New_York:20251104T163000
DTEND;TZID=America/New_York:20251104T183000
DTSTAMP:20260420T194413
CREATED:20250805T130122Z
LAST-MODIFIED:20250805T130124Z
UID:10002083-1762273800-1762281000@turnpurple2blue.org
SUMMARY:Monthly Standouts - Westford
DESCRIPTION:Bring your signs to fight for Democracy in this monthly standout. \n\n\n\n\nRSVP for Updates
URL:https://turnpurple2blue.org/event/monthly-standouts-westford/2025-11-04/
LOCATION:Minot’s Corner/Four Corners\, One Carlisle Rd\, Westford\, Massachusetts\, 01886
CATEGORIES:Protests
ATTACH;FMTTYPE=image/png:https://turnpurple2blue.org/wp-content/uploads/2025/08/Westford-Standouts.png
GEO:42.5467399;-71.4112072
X-APPLE-STRUCTURED-LOCATION;VALUE=URI;X-ADDRESS=Minot’s Corner/Four Corners One Carlisle Rd Westford Massachusetts 01886;X-APPLE-RADIUS=500;X-TITLE=One Carlisle Rd:geo:-71.4112072,42.5467399
END:VEVENT
END:VCALENDAR