BEGIN:VCALENDAR
VERSION:2.0
PRODID:-//Turn Purple 2 Blue - ECPv6.15.20//NONSGML v1.0//EN
CALSCALE:GREGORIAN
METHOD:PUBLISH
X-ORIGINAL-URL:https://turnpurple2blue.org
X-WR-CALDESC:Events for Turn Purple 2 Blue
REFRESH-INTERVAL;VALUE=DURATION:PT1H
X-Robots-Tag:noindex
X-PUBLISHED-TTL:PT1H
BEGIN:VTIMEZONE
TZID:America/New_York
BEGIN:DAYLIGHT
TZOFFSETFROM:-0500
TZOFFSETTO:-0400
TZNAME:EDT
DTSTART:20240310T070000
END:DAYLIGHT
BEGIN:STANDARD
TZOFFSETFROM:-0400
TZOFFSETTO:-0500
TZNAME:EST
DTSTART:20241103T060000
END:STANDARD
BEGIN:DAYLIGHT
TZOFFSETFROM:-0500
TZOFFSETTO:-0400
TZNAME:EDT
DTSTART:20250309T070000
END:DAYLIGHT
BEGIN:STANDARD
TZOFFSETFROM:-0400
TZOFFSETTO:-0500
TZNAME:EST
DTSTART:20251102T060000
END:STANDARD
BEGIN:DAYLIGHT
TZOFFSETFROM:-0500
TZOFFSETTO:-0400
TZNAME:EDT
DTSTART:20260308T070000
END:DAYLIGHT
BEGIN:STANDARD
TZOFFSETFROM:-0400
TZOFFSETTO:-0500
TZNAME:EST
DTSTART:20261101T060000
END:STANDARD
END:VTIMEZONE
BEGIN:VEVENT
DTSTART;TZID=America/New_York:20251126T113000
DTEND;TZID=America/New_York:20251126T130000
DTSTAMP:20260420T084908
CREATED:20251017T153338Z
LAST-MODIFIED:20251017T153343Z
UID:10002877-1764156600-1764162000@turnpurple2blue.org
SUMMARY:Bear Witness- Protest Wednesdays at ICE
DESCRIPTION:“We invite you to stand in solidarity outside the ICE Enforcement & Removal Operations Office in Burlington every Wednesday from 11am-1pm. We’re grateful to those who have previously joined us at this facility\, and we hope that more will consider attending. Together\, we can show love & support for immigrants\, express our shame at ICE\, and bear witness to the cruel and unconstitutional actions of our government.”Schedule11:00-11:30\, Welcome chat; orientation for new folks; sign-making for those who need them11:30-12:30\, Stand (or sit) with signs12:30-1:00\, Short walk along the sidewalk on District AveThe ICE building in Burlington is the detention and enforcement office for New England. Immigrants must come here for appointments. The standouts are peaceful and offer support for those who must show up here. Signs expressing support for immigrants are welcome. \n\n\n\n\nMore Info & Email Updates
URL:https://turnpurple2blue.org/event/bear-witness-protest-wednesdays-at-ice-4/2025-11-26/
LOCATION:Burlington ICE Enforcement & Removal Operations Office\, 1000 District Avenue\, Burlington\, MA\, 01803
CATEGORIES:Protests
ATTACH;FMTTYPE=image/png:https://turnpurple2blue.org/wp-content/uploads/2025/05/protect-immigrant-families.png
GEO:42.4825992;-71.2088135
X-APPLE-STRUCTURED-LOCATION;VALUE=URI;X-ADDRESS=Burlington ICE Enforcement & Removal Operations Office 1000 District Avenue Burlington MA 01803;X-APPLE-RADIUS=500;X-TITLE=1000 District Avenue:geo:-71.2088135,42.4825992
END:VEVENT
END:VCALENDAR