BEGIN:VCALENDAR
VERSION:2.0
PRODID:-//Turn Purple 2 Blue - ECPv6.15.20//NONSGML v1.0//EN
CALSCALE:GREGORIAN
METHOD:PUBLISH
X-ORIGINAL-URL:https://turnpurple2blue.org
X-WR-CALDESC:Events for Turn Purple 2 Blue
REFRESH-INTERVAL;VALUE=DURATION:PT1H
X-Robots-Tag:noindex
X-PUBLISHED-TTL:PT1H
BEGIN:VTIMEZONE
TZID:America/New_York
BEGIN:DAYLIGHT
TZOFFSETFROM:-0500
TZOFFSETTO:-0400
TZNAME:EDT
DTSTART:20240310T070000
END:DAYLIGHT
BEGIN:STANDARD
TZOFFSETFROM:-0400
TZOFFSETTO:-0500
TZNAME:EST
DTSTART:20241103T060000
END:STANDARD
BEGIN:DAYLIGHT
TZOFFSETFROM:-0500
TZOFFSETTO:-0400
TZNAME:EDT
DTSTART:20250309T070000
END:DAYLIGHT
BEGIN:STANDARD
TZOFFSETFROM:-0400
TZOFFSETTO:-0500
TZNAME:EST
DTSTART:20251102T060000
END:STANDARD
BEGIN:DAYLIGHT
TZOFFSETFROM:-0500
TZOFFSETTO:-0400
TZNAME:EDT
DTSTART:20260308T070000
END:DAYLIGHT
BEGIN:STANDARD
TZOFFSETFROM:-0400
TZOFFSETTO:-0500
TZNAME:EST
DTSTART:20261101T060000
END:STANDARD
END:VTIMEZONE
BEGIN:VEVENT
DTSTART;TZID=America/New_York:20251128T100000
DTEND;TZID=America/New_York:20251128T120000
DTSTAMP:20260419T182419
CREATED:20251114T134412Z
LAST-MODIFIED:20251114T134416Z
UID:10003115-1764324000-1764331200@turnpurple2blue.org
SUMMARY:Raise Our Voices
DESCRIPTION:Senate Republicans rammed through their Medicaid and SNAP slashing reconciliation bill with life threatening cuts. We’re seeing increased costs of healthcare\, groceries\, Insurance premiums\, childcare and more. \n\n\n\nRaise your voice to let our Members of Congress know that this is unacceptable. Join this event to end the outrageous giveaways by this administration at the cost of working families\, low-income folks\, seniors and veterans. Slashing Medicaid and SNAP to fund billionaire tax breaks is unacceptable. \n\n\n\n\nRSVP for updates\n\n\n\n\nA core principle behind all Indivisible events is a commitment to nonviolent action. We expect all participants to seek to de-escalate any potential confrontation with those who disagree with our values. We recommend all participants review our safety and security resource before your event: https://indivisi.org/safety
URL:https://turnpurple2blue.org/event/raise-our-voices/
LOCATION:Stockwell Drive\, 20 Stockwell Drive\, Avon\, Massachusetts\, 02322
CATEGORIES:Protests
ATTACH;FMTTYPE=image/png:https://turnpurple2blue.org/wp-content/uploads/2025/10/stop-the-cuts.png
GEO:42.1283331;-71.0662122
X-APPLE-STRUCTURED-LOCATION;VALUE=URI;X-ADDRESS=Stockwell Drive 20 Stockwell Drive Avon Massachusetts 02322;X-APPLE-RADIUS=500;X-TITLE=20 Stockwell Drive:geo:-71.0662122,42.1283331
END:VEVENT
BEGIN:VEVENT
DTSTART;TZID=America/New_York:20251128T110000
DTEND;TZID=America/New_York:20251128T130000
DTSTAMP:20260419T182419
CREATED:20251121T140758Z
LAST-MODIFIED:20251121T140807Z
UID:10003149-1764327600-1764334800@turnpurple2blue.org
SUMMARY:Black Friday Stand Out for Democracy: Shop Local and Boycott Corporations
DESCRIPTION:On Black Friday\, let’s encourage the Easton community to ditch big retailers and shop local! Billionaires don’t need your money — your neighbors do! \n\n\n\nWe’ll meet in downtown North Easton outside of Auntie Zaza’s Fiber Works. There is town parking behind the Children’s Museum (36 Mechanic St.)\, as well as street parking downtown and by the Rockery. Bring your signs and good vibes! \n\n\n\nSign ideas: – Shop local! – Boycott Black Friday! – Support small business – shop local! – People over profit! – Billionaires don’t need your money\, your neighbors do! \n\n\n\nWe will have a sign making event on Monday\, 11/24. Please reach for details if you’d like to join! \n\n\n\n\nRSVP for updates\n\n\n\n\nA core principle behind all Indivisible events is a commitment to nonviolent action. We expect all participants to seek to de-escalate any potential confrontation with those who disagree with our values.
URL:https://turnpurple2blue.org/event/black-friday-stand-out-for-democracy-shop-local-and-boycott-corporations/
LOCATION:Auntie Zaza’s Fiber Works\, 104 Main St\, Easton\, Massachusetts\, 02356
CATEGORIES:Protests
ATTACH;FMTTYPE=image/png:https://turnpurple2blue.org/wp-content/uploads/2025/03/rsvp-now.png
GEO:42.0663227;-71.1021038
X-APPLE-STRUCTURED-LOCATION;VALUE=URI;X-ADDRESS=Auntie Zaza’s Fiber Works 104 Main St Easton Massachusetts 02356;X-APPLE-RADIUS=500;X-TITLE=104 Main St:geo:-71.1021038,42.0663227
END:VEVENT
BEGIN:VEVENT
DTSTART;TZID=America/New_York:20251128T133000
DTEND;TZID=America/New_York:20251128T150000
DTSTAMP:20260419T182419
CREATED:20251123T174941Z
LAST-MODIFIED:20251123T174950Z
UID:10003023-1764336600-1764342000@turnpurple2blue.org
SUMMARY:Canceled Nov 28: De-ICE Hanscom Friday Standouts
DESCRIPTION:Due to the holiday\, we are not standing out on November 28. Will will resume our regular Friday schedule in December. \n\n\n\nThis weekly afternoon standout is on Fridays from 1:30 to 3:00 at the Hanscom Rotary (intersection of Hanscom Dr. and Old Bedford Rd. in Lincoln\, MA.) Please park along Old Bedford Road or Hanscom Drive without impeding traffic or blocking bike lanes. \n\n\n\n\n\n\n\nDe-ICE Hanscom is a coalition organizing peaceful standouts with the goal of eliminating ICE transport flights from Hanscom Field. ICE is using these flights to swiftly move immigrants out of New England in order to hinder effective legal representation.  \n\n\n\n\n\n\n\nCoalition groups include Boston Workers Circle\, Concord Indivisible\, Greater Assabet Indivisible Network (GAIN)\, Indivisible Acton Area\, Jewish Alliance for Law & Social Action (JALSA)\, Lexington Alarm\, and Maynard Indivisible. \n\n\n\n\n\n\n\nSign up to get information and updates about our weekly standouts. We’ll keep you in the loop if we need to reschedule or cancel for weather or other considerations\, and apprise you of our goals and progress. \n\n\n\n\n\n\n\n\nSign Up to Get Updates
URL:https://turnpurple2blue.org/event/de-ice-hanscom-friday-standouts-2/
LOCATION:Hanscom Rotary\, Intersection of Old Bedford Rd and Hanscom Dr\, Lincoln\, MA
CATEGORIES:Protests
ATTACH;FMTTYPE=image/jpeg:https://turnpurple2blue.org/wp-content/uploads/2025/11/De-Ice-Hanscom-Banner-Medium-Banner-US-Landscape.jpg
GEO:42.4561275;-71.2891917
X-APPLE-STRUCTURED-LOCATION;VALUE=URI;X-ADDRESS=Hanscom Rotary Intersection of Old Bedford Rd and Hanscom Dr Lincoln MA;X-APPLE-RADIUS=500;X-TITLE=Intersection of Old Bedford Rd and Hanscom Dr:geo:-71.2891917,42.4561275
END:VEVENT
END:VCALENDAR