BEGIN:VCALENDAR
VERSION:2.0
PRODID:-//Turn Purple 2 Blue - ECPv6.15.20//NONSGML v1.0//EN
CALSCALE:GREGORIAN
METHOD:PUBLISH
X-ORIGINAL-URL:https://turnpurple2blue.org
X-WR-CALDESC:Events for Turn Purple 2 Blue
REFRESH-INTERVAL;VALUE=DURATION:PT1H
X-Robots-Tag:noindex
X-PUBLISHED-TTL:PT1H
BEGIN:VTIMEZONE
TZID:America/New_York
BEGIN:DAYLIGHT
TZOFFSETFROM:-0500
TZOFFSETTO:-0400
TZNAME:EDT
DTSTART:20240310T070000
END:DAYLIGHT
BEGIN:STANDARD
TZOFFSETFROM:-0400
TZOFFSETTO:-0500
TZNAME:EST
DTSTART:20241103T060000
END:STANDARD
BEGIN:DAYLIGHT
TZOFFSETFROM:-0500
TZOFFSETTO:-0400
TZNAME:EDT
DTSTART:20250309T070000
END:DAYLIGHT
BEGIN:STANDARD
TZOFFSETFROM:-0400
TZOFFSETTO:-0500
TZNAME:EST
DTSTART:20251102T060000
END:STANDARD
BEGIN:DAYLIGHT
TZOFFSETFROM:-0500
TZOFFSETTO:-0400
TZNAME:EDT
DTSTART:20260308T070000
END:DAYLIGHT
BEGIN:STANDARD
TZOFFSETFROM:-0400
TZOFFSETTO:-0500
TZNAME:EST
DTSTART:20261101T060000
END:STANDARD
END:VTIMEZONE
BEGIN:VEVENT
DTSTART;TZID=America/New_York:20251202T083000
DTEND;TZID=America/New_York:20251202T100000
DTSTAMP:20260422T230422
CREATED:20251020T202539Z
LAST-MODIFIED:20251020T202544Z
UID:10002917-1764664200-1764669600@turnpurple2blue.org
SUMMARY:Standout at Framingham ISAP Office
DESCRIPTION:Join us as we draw attention to the invasive cruelty of ICE’s ISAP program.  The Intensive Supervision Appearance Program (ISAP) utilizes private contractors to surveil and monitor undocumented neighbors via biometric scans and ankle monitors. \n\n\n\nPark at Life Time Fitness.  Protest on public sidewalk facing the intersection at 10 Speen St.  Signs welcome.
URL:https://turnpurple2blue.org/event/standout-at-framingham-isap-office/2025-12-02/
LOCATION:Lifetime Fitness Parking Lot\, 490 Old Connecticut Path\, Framingham\, Massachusetts\, 01701
CATEGORIES:Protests
ATTACH;FMTTYPE=image/png:https://turnpurple2blue.org/wp-content/uploads/2025/10/framingham.png
GEO:42.3128824;-71.3948911
X-APPLE-STRUCTURED-LOCATION;VALUE=URI;X-ADDRESS=Lifetime Fitness Parking Lot 490 Old Connecticut Path Framingham Massachusetts 01701;X-APPLE-RADIUS=500;X-TITLE=490 Old Connecticut Path:geo:-71.3948911,42.3128824
END:VEVENT
END:VCALENDAR