BEGIN:VCALENDAR
VERSION:2.0
PRODID:-//Turn Purple 2 Blue - ECPv6.15.20//NONSGML v1.0//EN
CALSCALE:GREGORIAN
METHOD:PUBLISH
X-ORIGINAL-URL:https://turnpurple2blue.org
X-WR-CALDESC:Events for Turn Purple 2 Blue
REFRESH-INTERVAL;VALUE=DURATION:PT1H
X-Robots-Tag:noindex
X-PUBLISHED-TTL:PT1H
BEGIN:VTIMEZONE
TZID:America/New_York
BEGIN:DAYLIGHT
TZOFFSETFROM:-0500
TZOFFSETTO:-0400
TZNAME:EDT
DTSTART:20240310T070000
END:DAYLIGHT
BEGIN:STANDARD
TZOFFSETFROM:-0400
TZOFFSETTO:-0500
TZNAME:EST
DTSTART:20241103T060000
END:STANDARD
BEGIN:DAYLIGHT
TZOFFSETFROM:-0500
TZOFFSETTO:-0400
TZNAME:EDT
DTSTART:20250309T070000
END:DAYLIGHT
BEGIN:STANDARD
TZOFFSETFROM:-0400
TZOFFSETTO:-0500
TZNAME:EST
DTSTART:20251102T060000
END:STANDARD
BEGIN:DAYLIGHT
TZOFFSETFROM:-0500
TZOFFSETTO:-0400
TZNAME:EDT
DTSTART:20260308T070000
END:DAYLIGHT
BEGIN:STANDARD
TZOFFSETFROM:-0400
TZOFFSETTO:-0500
TZNAME:EST
DTSTART:20261101T060000
END:STANDARD
END:VTIMEZONE
BEGIN:VEVENT
DTSTART;TZID=America/New_York:20251217T113000
DTEND;TZID=America/New_York:20251217T130000
DTSTAMP:20260421T090606
CREATED:20251017T153338Z
LAST-MODIFIED:20251017T153343Z
UID:10002880-1765971000-1765976400@turnpurple2blue.org
SUMMARY:Bear Witness- Protest Wednesdays at ICE
DESCRIPTION:“We invite you to stand in solidarity outside the ICE Enforcement & Removal Operations Office in Burlington every Wednesday from 11am-1pm. We’re grateful to those who have previously joined us at this facility\, and we hope that more will consider attending. Together\, we can show love & support for immigrants\, express our shame at ICE\, and bear witness to the cruel and unconstitutional actions of our government.”Schedule11:00-11:30\, Welcome chat; orientation for new folks; sign-making for those who need them11:30-12:30\, Stand (or sit) with signs12:30-1:00\, Short walk along the sidewalk on District AveThe ICE building in Burlington is the detention and enforcement office for New England. Immigrants must come here for appointments. The standouts are peaceful and offer support for those who must show up here. Signs expressing support for immigrants are welcome. \n\n\n\n\nMore Info & Email Updates
URL:https://turnpurple2blue.org/event/bear-witness-protest-wednesdays-at-ice-4/2025-12-17/
LOCATION:Burlington ICE Enforcement & Removal Operations Office\, 1000 District Avenue\, Burlington\, MA\, 01803
CATEGORIES:Protests
ATTACH;FMTTYPE=image/png:https://turnpurple2blue.org/wp-content/uploads/2025/05/protect-immigrant-families.png
GEO:42.4825992;-71.2088135
X-APPLE-STRUCTURED-LOCATION;VALUE=URI;X-ADDRESS=Burlington ICE Enforcement & Removal Operations Office 1000 District Avenue Burlington MA 01803;X-APPLE-RADIUS=500;X-TITLE=1000 District Avenue:geo:-71.2088135,42.4825992
END:VEVENT
BEGIN:VEVENT
DTSTART;TZID=America/New_York:20251217T130000
DTEND;TZID=America/New_York:20251217T140000
DTSTAMP:20260421T090606
CREATED:20251212T171521Z
LAST-MODIFIED:20251212T171526Z
UID:10003321-1765976400-1765980000@turnpurple2blue.org
SUMMARY:Witness Wednesdays-Plymouth
DESCRIPTION:Please note there will NOT be a Witness Wednesday on Wednesday the 24th or Wednesday the 31st. We look forward to checking back in during the month of January about the status of these standouts! We anticipate that they will continue through January\, weather permitting. \n\n\n\nThe Massachusetts Constitution guarantees equal protection under all laws to all people\, regardless of nationality\, citizenship\, or immigration status. When due process is denied to any group\, it weakens the rule of law for all of us. The League of Women Voters supports due process for all persons\, including the right to a fair hearing\, the right to counsel\, the right of appeal\, and the right to humane treatment\, and that no person or group should suffer legal discrimination. \n\n\n\nJoin us for Witness Wednesdays starting July 23 from 1:00-2:00 PM at Plymouth County Correctional Facility\, where we will peacefully protest against due process violations and show support for ICE detainees. \n\n\n\nSafety Note \n\n\n\nThis is a heavy traffic intersection. We will follow safety protocols to avoid blocking street traffic. Review LWV peaceful protest guidance HERE. We will only be gathering along the sidewalk and grassy areas outside of the Facility and along the Sheriff’s office. \n\n\n\nLogistics \n\n\n\nSigns: We will have due process rights signs available. You are welcome to bring your own signs focusing on policies and not people. \n\n\n\nMessaging: Due to our nonpartisan nature and to ensure a coordinated effort\, we ask that all signs focus on issues related to supporting or advocating for immigrant communities and focus on due process or immigration policies. Anyone who arrives with a sign focusing on a particular politician\, candidate\, or party may be asked to remove their signage. \n\n\n\nParking is available at the Home Depot parking lot or the shopping plazas off of Long Pond Road in Plymouth. Please do not park at the Sheriff’s office or police station. \n\n\n\nAmenities are available at the Shell Gas Station and Alltown Fresh Gas Station\, both on Long Pond Road. \n\n\n\nResources/Toolkit \n\n\n\nView our Due Process Toolkit HERE. \n\n\n\nOur Plymouth IGSA FAQs resource is available HERE. \n\n\n\nDownload the Witness Wednesdays flyer HERE. \n\n\n\nQuestions? Contact lwvma@lwvma.org.
URL:https://turnpurple2blue.org/event/witness-wednesdays-plymouth/
LOCATION:Plymouth County Correctional Facility Sign\, 26 Long Pond Rd and Home Depot Rd\, Plymouth\, Massachusetts\, 02360
CATEGORIES:Protests
ATTACH;FMTTYPE=image/png:https://turnpurple2blue.org/wp-content/uploads/2025/12/Witness-wednesdays.png
GEO:41.9329754;-70.6579412
X-APPLE-STRUCTURED-LOCATION;VALUE=URI;X-ADDRESS=Plymouth County Correctional Facility Sign 26 Long Pond Rd and Home Depot Rd Plymouth Massachusetts 02360;X-APPLE-RADIUS=500;X-TITLE=26 Long Pond Rd and Home Depot Rd:geo:-70.6579412,41.9329754
END:VEVENT
BEGIN:VEVENT
DTSTART;TZID=America/New_York:20251217T170000
DTEND;TZID=America/New_York:20251217T180000
DTSTAMP:20260421T090606
CREATED:20251117T152232Z
LAST-MODIFIED:20251117T152238Z
UID:10003124-1765990800-1765994400@turnpurple2blue.org
SUMMARY:Chelmsford Connected United Wednesdays
DESCRIPTION:United We Stand! Please join us for a Peaceful Standout in Vinal Square\, North Chelmsford on Wednesdays 5-6 p.m. We assemble every other week. We are standing together\, to fight the governments abuses of our constitutional rights\, civil liberties\, and human rights. When one person’s rights are violated\, all of our rights are violated. We will not ignore the injustices being committed against people in OUR COUNTRY! We do change the theme based on a vote on the Chelmsford Connected Facebook page\, and we do our best to message people with that information prior to event. \n\n\n\nWhat to Bring- Signs\, Lighting or lanterns when dark (we have some)\, Water\, Snacks\, Good attitudes\, Comfortable shoes\, Flags\, Costumes & Inflatables are welcome and encouraged. \n\n\n\nWeather Permitting in the Winter ~ over 35 degrees\, and no snow! \n\n\n\n\nRSVP for Updates\n\n\n\n\nParking info – North Chelmsford Public Parking 30 Vinal Square Street Parking options\, Middlesex St and Shaw St. Follow rules on posted signs. North Chelmsford Congregational Church parking lot on Shaw St. Please use crosswalks! \n\n\n\nA core principle behind all Indivisible events is a commitment to nonviolent action. We expect all participants to seek to de-escalate any potential confrontation with those who disagree with our values.
URL:https://turnpurple2blue.org/event/chelmsford-connected-united-wednesdays/2025-12-17/
LOCATION:Vinal Square\, North Chelmsford\, Massachusetts\, 01863
CATEGORIES:Protests
ATTACH;FMTTYPE=image/png:https://turnpurple2blue.org/wp-content/uploads/2025/03/rsvp-now.png
END:VEVENT
BEGIN:VEVENT
DTSTART;TZID=America/New_York:20251217T173000
DTEND;TZID=America/New_York:20251217T183000
DTSTAMP:20260421T090606
CREATED:20251129T145143Z
LAST-MODIFIED:20251129T145152Z
UID:10003221-1765992600-1765996200@turnpurple2blue.org
SUMMARY:GAIN Weekly Standout - Northborough
DESCRIPTION:Weekly GAIN Standout – Northborough\, MA \n\n\n\nPlease join Greater Assabet Indivisible Network (GAIN) each Wednesday from 5:30pm – 6:30pm in front of Northborough’s “Old Town Hall” at the intersection of Routes 20 and 135\, next to CVS. Meet our group as we hold our signs\, create community\, educate the public\, and create good trouble. This is a fun-filled event and a busy location with great visibility. \n\n\n\nWe are continuing this weekly standout even while it’s dark – because it’s a great spot. The streetlights and headlights keep our signs visible. Some bring colored lights or glow sticks to make it more fun. \n\n\n\nPlease bring a sign if you have one\, but that’s not a requirement. We often have extras\, and sometimes blanks to create your own. \n\n\n\nNote: If the forecast shows 32 degrees or lower or heavy rain for the standout time\, please consider the event canceled. \n\n\n\nPlease park in the free municipal parking lot on Blake Street\, next to the standout. Sawyer’s Bowladrome at 13 Blake Street is an ideal GPS destination. \n\n\n\n\nRSVP for updates\n\n\n\n\nPlease subscribe to our weekly newsletter at www.massgain.org to get all the latest info on all our events. \n\n\n\nA core principle behind all Indivisible events is a commitment to nonviolent action. We expect all participants to seek to de-escalate any potential confrontation with those who disagree with our values.
URL:https://turnpurple2blue.org/event/gain-weekly-standout-northborough/2025-12-17/
LOCATION:Intersection of Rte 20 and 135\, 4 West Main St\, Northborough\, Massachusetts\, 01532
CATEGORIES:Protests
ATTACH;FMTTYPE=image/png:https://turnpurple2blue.org/wp-content/uploads/2025/03/rsvp-now.png
GEO:42.3199235;-71.6414284
X-APPLE-STRUCTURED-LOCATION;VALUE=URI;X-ADDRESS=Intersection of Rte 20 and 135 4 West Main St Northborough Massachusetts 01532;X-APPLE-RADIUS=500;X-TITLE=4 West Main St:geo:-71.6414284,42.3199235
END:VEVENT
END:VCALENDAR