BEGIN:VCALENDAR
VERSION:2.0
PRODID:-//Turn Purple 2 Blue - ECPv6.15.20//NONSGML v1.0//EN
CALSCALE:GREGORIAN
METHOD:PUBLISH
X-WR-CALNAME:Turn Purple 2 Blue
X-ORIGINAL-URL:https://turnpurple2blue.org
X-WR-CALDESC:Events for Turn Purple 2 Blue
REFRESH-INTERVAL;VALUE=DURATION:PT1H
X-Robots-Tag:noindex
X-PUBLISHED-TTL:PT1H
BEGIN:VTIMEZONE
TZID:America/New_York
BEGIN:DAYLIGHT
TZOFFSETFROM:-0500
TZOFFSETTO:-0400
TZNAME:EDT
DTSTART:20250309T070000
END:DAYLIGHT
BEGIN:STANDARD
TZOFFSETFROM:-0400
TZOFFSETTO:-0500
TZNAME:EST
DTSTART:20251102T060000
END:STANDARD
BEGIN:DAYLIGHT
TZOFFSETFROM:-0500
TZOFFSETTO:-0400
TZNAME:EDT
DTSTART:20260308T070000
END:DAYLIGHT
BEGIN:STANDARD
TZOFFSETFROM:-0400
TZOFFSETTO:-0500
TZNAME:EST
DTSTART:20261101T060000
END:STANDARD
BEGIN:DAYLIGHT
TZOFFSETFROM:-0500
TZOFFSETTO:-0400
TZNAME:EDT
DTSTART:20270314T070000
END:DAYLIGHT
BEGIN:STANDARD
TZOFFSETFROM:-0400
TZOFFSETTO:-0500
TZNAME:EST
DTSTART:20271107T060000
END:STANDARD
END:VTIMEZONE
BEGIN:VEVENT
DTSTART;TZID=America/New_York:20260209T000000
DTEND;TZID=America/New_York:20260215T235959
DTSTAMP:20260423T004130
CREATED:20260206T202808Z
LAST-MODIFIED:20260206T202814Z
UID:10004305-1770595200-1771199999@turnpurple2blue.org
SUMMARY:To Immigrants With Love | Valentine's Week of Action
DESCRIPTION:This Valentine’s Day week\, people across the country are coming together to show love and solidarity with immigrant communities—and to reject the violent\, intrusive\, and unlawful tactics being carried out by the Trump Department of Homeland Security (DHS)\, including Immigration and Customs Enforcement (ICE) and Customs and Border Protection (CBP). \n\n\n\nThis is a weekend of nonviolent action\, collective care\, and public accountability. Sign up to show your participation and to receive updates and resources. \n\n\n\nBelow are 4 simple ways to take part. Choose one or take on several. Every action matters. \n\n\n\n1) Share Love & Solidarity on Social Media Use your voice to help flood social media with messages of love\, dignity\, and solidarity for immigrants and their families. \n\n\n\nWhat to do: \n\n\n\n\nPost a message of love and solidarity for immigrant communities Share why you believe immigrants deserve safety\, dignity\, and due process\n\n\n\nLift up stories from your own community if you feel comfortable\n\n\n\n\nPlease use this To Immigrants With Love social media toolkit from FWD.us with sample language\, graphics\, and video templates. Social Toolkit: https://tinyurl.com/5kz75rbf \n\n\n\nWhy it matters: Public narrative shapes public action. When we show up together online\, we counter fear with humanity. \n\n\n\n2) Call on Congress: Demand Accountability from ICE and CBP Congress has the power—and the responsibility—to oversee DHS and stop abuses. \n\n\n\nWhat to do: \n\n\n\n\nCall or email your U.S. Senators and Representative\n\n\n\nDemand real accountability\, transparency\, and consequences for ICE and CBP abuses\n\n\n\nOppose any new funding for ICE or CBP without enforceable oversight and accountability\n\n\n\n\nCall the Capitol switchboard and ask to be connected with your members of Congress: (202) 224-3121 \n\n\n\nYou can also use these quick and simple email tools to send your members of Congress a message right now! \n\n\n\n\nPublic Citizen tool: https://act.citizen.org/page/93402/action/1?locale=en-US\n\n\n\nStand Up America tool: https://act.standupamerica.com/letters/letter-no-ice-funding/\n\n\n\n\n3) Plug into Ongoing Immigrant Rights Actions here on Turn Purple 2 Blue! \n\n\n\nHere are a few more great groups doing important ongoing work! \n\n\n\nNational Daylaborer Organizing Network (NDLON) – Adopt a Corner https://ndlon.org/adopt-a-day-labor-corner/ \n\n\n\nDetention Watch Network – Communities Not Cages https://www.detentionwatchnetwork.org/take-action/communitiesnotcages \n\n\n\nUnited We Dream – Deportation Defense https://unitedwedream.org/our-work/deportation-defense/ \n\n\n\nThe Workers Circle – Freedom Vigils http://freedomvigils.org \n\n\n\nNational Coalition to End Family and Child Detention – Paper Dolls to Free Families: https://tinyurl.com/4w255wpu – Free Families Vigils: https://freefamilies.net/ \n\n\n\n4) Commit to Showing Up for Immigrants in Your Community Solidarity doesn’t stop at policy—it lives in our neighborhoods. \n\n\n\nWhat this can look like: \n\n\n\n\nSupport an immigrant-owned business by donating or buying from them (in MN\, local immigrant owned business are struggling to survive\, and many might not reopen after the occupation)\n\n\n\nConnect through schools and parents associations to provide support to immigrant families\n\n\n\nIf you are a religious person\, ask your pastor to preach from the pulpit and/or connect through a congregation to provide support to families in need\n\n\n\nConnect with local mutual aid networks to provide rides\, translation\, and other kinds of support\n\n\n\nHire a day laborer! Providing a day of work with fair pay is an act of solidarity!\n\n\n\nBake cookies or share a meal with an immigrant family nearby\n\n\n\nSimply check in on neighbors who may be feeling afraid or targeted\n\n\n\nMake it personal: Choose one concrete act of care you can do this weekend—and commit to it.\n\n\n\n\nOur Shared Commitment \n\n\n\nThis weekend is about more than protest. It’s about choosing love over fear\, community over cruelty\, and accountability over abuse of power. No matter how you participate\, thank you for showing up with compassion\, courage\, and solidarity.
URL:https://turnpurple2blue.org/event/to-immigrants-with-love-valentines-week-of-action/
CATEGORIES:Action Hours
ATTACH;FMTTYPE=image/png:https://turnpurple2blue.org/wp-content/uploads/2026/02/valentines-week-of-action.png
LOCATION:
END:VEVENT
BEGIN:VEVENT
DTSTART;TZID=America/New_York:20260210T083000
DTEND;TZID=America/New_York:20260210T100000
DTSTAMP:20260423T004130
CREATED:20260105T175938Z
LAST-MODIFIED:20260105T175944Z
UID:10003808-1770712200-1770717600@turnpurple2blue.org
SUMMARY:Standout at Framingham ISAP Office
DESCRIPTION:Join us as we draw attention to the invasive cruelty of ICE’s ISAP program.  The Intensive Supervision Appearance Program (ISAP) utilizes private contractors to surveil and monitor undocumented neighbors via biometric scans and ankle monitors. \n\n\n\nPark at Life Time Fitness.  Protest on public sidewalk facing the intersection at 10 Speen St.  Signs welcome.
URL:https://turnpurple2blue.org/event/standout-at-framingham-isap-office-2/2026-02-10/
LOCATION:Lifetime Fitness Parking Lot\, 490 Old Connecticut Path\, Framingham\, Massachusetts\, 01701
CATEGORIES:Protests
ATTACH;FMTTYPE=image/png:https://turnpurple2blue.org/wp-content/uploads/2025/10/framingham.png
GEO:42.3128824;-71.3948911
X-APPLE-STRUCTURED-LOCATION;VALUE=URI;X-ADDRESS=Lifetime Fitness Parking Lot 490 Old Connecticut Path Framingham Massachusetts 01701;X-APPLE-RADIUS=500;X-TITLE=490 Old Connecticut Path:geo:-71.3948911,42.3128824
END:VEVENT
BEGIN:VEVENT
DTSTART;TZID=America/New_York:20260210T083000
DTEND;TZID=America/New_York:20260211T163000
DTSTAMP:20260423T004130
CREATED:20260209T194858Z
LAST-MODIFIED:20260209T194904Z
UID:10004318-1770712200-1770827400@turnpurple2blue.org
SUMMARY:Stand with Etel & Ashley at Worcester District Court
DESCRIPTION:On Tuesday\, February 10\, community members are invited to show up in quiet solidarity for Etel Haxhiaj and Ashley Spring as they face a jury trial in Worcester District Court. \n\n\n\nThis is not a protest. It is a coordinated\, respectful courtroom presence\, a visible reminder that the community is paying attention\, values due process\, and rejects the criminalization of people who acted to protect their neighbors. \n\n\n\n\nSign up for a shift here\n\n\n\n\nOur goal is simple: keep the courtroom seats filled throughout the day with calm\, respectful observers. \n\n\n\nWhat to Expect: This is an inside-the-courtroom presence. Attendees will go through courthouse security and sit silently in Room 23. No signs\, chanting\, or demonstrations are permitted. Timing may shift\, so we are organizing coverage in blocks. \n\n\n\nImportant Courtroom Rules: No signs\, slogans\, political clothing\, clapping\, or verbal reactions. No phones or recording of any kind inside the courthouse or courtroom. Failure to follow decorum rules may negatively impact the case
URL:https://turnpurple2blue.org/event/stand-with-etel-ashley-at-worcester-district-court/
LOCATION:Worcester District Court\, 225 Main St\, Worcester\, Massachusetts
CATEGORIES:Action Hours
ATTACH;FMTTYPE=image/png:https://turnpurple2blue.org/wp-content/uploads/2026/02/stand-with-etal-and-ashley.png
END:VEVENT
BEGIN:VEVENT
DTSTART;TZID=America/New_York:20260210T090000
DTEND;TZID=America/New_York:20260210T110000
DTSTAMP:20260423T004130
CREATED:20260121T233049Z
LAST-MODIFIED:20260121T233054Z
UID:10004008-1770714000-1770721200@turnpurple2blue.org
SUMMARY:Postcard Party
DESCRIPTION:Send hand-written postcards to voters in states that will play a key role in taking back Congress and in electing leaders who will fight back against the current authoritarian regime. Postcards educate voters\, urge them to register to vote\, and urge them to vote for specific candidates in special elections\, primaries\, and the November 2026 mid-term elections. Hand-written postcards have been proven in multiple studies to boost turnout enough to swing elections. Each packet of 15 postcards has everything you need\, and costs $10 to cover stamps and cards for those who can afford it. \n\n\n\n\nRSVP for updates\n\n\n\n\nIt’s more fun to write together\, but if you can’t stay\, you can also stop by and pick up postcards to write at home. 
URL:https://turnpurple2blue.org/event/postcard-party-2/2026-02-10/
LOCATION:Boston Bean\, 102 Main St\, Maynard\, Massachusetts\, 01754
CATEGORIES:Postcard Parties
ATTACH;FMTTYPE=image/png:https://turnpurple2blue.org/wp-content/uploads/2026/01/maynard-postcards.png
END:VEVENT
BEGIN:VEVENT
DTSTART;TZID=America/New_York:20260210T103000
DTEND;TZID=America/New_York:20260210T113000
DTSTAMP:20260423T004130
CREATED:20260118T184517Z
LAST-MODIFIED:20260118T184523Z
UID:10003992-1770719400-1770723000@turnpurple2blue.org
SUMMARY:Stand up for Democracy (Marshfield)
DESCRIPTION:Join the good troublemakers of Southeastern Massachusetts for a flash mob rally in Marshfield Center to protest the Trump regime’s unconstitutional actions in Venezuela. On Sunday\, January 4th at noon\, there will be a rally in Marshfield Center to support democracy and stand up against the unconstitutional Trump regime. \n\n\n\n\nRSVP for updates
URL:https://turnpurple2blue.org/event/stand-up-for-democracy-marshfield-2/2026-02-10/
LOCATION:Roche Bros. Marshfield\, 605 Plain St\, Marshfield\, Massachusetts\, 02050
CATEGORIES:Protests
ATTACH;FMTTYPE=image/png:https://turnpurple2blue.org/wp-content/uploads/2026/01/marshfield-standout.png
GEO:42.1041734;-70.7408652
X-APPLE-STRUCTURED-LOCATION;VALUE=URI;X-ADDRESS=Roche Bros. Marshfield 605 Plain St Marshfield Massachusetts 02050;X-APPLE-RADIUS=500;X-TITLE=605 Plain St:geo:-70.7408652,42.1041734
END:VEVENT
BEGIN:VEVENT
DTSTART;TZID=America/New_York:20260210T110000
DTEND;TZID=America/New_York:20260210T130000
DTSTAMP:20260423T004130
CREATED:20260204T220810Z
LAST-MODIFIED:20260204T221027Z
UID:10004276-1770721200-1770728400@turnpurple2blue.org
SUMMARY:Fix ICE!
DESCRIPTION:Come join us Monday and Tuesday 11-1 to protest ICE cruelties. \n\n\n\nWhere: Burlington\, MA: From 11–12 we hold signs on a busy street to communicate our message publicly\, and from 12–1 we gather outside the ICE office for a more informal time of signs\, speaking out\, connection\, and visible solidarity with immigrants while making our presence known to ICE.What to bring: A sign!Meeting point: Corner of Burlington Mall Road and District Ave\, closest to Pressed Cafe.After: Optionally join us for lunch at Pressed Cafe. \n\n\n\nParking near 1000 District Ave\, Burlington \n\n\n\nICE Jail\n\n\n\nFor a deep look at what happens inside ICE detention\, visit the full resource at https://bearingwitnessne.org/inside-ice \n\n\n\nInteractions\n\n\n\n\nImmigrants who are fortunate to leave the facility have shown gratitude for our presence and some share their stories with us.\n\n\n\nICE agents tend to cover their faces with masks\, many record us with their phones\, others give a satisfied smile or laugh\, they rarely say anything.\n\n\n\nThe security officers stationed at the front of the building have not hassled us.\n\n\n\nPassersby from nearby businesses often thank us for being there\, and many have shared that they never knew this was an ICE facility.\n\n\n\n\nParking for District Ave Protests\n\n\n\nThere is parking at busineses and on the street\, but there are risks. See information about where parking is officially allowed and the risk of being towed in the District Ave Area on the What to Expect page of the Bearing Witness page. Note that no one has been towed since Jared and Laurie started protesting in April 2025. In order to be legally towned\, Massachusetts General Laws Chapter 266\, Section 120D specifies that in order for towing to occur you need to be warned by a sign or a person that parking is restricted. In addition\, the owner of the property must get permission from the chief of police or designee and provide certain information.
URL:https://turnpurple2blue.org/event/fix-ice-2/2026-02-10/
CATEGORIES:Protests
ATTACH;FMTTYPE=image/png:https://turnpurple2blue.org/wp-content/uploads/2026/02/Judged-by-appearance.png
END:VEVENT
BEGIN:VEVENT
DTSTART;TZID=America/New_York:20260210T180000
DTEND;TZID=America/New_York:20260210T193000
DTSTAMP:20260423T004130
CREATED:20260206T201903Z
LAST-MODIFIED:20260206T202045Z
UID:10004304-1770746400-1770751800@turnpurple2blue.org
SUMMARY:Restoring the Promise: A Discussion about Immigration Policy and the Path Forward
DESCRIPTION:Join us for Restoring the Promise\, a community-based discussion led by Antonio Massa Viana\, Massachusetts immigration attorney and founder of Massa Viana Law. An immigrant himself\, Antonio arrived in the U.S. at age 12 and later became the first known undocumented attorney admitted to the Massachusetts Bar. His personal journey through the immigration system fuels his dedication to advocacy grounded in empathy\, justice\, and a vision for a fairer future. \n\n\n\nThis nonpartisan program invites participants to reflect on the impact of current immigration policies\, the ways immigration has shaped our nation\, and the constitutional questions that affect both non-citizens and U.S. citizens alike. Grounded in shared ideals — fairness\, accountability\, and the belief that our nation’s strength rests on how we treat every person under its protection — Restoring the Promise creates space for meaningful dialogue and collective problem-solving. \n\n\n\n\nSpace is limited – reserve yours now!\n\n\n\n\nThrough real-life stories\, legal insights\, and historical analysis\, Antonio will guide participants in exploring: \n\n\n\n– What the Constitution guarantees in terms of rights and legal protections and how those guarantees are applied today \n\n\n\n– Why our immigration system is ineffective and in need of reform \n\n\n\n– What history tells us about immigration in America \n\n\n\n– Common myths about immigration versus the reality \n\n\n\n– How immigration abuses open the door to broader civil rights violations \n\n\n\n– A vision for moving forward\, balancing national interests\, compassion\, and the rule of law \n\n\n\nThis is not only an opportunity to listen and learn\, but also a chance to explore solutions to today’s immigration challenges and to ask a vital question: What kind of future do we want to build together as a country? \n\n\n\nLearn more at massavianalaw.com!
URL:https://turnpurple2blue.org/event/restoring-the-promise-a-discussion-about-immigration-policy-and-the-path-forward/
LOCATION:Plymouth Public Library\, 132 South St\, Plymouth\, Massachusetts\, 02360
CATEGORIES:Action Hours
ATTACH;FMTTYPE=image/png:https://turnpurple2blue.org/wp-content/uploads/2026/02/plymouth-forum.png
END:VEVENT
BEGIN:VEVENT
DTSTART;TZID=America/New_York:20260210T180000
DTEND;TZID=America/New_York:20260210T200000
DTSTAMP:20260423T004130
CREATED:20251230T192157Z
LAST-MODIFIED:20251230T192203Z
UID:10003474-1770746400-1770753600@turnpurple2blue.org
SUMMARY:Phone Bank to Protect Voting Rights
DESCRIPTION:Join Common Cause for an important phone bank as we mobilize voters to take action against dangerous legislation in state houses and Congress. We will focus on the most urgent campaigns that need our help. Some of these campaigns may include stopping bills that will make it harder for millions of Americans—especially students\, seniors\, and veterans—to cast their ballots. We need your help to ensure voters across the country call their elected representatives and make their voices heard. \n\n\n\nNo prior experience is necessary—our team will provide full training at the start of each shift! \n\n\n\n\nGet Link\n\n\n\n\nWhat to Expect:\n\n\n\n\nA step-by-step walkthrough of our Phone Dialer tools.\n\n\n\nExpert tips on effective communication with voters.\n\n\n\nOpportunities to ask questions and connect with other like-minded volunteers.\n\n\n\n\nSign up today and take the first step toward empowering voters and protecting democracy in 2025!
URL:https://turnpurple2blue.org/event/phone-bank-to-protect-voting-rights/2026-02-10/
CATEGORIES:Phone Calls
ATTACH;FMTTYPE=image/png:https://turnpurple2blue.org/wp-content/uploads/2025/12/phone-bank-with-common-cause.png
LOCATION:
END:VEVENT
BEGIN:VEVENT
DTSTART;TZID=America/New_York:20260210T180000
DTEND;TZID=America/New_York:20260210T200000
DTSTAMP:20260423T004130
CREATED:20260118T183424Z
LAST-MODIFIED:20260118T183429Z
UID:10003988-1770746400-1770753600@turnpurple2blue.org
SUMMARY:February Tuesday night Postcard Party
DESCRIPTION:Join the Good Troublemakers of Southeastern Mass on the second Tuesday night of each month for a postcard party in Pembroke. The Troublemakers request that you RSVP so that we can prepare the appropriate amount of resources. If you can’t make it on Tuesday\, please check out our Friday and Wednesday parties. \n\n\n\n\nRSVP for updates
URL:https://turnpurple2blue.org/event/february-tuesday-night-postcard-party/
LOCATION:Panera Bread-Pembroke\, 152 Church St\, Pembroke\, Massachusetts\, 02359
CATEGORIES:Phone Calls
ATTACH;FMTTYPE=image/png:https://turnpurple2blue.org/wp-content/uploads/2026/01/February-Tues.png
GEO:42.108626;-70.7699303
X-APPLE-STRUCTURED-LOCATION;VALUE=URI;X-ADDRESS=Panera Bread-Pembroke 152 Church St Pembroke Massachusetts 02359;X-APPLE-RADIUS=500;X-TITLE=152 Church St:geo:-70.7699303,42.108626
END:VEVENT
BEGIN:VEVENT
DTSTART;TZID=America/New_York:20260210T180000
DTEND;TZID=America/New_York:20260210T200000
DTSTAMP:20260423T004130
CREATED:20260208T142436Z
LAST-MODIFIED:20260208T142442Z
UID:10004307-1770746400-1770753600@turnpurple2blue.org
SUMMARY:Monthly Meeting
DESCRIPTION:This is our monthly meeting where we come together to make plans for fighting back in Randolph. Join a committee that reflects your interests – Overpass brigade\, working with the schools\, protecting our immigrant neighbors\, creating cultural alliances.  \n\n\n\nNote: This event is organized by a volunteer and is not an Indivisible Acton Area event. \n\n\n\n\n\n\n\n\nRSVP for Exact Details\n\n\n\n\n\n\n\n\nA core principle behind all Indivisible events is a commitment to nonviolent action. We expect all participants to seek to de-escalate any potential confrontation with those who disagree with our values.
URL:https://turnpurple2blue.org/event/monthly-meeting/
LOCATION:Private Address\, Sign Up for Exact Details
CATEGORIES:Community Gatherings
ATTACH;FMTTYPE=image/png:https://turnpurple2blue.org/wp-content/uploads/2025/03/rsvp-now.png
END:VEVENT
BEGIN:VEVENT
DTSTART;TZID=America/New_York:20260210T183000
DTEND;TZID=America/New_York:20260210T200000
DTSTAMP:20260423T004130
CREATED:20260105T200135Z
LAST-MODIFIED:20260105T200140Z
UID:10003829-1770748200-1770753600@turnpurple2blue.org
SUMMARY:Indivisible Fitchburg MA Public Meeting
DESCRIPTION:Join us for our next public meeting on Tuesday\, February 10th from 6:30pm to 8pm at First Parish UU Church – 923 Main Street\, Fitchburg. More details to follow! \n\n\n\nThis a local Indivisible event! \n\n\n\n\nRSVP for updates\n\n\n\n\nA core principle behind all Indivisible events is a commitment to nonviolent action. We expect all participants to seek to de-escalate any potential confrontation with those who disagree with our values.
URL:https://turnpurple2blue.org/event/indivisible-fitchburg-ma-public-meeting-2/
LOCATION:First Parish Church of Fitchburg\, 923 Main St\, Fitchburg\, MA\, 01420
CATEGORIES:Action Hours
ATTACH;FMTTYPE=image/png:https://turnpurple2blue.org/wp-content/uploads/2025/03/rsvpnow.png
GEO:42.5870657;-71.8058707
X-APPLE-STRUCTURED-LOCATION;VALUE=URI;X-ADDRESS=First Parish Church of Fitchburg 923 Main St Fitchburg MA 01420;X-APPLE-RADIUS=500;X-TITLE=923 Main St:geo:-71.8058707,42.5870657
END:VEVENT
BEGIN:VEVENT
DTSTART;TZID=America/New_York:20260210T183000
DTEND;TZID=America/New_York:20260210T200000
DTSTAMP:20260423T004130
CREATED:20260130T183602Z
LAST-MODIFIED:20260130T183607Z
UID:10004062-1770748200-1770753600@turnpurple2blue.org
SUMMARY:Nashoba Indivisible LUCE Packet Party and Food Drive
DESCRIPTION:We will start promptly at 6:30pm. We will be helping LUCE in putting together information packets in Spanish….please bring a good stapler. \n\n\n\n\nRSVP for updates\n\n\n\n\nWe will be accepting donations for WHEAT at this event.
URL:https://turnpurple2blue.org/event/nashoba-indivisible-luce-packet-party-and-food-drive/
LOCATION:Harvard UU Fellowship Building\, 7 Elm St\, Harvard\, Massachusetts\, 01451
CATEGORIES:Action Hours
ATTACH;FMTTYPE=image/png:https://turnpurple2blue.org/wp-content/uploads/2026/01/nashoba-indivisible.png
GEO:42.5017322;-71.5867062
X-APPLE-STRUCTURED-LOCATION;VALUE=URI;X-ADDRESS=Harvard UU Fellowship Building 7 Elm St Harvard Massachusetts 01451;X-APPLE-RADIUS=500;X-TITLE=7 Elm St:geo:-71.5867062,42.5017322
END:VEVENT
BEGIN:VEVENT
DTSTART;TZID=America/New_York:20260210T190000
DTEND;TZID=America/New_York:20260210T200000
DTSTAMP:20260423T004130
CREATED:20260122T191841Z
LAST-MODIFIED:20260122T191847Z
UID:10004048-1770750000-1770753600@turnpurple2blue.org
SUMMARY:State Rep. Cataldo: Updates on Beacon Hill
DESCRIPTION:ALL are welcome and encouraged to attend!  Help us press Simon Cataldo on the Safe Communities Act\, Dignity without Deportation and other bills.  What is our legislature doing to protect us from the Trump Regime?  (spoiler:  not much)
URL:https://turnpurple2blue.org/event/state-rep-cataldo-updates-on-beacon-hill/
LOCATION:Concord Public Library\, 129 Main St\, Concord\, Massachusetts\, 01742
CATEGORIES:Action Hours
ATTACH;FMTTYPE=image/png:https://turnpurple2blue.org/wp-content/uploads/2026/01/cataldo.png
END:VEVENT
END:VCALENDAR