BEGIN:VCALENDAR
VERSION:2.0
PRODID:-//Turn Purple 2 Blue - ECPv6.15.20//NONSGML v1.0//EN
CALSCALE:GREGORIAN
METHOD:PUBLISH
X-ORIGINAL-URL:https://turnpurple2blue.org
X-WR-CALDESC:Events for Turn Purple 2 Blue
REFRESH-INTERVAL;VALUE=DURATION:PT1H
X-Robots-Tag:noindex
X-PUBLISHED-TTL:PT1H
BEGIN:VTIMEZONE
TZID:America/New_York
BEGIN:DAYLIGHT
TZOFFSETFROM:-0500
TZOFFSETTO:-0400
TZNAME:EDT
DTSTART:20250309T070000
END:DAYLIGHT
BEGIN:STANDARD
TZOFFSETFROM:-0400
TZOFFSETTO:-0500
TZNAME:EST
DTSTART:20251102T060000
END:STANDARD
BEGIN:DAYLIGHT
TZOFFSETFROM:-0500
TZOFFSETTO:-0400
TZNAME:EDT
DTSTART:20260308T070000
END:DAYLIGHT
BEGIN:STANDARD
TZOFFSETFROM:-0400
TZOFFSETTO:-0500
TZNAME:EST
DTSTART:20261101T060000
END:STANDARD
BEGIN:DAYLIGHT
TZOFFSETFROM:-0500
TZOFFSETTO:-0400
TZNAME:EDT
DTSTART:20270314T070000
END:DAYLIGHT
BEGIN:STANDARD
TZOFFSETFROM:-0400
TZOFFSETTO:-0500
TZNAME:EST
DTSTART:20271107T060000
END:STANDARD
END:VTIMEZONE
BEGIN:VEVENT
DTSTART;TZID=America/New_York:20260209T000000
DTEND;TZID=America/New_York:20260215T235959
DTSTAMP:20260422T175558
CREATED:20260206T202808Z
LAST-MODIFIED:20260206T202814Z
UID:10004305-1770595200-1771199999@turnpurple2blue.org
SUMMARY:To Immigrants With Love | Valentine's Week of Action
DESCRIPTION:This Valentine’s Day week\, people across the country are coming together to show love and solidarity with immigrant communities—and to reject the violent\, intrusive\, and unlawful tactics being carried out by the Trump Department of Homeland Security (DHS)\, including Immigration and Customs Enforcement (ICE) and Customs and Border Protection (CBP). \n\n\n\nThis is a weekend of nonviolent action\, collective care\, and public accountability. Sign up to show your participation and to receive updates and resources. \n\n\n\nBelow are 4 simple ways to take part. Choose one or take on several. Every action matters. \n\n\n\n1) Share Love & Solidarity on Social Media Use your voice to help flood social media with messages of love\, dignity\, and solidarity for immigrants and their families. \n\n\n\nWhat to do: \n\n\n\n\nPost a message of love and solidarity for immigrant communities Share why you believe immigrants deserve safety\, dignity\, and due process\n\n\n\nLift up stories from your own community if you feel comfortable\n\n\n\n\nPlease use this To Immigrants With Love social media toolkit from FWD.us with sample language\, graphics\, and video templates. Social Toolkit: https://tinyurl.com/5kz75rbf \n\n\n\nWhy it matters: Public narrative shapes public action. When we show up together online\, we counter fear with humanity. \n\n\n\n2) Call on Congress: Demand Accountability from ICE and CBP Congress has the power—and the responsibility—to oversee DHS and stop abuses. \n\n\n\nWhat to do: \n\n\n\n\nCall or email your U.S. Senators and Representative\n\n\n\nDemand real accountability\, transparency\, and consequences for ICE and CBP abuses\n\n\n\nOppose any new funding for ICE or CBP without enforceable oversight and accountability\n\n\n\n\nCall the Capitol switchboard and ask to be connected with your members of Congress: (202) 224-3121 \n\n\n\nYou can also use these quick and simple email tools to send your members of Congress a message right now! \n\n\n\n\nPublic Citizen tool: https://act.citizen.org/page/93402/action/1?locale=en-US\n\n\n\nStand Up America tool: https://act.standupamerica.com/letters/letter-no-ice-funding/\n\n\n\n\n3) Plug into Ongoing Immigrant Rights Actions here on Turn Purple 2 Blue! \n\n\n\nHere are a few more great groups doing important ongoing work! \n\n\n\nNational Daylaborer Organizing Network (NDLON) – Adopt a Corner https://ndlon.org/adopt-a-day-labor-corner/ \n\n\n\nDetention Watch Network – Communities Not Cages https://www.detentionwatchnetwork.org/take-action/communitiesnotcages \n\n\n\nUnited We Dream – Deportation Defense https://unitedwedream.org/our-work/deportation-defense/ \n\n\n\nThe Workers Circle – Freedom Vigils http://freedomvigils.org \n\n\n\nNational Coalition to End Family and Child Detention – Paper Dolls to Free Families: https://tinyurl.com/4w255wpu – Free Families Vigils: https://freefamilies.net/ \n\n\n\n4) Commit to Showing Up for Immigrants in Your Community Solidarity doesn’t stop at policy—it lives in our neighborhoods. \n\n\n\nWhat this can look like: \n\n\n\n\nSupport an immigrant-owned business by donating or buying from them (in MN\, local immigrant owned business are struggling to survive\, and many might not reopen after the occupation)\n\n\n\nConnect through schools and parents associations to provide support to immigrant families\n\n\n\nIf you are a religious person\, ask your pastor to preach from the pulpit and/or connect through a congregation to provide support to families in need\n\n\n\nConnect with local mutual aid networks to provide rides\, translation\, and other kinds of support\n\n\n\nHire a day laborer! Providing a day of work with fair pay is an act of solidarity!\n\n\n\nBake cookies or share a meal with an immigrant family nearby\n\n\n\nSimply check in on neighbors who may be feeling afraid or targeted\n\n\n\nMake it personal: Choose one concrete act of care you can do this weekend—and commit to it.\n\n\n\n\nOur Shared Commitment \n\n\n\nThis weekend is about more than protest. It’s about choosing love over fear\, community over cruelty\, and accountability over abuse of power. No matter how you participate\, thank you for showing up with compassion\, courage\, and solidarity.
URL:https://turnpurple2blue.org/event/to-immigrants-with-love-valentines-week-of-action/
CATEGORIES:Action Hours
ATTACH;FMTTYPE=image/png:https://turnpurple2blue.org/wp-content/uploads/2026/02/valentines-week-of-action.png
LOCATION:
END:VEVENT
BEGIN:VEVENT
DTSTART;TZID=America/New_York:20260213T090000
DTEND;TZID=America/New_York:20260213T100000
DTSTAMP:20260422T175558
CREATED:20260101T201938Z
LAST-MODIFIED:20260101T201943Z
UID:10003546-1770973200-1770976800@turnpurple2blue.org
SUMMARY:Tech Office Hours
DESCRIPTION:Swing Blue Alliance values your commitment to activism. We want to make sure you get the assistance that you need so you can focus on becoming an effective activist. Technology can certainly be a hurdle for many. The Swing Blue Alliance Tech Team is here to help. We will provide one-on-one assistance and answer any questions you may have every Friday from 9 AM to 10 AM.
URL:https://turnpurple2blue.org/event/tech-office-hours/2026-02-13/
CATEGORIES:Action Hours
ATTACH;FMTTYPE=image/png:https://turnpurple2blue.org/wp-content/uploads/2025/03/tech-help.png
LOCATION:
END:VEVENT
BEGIN:VEVENT
DTSTART;TZID=America/New_York:20260213T133000
DTEND;TZID=America/New_York:20260213T143000
DTSTAMP:20260422T175558
CREATED:20260121T145746Z
LAST-MODIFIED:20260121T145751Z
UID:10003844-1770989400-1770993000@turnpurple2blue.org
SUMMARY:De-ICE Hanscom Friday Standouts
DESCRIPTION:New\, shorter winter timeframe! This weekly afternoon standout is on Fridays from 1:30 to 2:30 at the Hanscom Rotary (intersection of Hanscom Dr. and Old Bedford Rd. in Lincoln\, MA.) Please park along Old Bedford Road or Hanscom Drive without impeding traffic or blocking bike lanes. \n\n\n\n\n\n\n\nDe-ICE Hanscom is a coalition organizing peaceful standouts with the goal of eliminating ICE transport flights from Hanscom Field. ICE is using these flights to swiftly move immigrants out of New England in order to hinder effective legal representation.  \n\n\n\n\n\n\n\nCoalition groups include Boston Workers Circle\, Concord Indivisible\, Greater Assabet Indivisible Network (GAIN)\, Indivisible Acton Area\, Jewish Alliance for Law & Social Action (JALSA)\, Lexington Alarm\, and Maynard Indivisible. \n\n\n\n\n\n\n\nSign up to get information and updates about our weekly standouts. We’ll keep you in the loop if we need to reschedule or cancel for weather or other considerations\, and apprise you of our goals and progress. \n\n\n\n\n\n\n\n\nSign Up to Get Updates
URL:https://turnpurple2blue.org/event/de-ice-hanscom-friday-standouts-5/2026-02-13/
LOCATION:Hanscom Rotary\, Intersection of Old Bedford Rd and Hanscom Dr\, Lincoln\, MA
CATEGORIES:Protests
ATTACH;FMTTYPE=image/jpeg:https://turnpurple2blue.org/wp-content/uploads/2025/11/De-Ice-Hanscom-Banner-Medium-Banner-US-Landscape.jpg
GEO:42.4561275;-71.2891917
X-APPLE-STRUCTURED-LOCATION;VALUE=URI;X-ADDRESS=Hanscom Rotary Intersection of Old Bedford Rd and Hanscom Dr Lincoln MA;X-APPLE-RADIUS=500;X-TITLE=Intersection of Old Bedford Rd and Hanscom Dr:geo:-71.2891917,42.4561275
END:VEVENT
BEGIN:VEVENT
DTSTART;TZID=America/New_York:20260213T163000
DTEND;TZID=America/New_York:20260213T183000
DTSTAMP:20260422T175558
CREATED:20260119T205714Z
LAST-MODIFIED:20260310T194136Z
UID:10004626-1771000200-1771007400@turnpurple2blue.org
SUMMARY:Black Tie Soirée Series
DESCRIPTION:Why Escadrille? \n\n\n\nThe owner of Café Escadrille\, Robert Murray\, also owns the ICE Prison/Field Office at 1000 District Ave. \n\n\n\n\nMore information\n\n\n\n\nHe has been silent on the abuses in his building\, and has not aided the Town’s efforts to inspect for zoning & safety violations. We’ll keep visiting his restaurant until he’s ready to face the conversation. \n\n\n\nFor documentation and additional details on Murray’s involvement\, check out our documentation page.
URL:https://turnpurple2blue.org/event/black-tie-soiree-series/2026-02-13/
LOCATION:Cafe Escadrille\, 26 Cambridge St\, Burlington\, Massachusetts
CATEGORIES:Protests
ATTACH;FMTTYPE=image/png:https://turnpurple2blue.org/wp-content/uploads/2026/01/cafe.png
GEO:42.4823357;-71.1870921
X-APPLE-STRUCTURED-LOCATION;VALUE=URI;X-ADDRESS=Cafe Escadrille 26 Cambridge St Burlington Massachusetts;X-APPLE-RADIUS=500;X-TITLE=26 Cambridge St:geo:-71.1870921,42.4823357
END:VEVENT
END:VCALENDAR