BEGIN:VCALENDAR
VERSION:2.0
PRODID:-//Turn Purple 2 Blue - ECPv6.15.20//NONSGML v1.0//EN
CALSCALE:GREGORIAN
METHOD:PUBLISH
X-ORIGINAL-URL:https://turnpurple2blue.org
X-WR-CALDESC:Events for Turn Purple 2 Blue
REFRESH-INTERVAL;VALUE=DURATION:PT1H
X-Robots-Tag:noindex
X-PUBLISHED-TTL:PT1H
BEGIN:VTIMEZONE
TZID:America/New_York
BEGIN:DAYLIGHT
TZOFFSETFROM:-0500
TZOFFSETTO:-0400
TZNAME:EDT
DTSTART:20250309T070000
END:DAYLIGHT
BEGIN:STANDARD
TZOFFSETFROM:-0400
TZOFFSETTO:-0500
TZNAME:EST
DTSTART:20251102T060000
END:STANDARD
BEGIN:DAYLIGHT
TZOFFSETFROM:-0500
TZOFFSETTO:-0400
TZNAME:EDT
DTSTART:20260308T070000
END:DAYLIGHT
BEGIN:STANDARD
TZOFFSETFROM:-0400
TZOFFSETTO:-0500
TZNAME:EST
DTSTART:20261101T060000
END:STANDARD
BEGIN:DAYLIGHT
TZOFFSETFROM:-0500
TZOFFSETTO:-0400
TZNAME:EDT
DTSTART:20270314T070000
END:DAYLIGHT
BEGIN:STANDARD
TZOFFSETFROM:-0400
TZOFFSETTO:-0500
TZNAME:EST
DTSTART:20271107T060000
END:STANDARD
END:VTIMEZONE
BEGIN:VEVENT
DTSTART;TZID=America/New_York:20260209T000000
DTEND;TZID=America/New_York:20260215T235959
DTSTAMP:20260423T131931
CREATED:20260206T202808Z
LAST-MODIFIED:20260206T202814Z
UID:10004305-1770595200-1771199999@turnpurple2blue.org
SUMMARY:To Immigrants With Love | Valentine's Week of Action
DESCRIPTION:This Valentine’s Day week\, people across the country are coming together to show love and solidarity with immigrant communities—and to reject the violent\, intrusive\, and unlawful tactics being carried out by the Trump Department of Homeland Security (DHS)\, including Immigration and Customs Enforcement (ICE) and Customs and Border Protection (CBP). \n\n\n\nThis is a weekend of nonviolent action\, collective care\, and public accountability. Sign up to show your participation and to receive updates and resources. \n\n\n\nBelow are 4 simple ways to take part. Choose one or take on several. Every action matters. \n\n\n\n1) Share Love & Solidarity on Social Media Use your voice to help flood social media with messages of love\, dignity\, and solidarity for immigrants and their families. \n\n\n\nWhat to do: \n\n\n\n\nPost a message of love and solidarity for immigrant communities Share why you believe immigrants deserve safety\, dignity\, and due process\n\n\n\nLift up stories from your own community if you feel comfortable\n\n\n\n\nPlease use this To Immigrants With Love social media toolkit from FWD.us with sample language\, graphics\, and video templates. Social Toolkit: https://tinyurl.com/5kz75rbf \n\n\n\nWhy it matters: Public narrative shapes public action. When we show up together online\, we counter fear with humanity. \n\n\n\n2) Call on Congress: Demand Accountability from ICE and CBP Congress has the power—and the responsibility—to oversee DHS and stop abuses. \n\n\n\nWhat to do: \n\n\n\n\nCall or email your U.S. Senators and Representative\n\n\n\nDemand real accountability\, transparency\, and consequences for ICE and CBP abuses\n\n\n\nOppose any new funding for ICE or CBP without enforceable oversight and accountability\n\n\n\n\nCall the Capitol switchboard and ask to be connected with your members of Congress: (202) 224-3121 \n\n\n\nYou can also use these quick and simple email tools to send your members of Congress a message right now! \n\n\n\n\nPublic Citizen tool: https://act.citizen.org/page/93402/action/1?locale=en-US\n\n\n\nStand Up America tool: https://act.standupamerica.com/letters/letter-no-ice-funding/\n\n\n\n\n3) Plug into Ongoing Immigrant Rights Actions here on Turn Purple 2 Blue! \n\n\n\nHere are a few more great groups doing important ongoing work! \n\n\n\nNational Daylaborer Organizing Network (NDLON) – Adopt a Corner https://ndlon.org/adopt-a-day-labor-corner/ \n\n\n\nDetention Watch Network – Communities Not Cages https://www.detentionwatchnetwork.org/take-action/communitiesnotcages \n\n\n\nUnited We Dream – Deportation Defense https://unitedwedream.org/our-work/deportation-defense/ \n\n\n\nThe Workers Circle – Freedom Vigils http://freedomvigils.org \n\n\n\nNational Coalition to End Family and Child Detention – Paper Dolls to Free Families: https://tinyurl.com/4w255wpu – Free Families Vigils: https://freefamilies.net/ \n\n\n\n4) Commit to Showing Up for Immigrants in Your Community Solidarity doesn’t stop at policy—it lives in our neighborhoods. \n\n\n\nWhat this can look like: \n\n\n\n\nSupport an immigrant-owned business by donating or buying from them (in MN\, local immigrant owned business are struggling to survive\, and many might not reopen after the occupation)\n\n\n\nConnect through schools and parents associations to provide support to immigrant families\n\n\n\nIf you are a religious person\, ask your pastor to preach from the pulpit and/or connect through a congregation to provide support to families in need\n\n\n\nConnect with local mutual aid networks to provide rides\, translation\, and other kinds of support\n\n\n\nHire a day laborer! Providing a day of work with fair pay is an act of solidarity!\n\n\n\nBake cookies or share a meal with an immigrant family nearby\n\n\n\nSimply check in on neighbors who may be feeling afraid or targeted\n\n\n\nMake it personal: Choose one concrete act of care you can do this weekend—and commit to it.\n\n\n\n\nOur Shared Commitment \n\n\n\nThis weekend is about more than protest. It’s about choosing love over fear\, community over cruelty\, and accountability over abuse of power. No matter how you participate\, thank you for showing up with compassion\, courage\, and solidarity.
URL:https://turnpurple2blue.org/event/to-immigrants-with-love-valentines-week-of-action/
LOCATION:
CATEGORIES:Action Hours
ATTACH;FMTTYPE=image/png:https://turnpurple2blue.org/wp-content/uploads/2026/02/valentines-week-of-action.png
END:VEVENT
BEGIN:VEVENT
DTSTART;TZID=America/New_York:20260214T100000
DTEND;TZID=America/New_York:20260214T113000
DTSTAMP:20260423T131931
CREATED:20251113T165112Z
LAST-MODIFIED:20251113T165117Z
UID:10003111-1771063200-1771068600@turnpurple2blue.org
SUMMARY:SECOND SATURDAYS Standout - Fitchburg City Hall
DESCRIPTION:Our “Second Saturdays” standouts are back! Join us as we gather in front of Fitchburg City Hall on the second Saturday of each month to support democracy and the rule of law – and to protest the policies of trump and this shambolic and cruel administration. Signs are welcome\, and there are always extra signs and flags to borrow. \n\n\n\n\nRSVP for updates\n\n\n\n\nAmple parking is available at 166 Boulder Drive if you’re unable to find parking on Main Street. \n\n\n\nJoin our Facebook page (Indivisible Fitchburg MA) or our website (www.indivisiblefitchburgma.org) for updates and info on pop-up protests! See Facebook event here: https://www.facebook.com/events/1161773159453642/1161784582785833 \n\n\n\nThis local Indivisible event takes place in the sun\, rain\, or snow! \n\n\n\nA core principle behind all Indivisible events is a commitment to nonviolent action. We expect all participants to seek to de-escalate any potential confrontation with those who disagree with our values.
URL:https://turnpurple2blue.org/event/second-saturdays-standout-fitchburg-city-hall/2026-02-14/
LOCATION:Fitchburg City Hall\, 718 Main St\, Fitchburg\, MA\, 01420
CATEGORIES:Protests
ATTACH;FMTTYPE=image/png:https://turnpurple2blue.org/wp-content/uploads/2025/03/rsvp-now.png
GEO:42.5839558;-71.8037785
X-APPLE-STRUCTURED-LOCATION;VALUE=URI;X-ADDRESS=Fitchburg City Hall 718 Main St Fitchburg MA 01420;X-APPLE-RADIUS=500;X-TITLE=718 Main St:geo:-71.8037785,42.5839558
END:VEVENT
BEGIN:VEVENT
DTSTART;TZID=America/New_York:20260214T110000
DTEND;TZID=America/New_York:20260214T113000
DTSTAMP:20260423T131931
CREATED:20260211T161836Z
LAST-MODIFIED:20260211T161841Z
UID:10004295-1771066800-1771068600@turnpurple2blue.org
SUMMARY:ICE OUT FOR GOOD and ALEX | Multiple Locations\, Cape Ann\, MA
DESCRIPTION:Wednesday\, January 7th\, an American citizen was killed by Immigration and Customs Enforcement (ICE) in Minneapolis\, Minnesota. This killing is part of a broader pattern of unchecked violence\, impunity\, and abuse carried out by federal immigration enforcement agencies against members of our communities.  \n\n\n\n\n\n\n\nA broad coalition of groups across the country is calling for a coordinated Ice Out For Good actions in solidarity for Minnesota\, and to demand accountability\, honor the life lost\, and make visible the human cost of ICE’s actions. \n\n\n\n\n\n\n\n\nRegister for Details/Updates\n\n\n\n\n\n\n\n\nA core principle behind all ICE Out For Good events is a commitment to nonviolent action and no civil disobedience. We expect all participants to seek to de-escalate any potential confrontation with those who disagree with our values\, and to act lawfully at these events. Weapons of any kind\, including those legally permitted\, should not be brought to events. All events should be held in public spaces or on public property. Indivisible is managing data and communications with participants. By registering\, you agree to receive info from Indivisible about the event\, receive communications via e-mail or SMS message from Indivisible\, and receive any other updates and opportunities to take action or support ICE OUT FOR GOOD partner organizations. You also agree to have any data entered in this registration collected by Indivisible. Indivisible will treat your data according to our organization’s applicable privacy policy: https://indivisible.org/privacy-policy
URL:https://turnpurple2blue.org/event/ice-out-for-good-and-alex-multiple-locations-cape-ann-ma-2/
LOCATION:Dock Square\, Willow Rest\, Plum Cove Beach\, Dock Square\, Willow Rest\, Plum Cove Beach\, Gloucester\, Massachusetts\, 01930\, United States
CATEGORIES:Protests
ATTACH;FMTTYPE=image/png:https://turnpurple2blue.org/wp-content/uploads/2025/09/Indivisible-RSVP.png
END:VEVENT
BEGIN:VEVENT
DTSTART;TZID=America/New_York:20260214T110000
DTEND;TZID=America/New_York:20260214T120000
DTSTAMP:20260423T131931
CREATED:20260130T214044Z
LAST-MODIFIED:20260130T214050Z
UID:10004067-1771066800-1771070400@turnpurple2blue.org
SUMMARY:Weekly Standout
DESCRIPTION:This a local Indivisible event! Indivisible North Quabbin hosts a weekly Stand Out. This happens every Saturday with neighbors coming together to stand up for democracy and non-violent action. \n\n\n\n\nRSVP for updates\n\n\n\n\nA core principle behind all Indivisible events is a commitment to nonviolent action. We expect all participants to seek to de-escalate any potential confrontation with those who disagree with our values.
URL:https://turnpurple2blue.org/event/weekly-standout/2026-02-14/
LOCATION:Memorial Park\, So. Main St and Water St.\, Orange\, Massachusetts\, 01364
CATEGORIES:Protests
ATTACH;FMTTYPE=image/png:https://turnpurple2blue.org/wp-content/uploads/2025/03/rsvp-now.png
GEO:42.5894308;-72.3095743
X-APPLE-STRUCTURED-LOCATION;VALUE=URI;X-ADDRESS=Memorial Park So. Main St and Water St. Orange Massachusetts 01364;X-APPLE-RADIUS=500;X-TITLE=So. Main St and Water St.:geo:-72.3095743,42.5894308
END:VEVENT
BEGIN:VEVENT
DTSTART;TZID=America/New_York:20260214T110000
DTEND;TZID=America/New_York:20260214T120000
DTSTAMP:20260423T131931
CREATED:20260204T212509Z
LAST-MODIFIED:20260204T212514Z
UID:10004205-1771066800-1771070400@turnpurple2blue.org
SUMMARY:Malden Democrats Stand Out for Democracy
DESCRIPTION:The Malden Democratic City Committee hosts a weekly pro-democracy stand out every Saturday. \n\n\n\nAll are welcome. \n\n\n\nPlease bring your own sign or an American flag. \n\n\n\nThis is a family friendly event. \n\n\n\n\nRSVP for Exact Address\n\n\n\n\nParking is available on surrounding side streets as well as at the nearby hockey rink as long as there isn’t a game being held.
URL:https://turnpurple2blue.org/event/malden-democrats-stand-out-for-democracy/2026-02-14/
LOCATION:Malden-Private Address\, Malden\, Massachusetts
CATEGORIES:Protests
ATTACH;FMTTYPE=image/png:https://turnpurple2blue.org/wp-content/uploads/2026/02/malden.png
END:VEVENT
BEGIN:VEVENT
DTSTART;TZID=America/New_York:20260214T110000
DTEND;TZID=America/New_York:20260214T130000
DTSTAMP:20260423T131931
CREATED:20251202T162638Z
LAST-MODIFIED:20251202T164028Z
UID:10003262-1771066800-1771074000@turnpurple2blue.org
SUMMARY:No Fear with Street Theater Group
DESCRIPTION:A new protest group named “No Fear Street Theater” will be hosting ICE protests near the Burlington ICE Office on Saturdays! Everyone is welcome!  More info here
URL:https://turnpurple2blue.org/event/no-fear-with-street-theater-group-3/2026-02-14/
LOCATION:Burlington Mall Rd and District Ave\, Burlington Mall Rd and District Ave\, Burlington\, Massachusetts\, 01813
CATEGORIES:Protests
ATTACH;FMTTYPE=image/png:https://turnpurple2blue.org/wp-content/uploads/2025/06/ice-melts-under-resistance.png
GEO:42.4858849;-71.211809
X-APPLE-STRUCTURED-LOCATION;VALUE=URI;X-ADDRESS=Burlington Mall Rd and District Ave Burlington Mall Rd and District Ave Burlington Massachusetts 01813;X-APPLE-RADIUS=500;X-TITLE=Burlington Mall Rd and District Ave:geo:-71.211809,42.4858849
END:VEVENT
BEGIN:VEVENT
DTSTART;TZID=America/New_York:20260214T120000
DTEND;TZID=America/New_York:20260214T130000
DTSTAMP:20260423T131931
CREATED:20260211T162111Z
LAST-MODIFIED:20260211T162115Z
UID:10004197-1771070400-1771074000@turnpurple2blue.org
SUMMARY:Honk & Wave Standout for Democracy: Valentine Special\, Love Your Neighbor
DESCRIPTION:Please join our peaceful protest! Let’s line Washington St and stand for our immigrant neighbors and all who are impacted by ICE/DHS/Border Patrol cruelty. We know that ICE doesn’t make our communities safer and that LOVE unites us all. \n\n\n\nIt’s also Valentine’s Day\, so we will mix some love songs into the playlist and have treats to keep us going. We are asking that you please wear red if you are so inclined. \n\n\n\nGrab your sign and a friend or two\, and come on down to Riley Plaza each Saturday for our Weekly Standout Rallies. Signs provided if you need one. Come join us as we protest the atrocities of current administration\, and build community together to work for a positive Democratic future. \n\n\n\nCheck us out at salem’scall.com for up-to-date listings of our calendar of events and actions. We hope to see you soon! \n\n\n\nThis a local Indivisible event! \n\n\n\n\nRSVP for updates\n\n\n\n\nA core principle behind all Indivisible events is a commitment to nonviolent action. We expect all participants to seek to de-escalate any potential confrontation with those who disagree with our values.
URL:https://turnpurple2blue.org/event/honk-wave-standout-for-democracy-2/
LOCATION:Riley Plaza\, 1-21 Margin St\, Salem\, MA\, 01970
CATEGORIES:Protests
ATTACH;FMTTYPE=image/png:https://turnpurple2blue.org/wp-content/uploads/2025/03/rsvp-now.png
GEO:42.5159039;-70.8974288
X-APPLE-STRUCTURED-LOCATION;VALUE=URI;X-ADDRESS=Riley Plaza 1-21 Margin St Salem MA 01970;X-APPLE-RADIUS=500;X-TITLE=1-21 Margin St:geo:-70.8974288,42.5159039
END:VEVENT
BEGIN:VEVENT
DTSTART;TZID=America/New_York:20260214T123000
DTEND;TZID=America/New_York:20260214T133000
DTSTAMP:20260423T131932
CREATED:20260101T201357Z
LAST-MODIFIED:20260101T201404Z
UID:10003532-1771072200-1771075800@turnpurple2blue.org
SUMMARY:Billerica Common Coalition
DESCRIPTION:Every Saturday 12:30-1:30 a dedicated group of Democracy Defenders join together on Billerica Common to stand out with messages of defiance and hope. We are fueled by resistance! We typically have a central message that changes each week. \n\n\n\n\nRSVP for updates\n\n\n\n\nA core principle behind all Indivisible events is a commitment to nonviolent action. We expect all participants to seek to de-escalate any potential confrontation with those who disagree with our values.
URL:https://turnpurple2blue.org/event/billerica-common-coalition/2026-02-14/
LOCATION:Billerica Town Center\, 15 Concord Road\, Billerica\, Massachusetts\, 01821
CATEGORIES:Protests
ATTACH;FMTTYPE=image/png:https://turnpurple2blue.org/wp-content/uploads/2026/01/Refuse-fascism.png
END:VEVENT
BEGIN:VEVENT
DTSTART;TZID=America/New_York:20260214T130000
DTEND;TZID=America/New_York:20260214T140000
DTSTAMP:20260423T131932
CREATED:20260103T212328Z
LAST-MODIFIED:20260105T214257Z
UID:10003315-1771074000-1771077600@turnpurple2blue.org
SUMMARY:Get ICE out of Home Depot Natick
DESCRIPTION:We’re standing out at the Natick Home Depot entrance\, sending a clear message to stop allowing ICE raids on their property and to boycott shopping there! \n\n\n\nAll over the country\, ICE agents are targeting immigrants in and around Home Depot\, and these atrocities are happening on Home Depot’s watch\, on its properties\, with its silence. \n\n\n\nThe Home Depot has not publicly resisted or condemned these raids or demanded that the Administration stop assaulting and abducting people on and outside its properties. With its silence and inaction\, Home Depot has become ICE’s passive partner. \n\n\n\n\nMore Info + Sign Up to Get Updates
URL:https://turnpurple2blue.org/event/get-ice-out-of-home-depot-natick-4/2026-02-14/
LOCATION:Natick Home Depot\, Cochituate Rd & Speen Street\, Framingham\, Massachusetts\, 01701
CATEGORIES:Protests
ATTACH;FMTTYPE=image/jpeg:https://turnpurple2blue.org/wp-content/uploads/2025/12/IMG_0849.jpeg
END:VEVENT
BEGIN:VEVENT
DTSTART;TZID=America/New_York:20260214T130000
DTEND;TZID=America/New_York:20260214T140000
DTSTAMP:20260423T131932
CREATED:20260107T210820Z
LAST-MODIFIED:20260107T210825Z
UID:10003887-1771074000-1771077600@turnpurple2blue.org
SUMMARY:Brookline Rally for Democracy
DESCRIPTION:Brookline Rally for Democracy \n\n\n\nEvery Saturday at 1:00 PM | Coolidge Corner \n\n\n\nJoin members of three Brookline pro-democracy groups — indivisible Activist Evenings\, Brookline Pax\, and Speak Out\, Seniors! — for our weekly rally at Coolidge Corner. \n\n\n\nWe gather to raise our voices and our signs in defense of democracy\, justice\, and decency — and to stand united against the abuses of the Trump administration and the forces that threaten our rights and freedoms. \n\n\n\n\nRSVP for updates\n\n\n\n\nWe stand for: \n\n\n\n• Immigrant rights\, human rights\, and racial justice \n\n\n\n• Free speech\, the Constitution\, and the rule of law \n\n\n\n• Access to health and healthcare for all \n\n\n\n• Protection of our planet and the future we leave to the next generation \n\n\n\nWe choose empathy over cruelty\, peace over violence\, and hope over fear. \n\n\n\nOur rallies are peaceful\, spirited\, and uplifting — a chance to connect\, recharge\, and stand up for what matters. Bring your friends\, your voice\, and your sign (or borrow one of ours!). \n\n\n\nAll are welcome!  The rally is multi-generational and family-friendly; those using walkers or other mobility devices may use them to sit to participate. \n\n\n\nIn the event of inclement weather\, we’ll each use our best judgment about whether to attend. We hope you’ll do the same! \n\n\n\nPlease join us\, one rally at a time.  We’ll continue for as long as it takes.
URL:https://turnpurple2blue.org/event/brookline-rally-for-democracy-6/2026-02-14/
LOCATION:Coolidge Corner\, Beacon Street & Harvard Stree\, Brookline\, Massachusetts\, 02446
CATEGORIES:Protests
ATTACH;FMTTYPE=image/png:https://turnpurple2blue.org/wp-content/uploads/2026/01/brookline.png
GEO:42.3420068;-71.1212127
X-APPLE-STRUCTURED-LOCATION;VALUE=URI;X-ADDRESS=Coolidge Corner Beacon Street & Harvard Stree Brookline Massachusetts 02446;X-APPLE-RADIUS=500;X-TITLE=Beacon Street & Harvard Stree:geo:-71.1212127,42.3420068
END:VEVENT
BEGIN:VEVENT
DTSTART;TZID=America/New_York:20260214T130000
DTEND;TZID=America/New_York:20260214T140000
DTSTAMP:20260423T131932
CREATED:20260214T150835Z
LAST-MODIFIED:20260214T150840Z
UID:10004374-1771074000-1771077600@turnpurple2blue.org
SUMMARY:Stand Up • Sing Out FOR THE LOVE
DESCRIPTION:Friends and neighbors gathering to demonstrate the things we love. 💖 \n\n\n\n\nRSVP for updates\n\n\n\n\nIf you’re able to; bring a sign about something you love (ie: family\, neighbors\, democracy\, due-process\, etc.) or just bring yourself and friends and there will be extra signs to borrow. \n\n\n\nClick here to see event poster artwork.💖 \n\n\n\nThis is a local Indivisible event! \n\n\n\nA core principle behind all Indivisible events is a commitment to nonviolent action. We expect all participants to seek to de-escalate any potential confrontation with those who disagree with our values.
URL:https://turnpurple2blue.org/event/stand-up-sing-out-for-the-love/
LOCATION:Training Field\, Training Field Rd and Main St.\, West Newbury\, Massachusetts\, 01985
CATEGORIES:Protests
ATTACH;FMTTYPE=image/png:https://turnpurple2blue.org/wp-content/uploads/2026/02/Stand-out-for-love.png
END:VEVENT
BEGIN:VEVENT
DTSTART;TZID=America/New_York:20260214T130000
DTEND;TZID=America/New_York:20260214T143000
DTSTAMP:20260423T131932
CREATED:20260104T164057Z
LAST-MODIFIED:20260104T164102Z
UID:10003797-1771074000-1771079400@turnpurple2blue.org
SUMMARY:Worcester Indivisible: For the Love of Democracy
DESCRIPTION:Join this special Valentine’s Day addition of Worcester Indivisible’s Open Member Meeting (In-Person) series! \n\n\n\nMembers\, supporters\, and the politically curious can join to come together\, hear what we’re working on\, and have open discussion about what matters most\, locally\, and nationally. \n\n\n\n\nRSVP for updates\n\n\n\n\nHosted by members of our Advisory Board\, each meeting includes: \n\n\n\n✅ Updates on current campaigns and priorities. \n\n\n\n✅ Space to ask questions\, offer feedback\, or raise new ideas. \n\n\n\n✅ Opportunities to connect with others in the movement. \n\n\n\nWhether you’re deeply involved or just looking for a way to stay informed\, you’re welcome here. \n\n\n\nA core principle behind all Indivisible events is a commitment to nonviolent action. We expect all participants to seek to de-escalate any potential confrontation with those who disagree with our values.
URL:https://turnpurple2blue.org/event/worcester-indivisible-for-the-love-of-democracy/
LOCATION:Unitarian Universalist Church of Worcester\, 140 Shore Drive\, Worcester\, Massachusetts\, 01605
CATEGORIES:Action Hours
ATTACH;FMTTYPE=image/jpeg:https://turnpurple2blue.org/wp-content/uploads/2025/07/worcester-indivisible.jpg
GEO:42.3047582;-71.817051
X-APPLE-STRUCTURED-LOCATION;VALUE=URI;X-ADDRESS=Unitarian Universalist Church of Worcester 140 Shore Drive Worcester Massachusetts 01605;X-APPLE-RADIUS=500;X-TITLE=140 Shore Drive:geo:-71.817051,42.3047582
END:VEVENT
BEGIN:VEVENT
DTSTART;TZID=America/New_York:20260214T150000
DTEND;TZID=America/New_York:20260214T160000
DTSTAMP:20260423T131932
CREATED:20251121T142824Z
LAST-MODIFIED:20251121T142833Z
UID:10003175-1771081200-1771084800@turnpurple2blue.org
SUMMARY:Marblehead Weekly Rally for Pro-Democracy
DESCRIPTION:Please join us every Saturday in Marblehead from 3PM-4PM at Glabicky Field\, Route114 at the Maple & Lafayette streets intersection to show we do not to accept tRUMP’s deportations\, corruption\, cuts to Social Security/Medicare and his total disregard for human beings. \n\n\n\n\nRSVP for updates\n\n\n\n\nThis a local Indivisible event! \n\n\n\nA core principle behind all Indivisible events is a commitment to nonviolent action. We expect all participants to seek to de-escalate any potential confrontation with those who disagree with our values.
URL:https://turnpurple2blue.org/event/marblehead-weekly-rally-for-pro-democracy/2026-02-14/
LOCATION:Glabicky Field\, Maple and Lafayette\, Marblehead\, Massachusetts
CATEGORIES:Protests
ATTACH;FMTTYPE=image/png:https://turnpurple2blue.org/wp-content/uploads/2025/03/rsvp-now.png
GEO:42.4928566;-70.8820929
X-APPLE-STRUCTURED-LOCATION;VALUE=URI;X-ADDRESS=Glabicky Field Maple and Lafayette Marblehead Massachusetts;X-APPLE-RADIUS=500;X-TITLE=Maple and Lafayette:geo:-70.8820929,42.4928566
END:VEVENT
END:VCALENDAR