BEGIN:VCALENDAR
VERSION:2.0
PRODID:-//Turn Purple 2 Blue - ECPv6.15.20//NONSGML v1.0//EN
CALSCALE:GREGORIAN
METHOD:PUBLISH
X-ORIGINAL-URL:https://turnpurple2blue.org
X-WR-CALDESC:Events for Turn Purple 2 Blue
REFRESH-INTERVAL;VALUE=DURATION:PT1H
X-Robots-Tag:noindex
X-PUBLISHED-TTL:PT1H
BEGIN:VTIMEZONE
TZID:America/New_York
BEGIN:DAYLIGHT
TZOFFSETFROM:-0500
TZOFFSETTO:-0400
TZNAME:EDT
DTSTART:20250309T070000
END:DAYLIGHT
BEGIN:STANDARD
TZOFFSETFROM:-0400
TZOFFSETTO:-0500
TZNAME:EST
DTSTART:20251102T060000
END:STANDARD
BEGIN:DAYLIGHT
TZOFFSETFROM:-0500
TZOFFSETTO:-0400
TZNAME:EDT
DTSTART:20260308T070000
END:DAYLIGHT
BEGIN:STANDARD
TZOFFSETFROM:-0400
TZOFFSETTO:-0500
TZNAME:EST
DTSTART:20261101T060000
END:STANDARD
BEGIN:DAYLIGHT
TZOFFSETFROM:-0500
TZOFFSETTO:-0400
TZNAME:EDT
DTSTART:20270314T070000
END:DAYLIGHT
BEGIN:STANDARD
TZOFFSETFROM:-0400
TZOFFSETTO:-0500
TZNAME:EST
DTSTART:20271107T060000
END:STANDARD
END:VTIMEZONE
BEGIN:VEVENT
DTSTART;TZID=America/New_York:20260220T080000
DTEND;TZID=America/New_York:20260220T090000
DTSTAMP:20260422T230256
CREATED:20260215T144522Z
LAST-MODIFIED:20260215T144527Z
UID:10004383-1771574400-1771578000@turnpurple2blue.org
SUMMARY:Make America Better Visibility
DESCRIPTION:Join other concerned area residents in reminding over 3000 commuters that\, with their help\, America can become better\, that ICE has become a violent fascist gang\, that Trump is looting our children’s future and that pedophiles of all strips need to be held accountable. \n\n\n\n\nRSVP for updates\n\n\n\n\nWe have a selection of pre-made signs and banners but feel free to bring your own (not more suggestive than PG\, though). \n\n\n\nWe start at 8 AM and end at 9 AM. The intersection is served by the 77 bus from between Arlington and Harvard Square and there is very limited parking nearby. No bathrooms so go easy on the morning coffee. \n\n\n\nA core principle behind all Indivisible events is a commitment to nonviolent action. We expect all participants to seek to de-escalate any potential confrontation with those who disagree with our values.
URL:https://turnpurple2blue.org/event/make-america-better-visibility-2/
LOCATION:Cambridge Intersection\, Mass Ave and Mass 16\, Cambridge\, Massachusetts\, 02139
CATEGORIES:Protests
ATTACH;FMTTYPE=image/png:https://turnpurple2blue.org/wp-content/uploads/2025/03/rsvp-now.png
END:VEVENT
BEGIN:VEVENT
DTSTART;TZID=America/New_York:20260220T133000
DTEND;TZID=America/New_York:20260220T143000
DTSTAMP:20260422T230256
CREATED:20260220T132513Z
LAST-MODIFIED:20260220T132520Z
UID:10003845-1771594200-1771597800@turnpurple2blue.org
SUMMARY:De-ICE Hanscom Friday Standouts
DESCRIPTION:CANCELLED 2/20 DUE TO WEATHER.  New\, shorter winter timeframe! This weekly afternoon standout is on Fridays from 1:30 to 2:30 at the Hanscom Rotary (intersection of Hanscom Dr. and Old Bedford Rd. in Lincoln\, MA.) Please park along Old Bedford Road or Hanscom Drive without impeding traffic or blocking bike lanes. \n\n\n\n\n\n\n\nDe-ICE Hanscom is a coalition organizing peaceful standouts with the goal of eliminating ICE transport flights from Hanscom Field. ICE is using these flights to swiftly move immigrants out of New England in order to hinder effective legal representation.  \n\n\n\n\n\n\n\nCoalition groups include Boston Workers Circle\, Concord Indivisible\, Greater Assabet Indivisible Network (GAIN)\, Indivisible Acton Area\, Jewish Alliance for Law & Social Action (JALSA)\, Lexington Alarm\, and Maynard Indivisible. \n\n\n\n\n\n\n\nSign up to get information and updates about our weekly standouts. We’ll keep you in the loop if we need to reschedule or cancel for weather or other considerations\, and apprise you of our goals and progress. \n\n\n\n\n\n\n\n\nSign Up to Get Updates
URL:https://turnpurple2blue.org/event/de-ice-hanscom-friday-standouts-8/
LOCATION:Hanscom Rotary\, Intersection of Old Bedford Rd and Hanscom Dr\, Lincoln\, MA
CATEGORIES:Protests
ATTACH;FMTTYPE=image/jpeg:https://turnpurple2blue.org/wp-content/uploads/2025/11/De-Ice-Hanscom-Banner-Medium-Banner-US-Landscape.jpg
GEO:42.4561275;-71.2891917
X-APPLE-STRUCTURED-LOCATION;VALUE=URI;X-ADDRESS=Hanscom Rotary Intersection of Old Bedford Rd and Hanscom Dr Lincoln MA;X-APPLE-RADIUS=500;X-TITLE=Intersection of Old Bedford Rd and Hanscom Dr:geo:-71.2891917,42.4561275
END:VEVENT
END:VCALENDAR