BEGIN:VCALENDAR
VERSION:2.0
PRODID:-//Turn Purple 2 Blue - ECPv6.15.20//NONSGML v1.0//EN
CALSCALE:GREGORIAN
METHOD:PUBLISH
X-ORIGINAL-URL:https://turnpurple2blue.org
X-WR-CALDESC:Events for Turn Purple 2 Blue
REFRESH-INTERVAL;VALUE=DURATION:PT1H
X-Robots-Tag:noindex
X-PUBLISHED-TTL:PT1H
BEGIN:VTIMEZONE
TZID:America/New_York
BEGIN:DAYLIGHT
TZOFFSETFROM:-0500
TZOFFSETTO:-0400
TZNAME:EDT
DTSTART:20250309T070000
END:DAYLIGHT
BEGIN:STANDARD
TZOFFSETFROM:-0400
TZOFFSETTO:-0500
TZNAME:EST
DTSTART:20251102T060000
END:STANDARD
BEGIN:DAYLIGHT
TZOFFSETFROM:-0500
TZOFFSETTO:-0400
TZNAME:EDT
DTSTART:20260308T070000
END:DAYLIGHT
BEGIN:STANDARD
TZOFFSETFROM:-0400
TZOFFSETTO:-0500
TZNAME:EST
DTSTART:20261101T060000
END:STANDARD
BEGIN:DAYLIGHT
TZOFFSETFROM:-0500
TZOFFSETTO:-0400
TZNAME:EDT
DTSTART:20270314T070000
END:DAYLIGHT
BEGIN:STANDARD
TZOFFSETFROM:-0400
TZOFFSETTO:-0500
TZNAME:EST
DTSTART:20271107T060000
END:STANDARD
END:VTIMEZONE
BEGIN:VEVENT
DTSTART;TZID=America/New_York:20260220T080000
DTEND;TZID=America/New_York:20260220T090000
DTSTAMP:20260419T105358
CREATED:20260215T144522Z
LAST-MODIFIED:20260215T144527Z
UID:10004383-1771574400-1771578000@turnpurple2blue.org
SUMMARY:Make America Better Visibility
DESCRIPTION:Join other concerned area residents in reminding over 3000 commuters that\, with their help\, America can become better\, that ICE has become a violent fascist gang\, that Trump is looting our children’s future and that pedophiles of all strips need to be held accountable. \n\n\n\n\nRSVP for updates\n\n\n\n\nWe have a selection of pre-made signs and banners but feel free to bring your own (not more suggestive than PG\, though). \n\n\n\nWe start at 8 AM and end at 9 AM. The intersection is served by the 77 bus from between Arlington and Harvard Square and there is very limited parking nearby. No bathrooms so go easy on the morning coffee. \n\n\n\nA core principle behind all Indivisible events is a commitment to nonviolent action. We expect all participants to seek to de-escalate any potential confrontation with those who disagree with our values.
URL:https://turnpurple2blue.org/event/make-america-better-visibility-2/
LOCATION:Cambridge Intersection\, Mass Ave and Mass 16\, Cambridge\, Massachusetts\, 02139
CATEGORIES:Protests
ATTACH;FMTTYPE=image/png:https://turnpurple2blue.org/wp-content/uploads/2025/03/rsvp-now.png
END:VEVENT
BEGIN:VEVENT
DTSTART;TZID=America/New_York:20260220T090000
DTEND;TZID=America/New_York:20260220T100000
DTSTAMP:20260419T105358
CREATED:20260101T201938Z
LAST-MODIFIED:20260101T201943Z
UID:10003547-1771578000-1771581600@turnpurple2blue.org
SUMMARY:Tech Office Hours
DESCRIPTION:Swing Blue Alliance values your commitment to activism. We want to make sure you get the assistance that you need so you can focus on becoming an effective activist. Technology can certainly be a hurdle for many. The Swing Blue Alliance Tech Team is here to help. We will provide one-on-one assistance and answer any questions you may have every Friday from 9 AM to 10 AM.
URL:https://turnpurple2blue.org/event/tech-office-hours/2026-02-20/
LOCATION:
CATEGORIES:Action Hours
ATTACH;FMTTYPE=image/png:https://turnpurple2blue.org/wp-content/uploads/2025/03/tech-help.png
END:VEVENT
BEGIN:VEVENT
DTSTART;TZID=America/New_York:20260220T103000
DTEND;TZID=America/New_York:20260220T113000
DTSTAMP:20260419T105358
CREATED:20260212T215750Z
LAST-MODIFIED:20260212T215755Z
UID:10004350-1771583400-1771587000@turnpurple2blue.org
SUMMARY:Resistance Book Club
DESCRIPTION:Our current presidential administration seems intent on erasing critical aspects of American history\, both historic injustice\, and the struggles for freedom and democracy that are parts of our past. Led by community member and friend of the store Bob Van Meter\, the Resistance Book Club will read works that tell important parts of that history.   \n\n\n\nThe book club will meet on the third Friday of the month at 10:30 AM here at the store. The first meeting will be on Friday\, February 20th\, and the book pick will be The Second Founding by Eric Foner. It’s a concise history of the adoption of the 13th\, 14th\, and 15th Amendments\, which Foner argues should be seen as a second founding of the nation.
URL:https://turnpurple2blue.org/event/resistance-book-club/2026-02-20/
LOCATION:Silver Unicorn Bookstore\, 12 Spruce St\, Acton\, Massachusetts\, 01720
ATTACH;FMTTYPE=image/png:https://turnpurple2blue.org/wp-content/uploads/2026/02/reading-is-resistance.png
END:VEVENT
BEGIN:VEVENT
DTSTART;TZID=America/New_York:20260220T133000
DTEND;TZID=America/New_York:20260220T143000
DTSTAMP:20260419T105358
CREATED:20260220T132513Z
LAST-MODIFIED:20260220T132520Z
UID:10003845-1771594200-1771597800@turnpurple2blue.org
SUMMARY:De-ICE Hanscom Friday Standouts
DESCRIPTION:CANCELLED 2/20 DUE TO WEATHER.  New\, shorter winter timeframe! This weekly afternoon standout is on Fridays from 1:30 to 2:30 at the Hanscom Rotary (intersection of Hanscom Dr. and Old Bedford Rd. in Lincoln\, MA.) Please park along Old Bedford Road or Hanscom Drive without impeding traffic or blocking bike lanes. \n\n\n\n\n\n\n\nDe-ICE Hanscom is a coalition organizing peaceful standouts with the goal of eliminating ICE transport flights from Hanscom Field. ICE is using these flights to swiftly move immigrants out of New England in order to hinder effective legal representation.  \n\n\n\n\n\n\n\nCoalition groups include Boston Workers Circle\, Concord Indivisible\, Greater Assabet Indivisible Network (GAIN)\, Indivisible Acton Area\, Jewish Alliance for Law & Social Action (JALSA)\, Lexington Alarm\, and Maynard Indivisible. \n\n\n\n\n\n\n\nSign up to get information and updates about our weekly standouts. We’ll keep you in the loop if we need to reschedule or cancel for weather or other considerations\, and apprise you of our goals and progress. \n\n\n\n\n\n\n\n\nSign Up to Get Updates
URL:https://turnpurple2blue.org/event/de-ice-hanscom-friday-standouts-8/
LOCATION:Hanscom Rotary\, Intersection of Old Bedford Rd and Hanscom Dr\, Lincoln\, MA
CATEGORIES:Protests
ATTACH;FMTTYPE=image/jpeg:https://turnpurple2blue.org/wp-content/uploads/2025/11/De-Ice-Hanscom-Banner-Medium-Banner-US-Landscape.jpg
GEO:42.4561275;-71.2891917
X-APPLE-STRUCTURED-LOCATION;VALUE=URI;X-ADDRESS=Hanscom Rotary Intersection of Old Bedford Rd and Hanscom Dr Lincoln MA;X-APPLE-RADIUS=500;X-TITLE=Intersection of Old Bedford Rd and Hanscom Dr:geo:-71.2891917,42.4561275
END:VEVENT
BEGIN:VEVENT
DTSTART;TZID=America/New_York:20260220T190000
DTEND;TZID=America/New_York:20260220T200000
DTSTAMP:20260419T105358
CREATED:20260216T223426Z
LAST-MODIFIED:20260219T225431Z
UID:10004419-1771614000-1771617600@turnpurple2blue.org
SUMMARY:Indivisible Acton Monthly Take Action Meeting
DESCRIPTION:With the prediction of ice and snow\, we are changing our in-person event to a cozy Zoom. Pajamas suggested\, but not required. We’ll talk about our Next Steps initiative for No Kings Day\, and learn about the new Protect Act and how to advocate for quick(er) action in the MA State House. We’ll also talk about the upcoming local and state elections. \n\n\n\nhttps://us02web.zoom.us/meeting/register/yBQyAZuUToS7IcBWzcpvqg#/registration
URL:https://turnpurple2blue.org/event/indivisible-acton-monthly-take-action-meeting/
LOCATION:
CATEGORIES:Action Hours
ATTACH;FMTTYPE=image/jpeg:https://turnpurple2blue.org/wp-content/uploads/2026/02/Indivisible-Logo.jpg
ORGANIZER;CN="Indivisible Acton Area":MAILTO:info@indivisibleacton.org
END:VEVENT
END:VCALENDAR