BEGIN:VCALENDAR
VERSION:2.0
PRODID:-//Turn Purple 2 Blue - ECPv6.15.20//NONSGML v1.0//EN
CALSCALE:GREGORIAN
METHOD:PUBLISH
X-WR-CALNAME:Turn Purple 2 Blue
X-ORIGINAL-URL:https://turnpurple2blue.org
X-WR-CALDESC:Events for Turn Purple 2 Blue
REFRESH-INTERVAL;VALUE=DURATION:PT1H
X-Robots-Tag:noindex
X-PUBLISHED-TTL:PT1H
BEGIN:VTIMEZONE
TZID:America/New_York
BEGIN:DAYLIGHT
TZOFFSETFROM:-0500
TZOFFSETTO:-0400
TZNAME:EDT
DTSTART:20250309T070000
END:DAYLIGHT
BEGIN:STANDARD
TZOFFSETFROM:-0400
TZOFFSETTO:-0500
TZNAME:EST
DTSTART:20251102T060000
END:STANDARD
BEGIN:DAYLIGHT
TZOFFSETFROM:-0500
TZOFFSETTO:-0400
TZNAME:EDT
DTSTART:20260308T070000
END:DAYLIGHT
BEGIN:STANDARD
TZOFFSETFROM:-0400
TZOFFSETTO:-0500
TZNAME:EST
DTSTART:20261101T060000
END:STANDARD
BEGIN:DAYLIGHT
TZOFFSETFROM:-0500
TZOFFSETTO:-0400
TZNAME:EDT
DTSTART:20270314T070000
END:DAYLIGHT
BEGIN:STANDARD
TZOFFSETFROM:-0400
TZOFFSETTO:-0500
TZNAME:EST
DTSTART:20271107T060000
END:STANDARD
END:VTIMEZONE
BEGIN:VEVENT
DTSTART;TZID=America/New_York:20260226T100000
DTEND;TZID=America/New_York:20260226T120000
DTSTAMP:20260421T193825
CREATED:20260217T161543Z
LAST-MODIFIED:20260217T161549Z
UID:10004433-1772100000-1772107200@turnpurple2blue.org
SUMMARY:Target and Home Depot De-Shopping Demonstrations | Protest Events
DESCRIPTION:ICE OUT! JOIN US FOR A DE-SHOPPING DEMONSTRATION.  \n\n\n\n\n\n\n\n📍 Feb 26 – 10 AM – Home Depot 85 Main St Tewksbury 📍 Feb 28 – 10 AM- Target 181 Plain St Lowell \n\n\n\n\n\n\n\nFor decades\, Home Depot has profited from immigrant labor—now its silence enables ICE raids that terrorize workers and communities. Target has also allowed ICE activity while backing policies that harm immigrants. They are both supporting this regime of domestic terrorists.  \n\n\n\n\n\n\n\nWe demand that Home Depot and Target: \n\n\n\n\n\n\n\nPublicly condemn ICE raids \n\n\n\n\n\n\n\nStop cooperating with ICE \n\n\n\n\n\n\n\nProtect workers and customers \n\n\n\n\n\n\n\nRefuse access to private spaces without a judicial warrant \n\n\n\n\n\n\n\nStand with our communities\, not support the terror against them \n\n\n\n\n\n\n\nCorporations cannot profit from our communities while allowing them to be attacked. \n\n\n\n\n\n\n\nAt Home Depot\, we will load our carriages with ICE Scrapers and / or de-icer\, and purchase them (until they sell out). Then we will all get in the customer service line to return them.  \n\n\n\n\n\n\n\nAt Target\, we will load our carriages with a container of Salt\, and purchase it. Then we will all get in the customer service line to return them. \n\n\n\n\n\n\n\nIMPORTANT- BRING CASH!! No need for them to have our info to tattle to ICE\, and it takes longer for a cash purchase and return.  \n\n\n\n\n\n\n\n✊ Nonviolent action. Community defense. ICE OUT. Join us. \n\n\n\n\n\n\n\n\nRSVP for Updates\n\n\n\n\n\n\n\n\nA core principle behind all Indivisible events is a commitment to nonviolent action. We expect all participants to seek to de-escalate any potential confrontation with those who disagree with our values.
URL:https://turnpurple2blue.org/event/target-and-home-depot-de-shopping-demonstrations-protest-events/2026-02-26/
LOCATION:Lowell\, MA – See Description for Exact Locations\, Lowell\, Massachusetts\, 01852\, United States
CATEGORIES:Protests
ATTACH;FMTTYPE=image/png:https://turnpurple2blue.org/wp-content/uploads/2025/03/rsvp-now.png
END:VEVENT
BEGIN:VEVENT
DTSTART;TZID=America/New_York:20260226T100000
DTEND;TZID=America/New_York:20260226T150000
DTSTAMP:20260421T193825
CREATED:20260205T162816Z
LAST-MODIFIED:20260205T162821Z
UID:10004291-1772100000-1772118000@turnpurple2blue.org
SUMMARY:2026 Menstrual Equity Advocacy Day
DESCRIPTION:Hear from legislative champions\, activists and meet with your legislators to urge them to pass our legislative agenda this session! \n\n\n\nOur menstrual equity legislative agenda: \n\n\n\nS.2640 / H.4611: The I AM Bill – An Act to Increased Access to Disposable Menstrual Products in Schools\, Homeless Shelters\, and Incarcerated Facilities \n\n\n\nS.2156 / H.4714: An Act to Increase Access to Menstrual Products in Public Buildings \n\n\n\nS.2641 / H.2375: An Act Relative to Menstrual Product Ingredient Disclosure \n\n\n\n\nRegister and more information
URL:https://turnpurple2blue.org/event/2026-menstrual-equity-advocacy-day/
LOCATION:MA State House\, 24 Beacon St\, Boston\, MA\, 02133
CATEGORIES:Action Hours
ATTACH;FMTTYPE=image/png:https://turnpurple2blue.org/wp-content/uploads/2026/02/menstrual-advocacy.png
GEO:42.3587596;-71.063803
X-APPLE-STRUCTURED-LOCATION;VALUE=URI;X-ADDRESS=MA State House 24 Beacon St Boston MA 02133;X-APPLE-RADIUS=500;X-TITLE=24 Beacon St:geo:-71.063803,42.3587596
END:VEVENT
BEGIN:VEVENT
DTSTART;TZID=America/New_York:20260226T110000
DTEND;TZID=America/New_York:20260226T130000
DTSTAMP:20260421T193825
CREATED:20251208T150739Z
LAST-MODIFIED:20260103T225549Z
UID:10003769-1772103600-1772110800@turnpurple2blue.org
SUMMARY:Justice 4 All Thursdays
DESCRIPTION:Greater Assabet Indivisible Network (GAIN) invites you to stand in solidarity with immigrants and resistance to ICE and their cruel and lawless detention of our neighbors Thursdays from 11am-1pm. Regardless of any other political views\, you are welcome to join us and demand Justice 4 All so long as you do so non-violently. \n\n\n\nOur friends at Bearing Witness have been hosting gatherings at this location for many weeks. We are an unaffiliated group\, but very much aligned with their values and mission. Our goal is to add to the total number of hours that citizens stand in non-violent opposition to the deplorable detainment conditions at this location. If you have been to Bearing Witness on Wednesdays\, we would love to have you at Justice 4 All Thursdays. \n\n\n\nSchedule  \n\n\n\n11:00-11:30 Welcome; music; announcements11:30-12:30 Stand with signs along District Ave12:30-1:00 Optional short march down to Mall Rd. \n\n\n\n\nJoin the Email List\n\n\n\nRead past Substack articles\n\n\n\n\nWeather \n\n\n\nAll attendees are ultimately responsible for making their own decisions about travel.  The organizers are going to use the following guidelines to modify or cancel events in advance.  A sudden change in conditions just before or during events\, such as a tornado warning or severe thunderstorm warning\, could happen and organizers will do their best to communicate any decisions appropriately. \n\n\n\n\n\nNo change to event:Normal to heavy RainWindy\, but no warningsLight snow on ground\, but not falling \n\n\n\nCancel:Burlington schools cancelledTemp/Wind Chill < 20FStorm advisory with snow or high wind predictedFreezing rain falling or predicted \n\n\n\n\n\nShorten event in advance\, limit to standout:Temp/Wind Chill < 30FTemp Ok\, but ground wetDeep snow in grassy area\, sidewalks clear \n\n\n\n\n\nWhat happens at this ICE office? \n\n\n\nICE personnel depart from District Ave. in unmarked vans with tinted windows on missions to abduct immigrants across New England. Immigrants may also show up at the office for appointments. The facility on District Ave was never intended to be a detention center\, yet immigration lawyers and media interviews reveal that people are now being housed here in conditions that have been called “abysmal” and “unsanitary.” \n\n\n\nWhat to expect at Justice 4 All? \n\n\n\nWe are committed to nonviolence\, and we stand peacefully with signs outside the facility. We do not block the entrance\, we do not physically approach ICE agents as they walk to/from the parking lot\, and we do not block traffic on District Ave. \n\n\n\nSigns \n\n\n\nThis is a very targeted action outside the ICE facility\, so it’s not the venue for protesting other causes. Even though we care deeply about other issues\, while outside ICE we must remain focused on immigration.  \n\n\n\nParking and other tips \n\n\n\nFor parking\, please use the Macy’s overflow lot (75 Burlington Mall Road\, follow signs for Macy’s\, see map). For those with mobility challenges\, please keep in mind that the lots closest to ICE — the FAA lot beside ICE and the BAE Systems lot directly across the street from ICE — have both been blocked off. There are restaurants nearby (Clover\, Pressed Cafe\, Chipotle) to get food and use the bathroom. Before arriving\, please consider your own self-preservation (citizenship status) and self-care (sunscreen\, hydration\, etc.). \n\n\n\nIf you would like to receive updates on Justice4All Thursdays and reminders of our events\, please add your email below to join our list. We’re excited to reinforce the work of our friends at Bearing Witness and to support our immigrant neighbors. We hope that you will join us. \n\n\n\nSee you in Burlington! \n\n\n\n~Justice4All Thursdays organizers and the Greater Assabet Indivisible Network
URL:https://turnpurple2blue.org/event/justice-4-all-thursdays-4/2026-02-26/
LOCATION:Burlington ICE Enforcement & Removal Operations Office\, 1000 District Avenue\, Burlington\, MA\, 01803
CATEGORIES:Protests
ATTACH;FMTTYPE=image/png:https://turnpurple2blue.org/wp-content/uploads/2025/09/Justice-for-All.png
GEO:42.4825992;-71.2088135
X-APPLE-STRUCTURED-LOCATION;VALUE=URI;X-ADDRESS=Burlington ICE Enforcement & Removal Operations Office 1000 District Avenue Burlington MA 01803;X-APPLE-RADIUS=500;X-TITLE=1000 District Avenue:geo:-71.2088135,42.4825992
END:VEVENT
BEGIN:VEVENT
DTSTART;TZID=America/New_York:20260226T120000
DTEND;TZID=America/New_York:20260226T130000
DTSTAMP:20260421T193825
CREATED:20260210T210650Z
LAST-MODIFIED:20260210T210656Z
UID:10004329-1772107200-1772110800@turnpurple2blue.org
SUMMARY:Progressive Mass Power Lunch!
DESCRIPTION:What comes after calling your state rep and state senator? Getting others to do so as well. \n\n\n\n\nGet Zoom Link\n\n\n\n\nJoin Progressive Mass for our “Power Lunch” phone bank series\, where we will be building our collective power in service of a better Commonwealth for all. \n\n\n\nWe’ll be calling voters about contacting their state legislators about key issues.
URL:https://turnpurple2blue.org/event/progressive-mass-power-lunch-6/
CATEGORIES:Phone Calls
ATTACH;FMTTYPE=image/png:https://turnpurple2blue.org/wp-content/uploads/2025/08/power-lunch.png
LOCATION:
END:VEVENT
BEGIN:VEVENT
DTSTART;TZID=America/New_York:20260226T150000
DTEND;TZID=America/New_York:20260226T160000
DTSTAMP:20260421T193825
CREATED:20251217T195842Z
LAST-MODIFIED:20251217T195846Z
UID:10003343-1772118000-1772121600@turnpurple2blue.org
SUMMARY:What's the Plan
DESCRIPTION:The chaos out of the White House is meant to overwhelm us. Our antidote is community. Join Indivisible co-founders Leah Greenberg and Ezra Levin every Thursday to break down the week’s biggest political stories\, answer your questions\, and map out strategies for taking action. \n\n\n\n\nGet Zoom Link\n\n\n\n\nThis is people-powered politics in real time. Questions can be submitted via the Q&A function during the live event. \n\n\n\nReal talk. Real people. Real action. That’s the plan.
URL:https://turnpurple2blue.org/event/whats-the-plan/2026-02-26/
CATEGORIES:Action Hours
ATTACH;FMTTYPE=image/png:https://turnpurple2blue.org/wp-content/uploads/2024/11/Leah-and-Ezra-1.png
LOCATION:
END:VEVENT
BEGIN:VEVENT
DTSTART;TZID=America/New_York:20260226T180000
DTEND;TZID=America/New_York:20260226T200000
DTSTAMP:20260421T193825
CREATED:20260217T165102Z
LAST-MODIFIED:20260217T165107Z
UID:10004435-1772128800-1772136000@turnpurple2blue.org
SUMMARY:Bonus Postcard Party for St. Patrick's
DESCRIPTION:Good troublemakers are getting together to invite all our supporters to Matt McDonough’s 12th annual St. Patrick’s Day celebration. \n\n\n\n\n\n\n\nAt the Postcard Party\, volunteers will be given postcards\, a voter list\, and a script for contacting people. Volunteers then fill up postcards with messages using the script as a guide and address the cards to voters using colorful pens to make it artistic. \n\n\n\n\n\n\n\nEvent website listing at https://www.mdtc.blog/post/bonus-postcard-party \n\n\n\n\n\n\n\n\nRSVP for Updates\n\n\n\n\n\n\n\n\nA core principle behind all Indivisible events is a commitment to nonviolent action. We expect all participants to seek to de-escalate any potential confrontation with those who disagree with our values.
URL:https://turnpurple2blue.org/event/bonus-postcard-party-for-st-patricks/
LOCATION:Panera Bread-Pembroke\, 152 Church St\, Pembroke\, Massachusetts\, 02359
ATTACH;FMTTYPE=image/avif:https://turnpurple2blue.org/wp-content/uploads/2026/02/St-Pat-PP-Banner_20260213053732346089.png.avif
GEO:42.108626;-70.7699303
X-APPLE-STRUCTURED-LOCATION;VALUE=URI;X-ADDRESS=Panera Bread-Pembroke 152 Church St Pembroke Massachusetts 02359;X-APPLE-RADIUS=500;X-TITLE=152 Church St:geo:-70.7699303,42.108626
END:VEVENT
BEGIN:VEVENT
DTSTART;TZID=America/New_York:20260226T180000
DTEND;TZID=America/New_York:20260226T210000
DTSTAMP:20260421T193825
CREATED:20260208T163808Z
LAST-MODIFIED:20260208T164020Z
UID:10004314-1772128800-1772139600@turnpurple2blue.org
SUMMARY:Talk to Our Neighbors About ICE | Phone Bank with SURJ!
DESCRIPTION:Right now is the time to intervene. To step up. To move our people. \n\n\n\n\n\n\n\nAs the Trump Administration continues to deploy violent ICE agents to our nation’s cities\, we remain clear and centered on the following truths: \n\n\n\n\n\n\n\n\nWhite working class Americans have so much to gain by standing in solidarity with our immigrant neighbors.\n\n\n\nTrump’s aggressive and violent deployment of ICE is causing many white working class communities to re-evaluate their views and beliefs on immigration.\n\n\n\nListening-forward conversations that support people to reflect on their values\, feelings and experiences can shift their attitudes\, perspective and behavior.\n\n\n\n\n\n\n\n\nThat’s why we’re channeling these truths into a powerful action that you can take with us. \n\n\n\n\n\n\n\nJoin SURJ to talk to key white working class voters about their feelings on Trump’s immigration policies and deployment of ICE in the key congressional districts that will determine control of the House in the 2026 elections. \n\n\n\n\n\n\n\nTogether\, we can move the needle and build power. No prior experience needed – we’ll provide all the resources\, training and support you need to phone bank with us to have these critical conversations at a critical juncture for shaping public opinion and our society’s commonsense beliefs around immigration policy \n\n\n\n\n\n\n\n\nRegister for Details
URL:https://turnpurple2blue.org/event/talk-to-our-neighbors-about-ice-phone-bank-with-surj/2026-02-26/
LOCATION:Virtual Event – Join from Anywhere
CATEGORIES:Phone Calls
ATTACH;FMTTYPE=image/avif:https://turnpurple2blue.org/wp-content/uploads/2026/02/1-Talk-to-our-Neighbors-about-ICE-Phone-bank-with-SURJ_20260112224925895375.png.avif
END:VEVENT
BEGIN:VEVENT
DTSTART;TZID=America/New_York:20260226T190000
DTEND;TZID=America/New_York:20260226T200000
DTSTAMP:20260421T193825
CREATED:20260226T153954Z
LAST-MODIFIED:20260226T153959Z
UID:10004501-1772132400-1772136000@turnpurple2blue.org
SUMMARY:Retire Your Lawn: Plant Hope with Judith Black
DESCRIPTION:JCAN ​​​​​​​(Jewish Climate Action network) offers this webinar.30-40% of all land is privately owned.  What if the faith groups\, businesses\, local governments\, schools/universities\, and individuals with purview to this earth took responsibility for its and the planets’ health?This program offers 5 models for transitioning from a traditional manicured lawn to the one that could:–   Save the efficacy of your lower back–   Eliminate mowing–   Limit watering –  Help our earth and waterways by eschewing added nutrients and lawn chemicals –   Support all rungs of the food chain\, by promoting biodiversity–   Up the ante significantly for both carbon and water absorption–   If you choose\, grow enough highly nutritious food to feed friends family and community We have that power to do this!  \n\n\n\n\nGet Webinar Link
URL:https://turnpurple2blue.org/event/retire-your-lawn-plant-hope-with-judith-black/
CATEGORIES:Action Hours
ATTACH;FMTTYPE=image/png:https://turnpurple2blue.org/wp-content/uploads/2026/02/lawn.png
LOCATION:
END:VEVENT
BEGIN:VEVENT
DTSTART;TZID=America/New_York:20260226T190000
DTEND;TZID=America/New_York:20260226T203000
DTSTAMP:20260421T193825
CREATED:20260219T191936Z
LAST-MODIFIED:20260219T191942Z
UID:10004474-1772132400-1772137800@turnpurple2blue.org
SUMMARY:Paying for the Massachusetts Health Care Trust
DESCRIPTION:Mass-Care: the Massachusetts Campaign for Single Payer Health Care is pleased to announce the release of the economic report: \n\n\n\nFunding Universal Health Care in the Commonwealth of Massachusetts \n\n\n\nby Auden Cote-L’Heureux and Gerald Friedman \n\n\n\nThis is a report on the results of implementing An Act Establishing Medicare for All in Massachusetts\, H.1405 & S.860. We invite you to read the report linked in the title above and see how tens of billions of dollars could be saved annually through the Health Care Trust. A detailed analysis is done of our current spending\, savings that could be realized\, and expanded coverage to have Universal Health Care. The question of how we pay for it is answered along with showing that 98% of residents would SAVE money. \n\n\n\n\nGet Zoom Link
URL:https://turnpurple2blue.org/event/paying-for-the-massachusetts-health-care-trust/
CATEGORIES:Action Hours
ATTACH;FMTTYPE=image/png:https://turnpurple2blue.org/wp-content/uploads/2026/02/masscare.png
LOCATION:
END:VEVENT
BEGIN:VEVENT
DTSTART;TZID=America/New_York:20260226T190000
DTEND;TZID=America/New_York:20260226T210000
DTSTAMP:20260421T193825
CREATED:20260210T132108Z
LAST-MODIFIED:20260210T132113Z
UID:10004322-1772132400-1772139600@turnpurple2blue.org
SUMMARY:Candidate Night Social Congressional District MA-6 | Event in Boxford
DESCRIPTION:Join us as we welcome the Democratic candidates running for Congressional District MA-6. \n\n\n\n\n\n\n\nAfter introductions and a couple of group questions\, candidates will move around the room to engage in one-on-one and in small group discussions. Attendees will have the opportunity to speak with the candidates\, ask questions\, discuss issues\, and get to know each candidate better. \n\n\n\n\n\n\n\n\nRegister for Details
URL:https://turnpurple2blue.org/event/candidate-night-social-congressional-district-ma-6-event-in-boxford/
LOCATION:Private Address\, Boxford\, Boxford\, Massachusetts\, 01921\, United States
CATEGORIES:Community Gatherings
ATTACH;FMTTYPE=image/avif:https://turnpurple2blue.org/wp-content/uploads/2026/02/Feb-2026_20251120202251277290.png-2.avif
ORGANIZER;CN="Our Community Indivisible":MAILTO:OurCommunityIndivisible@gmail.com
END:VEVENT
END:VCALENDAR