BEGIN:VCALENDAR
VERSION:2.0
PRODID:-//Turn Purple 2 Blue - ECPv6.15.20//NONSGML v1.0//EN
CALSCALE:GREGORIAN
METHOD:PUBLISH
X-ORIGINAL-URL:https://turnpurple2blue.org
X-WR-CALDESC:Events for Turn Purple 2 Blue
REFRESH-INTERVAL;VALUE=DURATION:PT1H
X-Robots-Tag:noindex
X-PUBLISHED-TTL:PT1H
BEGIN:VTIMEZONE
TZID:America/New_York
BEGIN:DAYLIGHT
TZOFFSETFROM:-0500
TZOFFSETTO:-0400
TZNAME:EDT
DTSTART:20250309T070000
END:DAYLIGHT
BEGIN:STANDARD
TZOFFSETFROM:-0400
TZOFFSETTO:-0500
TZNAME:EST
DTSTART:20251102T060000
END:STANDARD
BEGIN:DAYLIGHT
TZOFFSETFROM:-0500
TZOFFSETTO:-0400
TZNAME:EDT
DTSTART:20260308T070000
END:DAYLIGHT
BEGIN:STANDARD
TZOFFSETFROM:-0400
TZOFFSETTO:-0500
TZNAME:EST
DTSTART:20261101T060000
END:STANDARD
BEGIN:DAYLIGHT
TZOFFSETFROM:-0500
TZOFFSETTO:-0400
TZNAME:EDT
DTSTART:20270314T070000
END:DAYLIGHT
BEGIN:STANDARD
TZOFFSETFROM:-0400
TZOFFSETTO:-0500
TZNAME:EST
DTSTART:20271107T060000
END:STANDARD
END:VTIMEZONE
BEGIN:VEVENT
DTSTART;TZID=America/New_York:20260228T080000
DTEND;TZID=America/New_York:20260301T170000
DTSTAMP:20260422T194509
CREATED:20260216T171234Z
LAST-MODIFIED:20260216T171239Z
UID:10004402-1772265600-1772384400@turnpurple2blue.org
SUMMARY:Grassroots Campaign Training 2026 | Multiple Dates & Locations
DESCRIPTION:Mass Alliance’s signature Grassroots Campaign Training\, is a comprehensive two-day bootcamp that will teach you all you need to know to run and win a grassroots campaign for public office  including mailers\, GOTV planning\, fundraising\, messaging\, social media\, and more. Link to application: tinyurl.com/gct26ma \n\n\n\n\n\n\n\nTraining Dates / Locations: \n\n\n\nFeb 28-Mar 1 Worcester (Deadline to apply: Feb 12) \n\n\n\nMar 14-15 Lynn (Deadline to apply:  Feb 27) \n\n\n\nMar 21-22 Springfield (Deadline to apply: Mar 5) \n\n\n\nApril 11-12 Quincy (Deadline to apply: Mar 2) \n\n\n\n\n\n\n\nRegistration Fee   $200 \n\n\n\nRegistration Fee + Scholarship Fund Contribution: $250 \n\n\n\n(Sliding scale available) \n\n\n\n\n\n\n\nBreakfast & Lunch Provided \n\n\n\n\n\n\n\nWe will review your application and contact you within a week with payment instructions upon submitting this form.  Location will be provided upon registration. \n\n\n\n\n\n\n\nPlease e-mail contact@massalliance.org for additional information.  \n\n\n\n\n\n\n\n\nRegister for Details\n\n\n\n\n\n\n\n\nA core principle behind all Indivisible events is a commitment to nonviolent action. We expect all participants to seek to de-escalate any potential confrontation with those who disagree with our values. 
URL:https://turnpurple2blue.org/event/grassroots-campaign-training-2026-multiple-dates-locations/2026-02-28/
LOCATION:Various Locations – Register for Details
CATEGORIES:Action Hours,Community Gatherings
ATTACH;FMTTYPE=image/png:https://turnpurple2blue.org/wp-content/uploads/2026/02/GCT-26-Social-Media-Post-768x994-1.png
END:VEVENT
BEGIN:VEVENT
DTSTART;TZID=America/New_York:20260301T120000
DTEND;TZID=America/New_York:20260301T130000
DTSTAMP:20260422T194509
CREATED:20251106T181737Z
LAST-MODIFIED:20251106T181741Z
UID:10003067-1772366400-1772370000@turnpurple2blue.org
SUMMARY:Patriots Standing Up for Democracy!
DESCRIPTION:This a local Indivisible event! EVERY SUNDAY! Noon to 1:30pm will be standing out to show resistance against the fascist regime that is trying to take over our country! Join us if you care! \n\n\n\nThis is a weekly local Indivisible event! \n\n\n\nWe are Patriots Standing Up for Democracy! We will be at the Barre Common on Rt. 122 every Sunday from noon to 1:30pm. Please bring your signs or banners and join us! All are welcome! We have copies of the U.S. Constitution and pins available. \n\n\n\n\nRSVP for updates\n\n\n\n\nWe will happily take a donation for the Barre Food Pantry. Now more than ever we need to help those in need. \n\n\n\nWe stand at the Town Common on Route 122 which passes right through where we stand. We are directly across from the Town Band Stand. This spot is at the corner of Barre Road and School St. where Route 62 ends. \n\n\n\nA core principle behind all Indivisible events is a commitment to nonviolent action. We expect all participants to seek to de-escalate any potential confrontation with those who disagree with our values.
URL:https://turnpurple2blue.org/event/patriots-standing-up-for-democracy-3/2026-03-01/
LOCATION:Barre Town Common\, MA-122\, Barre\, Massachusetts\, 01005
CATEGORIES:Protests
ATTACH;FMTTYPE=image/png:https://turnpurple2blue.org/wp-content/uploads/2025/03/rsvp-now.png
GEO:42.4221367;-72.1027056
X-APPLE-STRUCTURED-LOCATION;VALUE=URI;X-ADDRESS=Barre Town Common MA-122 Barre Massachusetts 01005;X-APPLE-RADIUS=500;X-TITLE=MA-122:geo:-72.1027056,42.4221367
END:VEVENT
BEGIN:VEVENT
DTSTART;TZID=America/New_York:20260301T120000
DTEND;TZID=America/New_York:20260301T130000
DTSTAMP:20260422T194510
CREATED:20260301T135902Z
LAST-MODIFIED:20260301T135908Z
UID:10004510-1772366400-1772370000@turnpurple2blue.org
SUMMARY:Scituate Rally to protest WAR with Iran!
DESCRIPTION:The good troublemakers of Southeastern Mass are having an emergency rally to to protest WAR with Iran in Scituate. Come spend some time with your friends and people of like mind to stand in solidarity in these turbulent times.  As always\, good Troublemaker events are family-friendly\, so keep your signs rated G.  If you don’t have a sign\, not to worry\, we have plenty. Come and bring all your friends. \n\n\n\n\nSign up for Updates
URL:https://turnpurple2blue.org/event/scituate-rally-to-protest-war-with-iran/
LOCATION:Lawson Common\, 310 First Parish Road\, Scituate\, Massachusetts\, 02066
CATEGORIES:Protests
ATTACH;FMTTYPE=image/png:https://turnpurple2blue.org/wp-content/uploads/2026/03/protest-war-with-iran.png
END:VEVENT
BEGIN:VEVENT
DTSTART;TZID=America/New_York:20260301T130000
DTEND;TZID=America/New_York:20260301T140000
DTSTAMP:20260422T194510
CREATED:20260217T150232Z
LAST-MODIFIED:20260217T150237Z
UID:10004429-1772370000-1772373600@turnpurple2blue.org
SUMMARY:Signs of Fascism | Sign-Holding Event
DESCRIPTION:Signs of Fascism is a unique visibility event where specific examples on signs can help get through to people what’s being lost. For example “Ignoring Due Process”\, “Controlling Media”. Indivisible in Melrose Wakefield and Beyond has a set of 24 different signs – come hold one with us!  \n\n\n\n\n\n\n\nWear a warm coat (ideally black) and join us holding signs\, light snow or drizzle. See the video from our 12/14/25 (set to the song Bella Ciao https://drive.google.com/file/d/1mtDXFnOpDgB1bfQuxg70hOlaL_KIwA7Z/view?usp=sharing \n\n\n\n\n\n\n\n\nRegister for Details/Updates\n\n\n\n\n\n\n\n\nA core principle behind all Indivisible events is a commitment to nonviolent action. We expect all participants to seek to de-escalate any potential confrontation with those who disagree with our values.
URL:https://turnpurple2blue.org/event/signs-of-fascism-sign-holding-event/2026-03-01/
LOCATION:Veterans Field\, 468 North Ave\, Wakefield\, Massachusetts\, 01880\, United States
CATEGORIES:Action Hours,Protests
ATTACH;FMTTYPE=image/png:https://turnpurple2blue.org/wp-content/uploads/2025/03/rsvp-now.png
END:VEVENT
BEGIN:VEVENT
DTSTART;TZID=America/New_York:20260301T140000
DTEND;TZID=America/New_York:20260301T160000
DTSTAMP:20260422T194510
CREATED:20260225T152811Z
LAST-MODIFIED:20260225T152816Z
UID:10004498-1772373600-1772380800@turnpurple2blue.org
SUMMARY:Singing Resistance
DESCRIPTION:The Minneapolis singing resistance has been rising to Stop ICE\, and they are calling for singing actions all across the country the weekend of Feb 28/Mar 1. BVOCAL (Boston Voices of Community and Labor) and Boston Area Singing Circles\, along with other local song leaders\, are responding to the call with a Singing Resistance Community Sing to learn the new protest songs in community and get ready to take action through song. All are welcome!
URL:https://turnpurple2blue.org/event/singing-resistance/
LOCATION:SEIU 32BJ Union Hall\, 26 West St. (Downtown Crossing)\, Boston\, Massachusetts\, 02111
CATEGORIES:Action Hours
ATTACH;FMTTYPE=image/png:https://turnpurple2blue.org/wp-content/uploads/2026/02/singing-resistance.png
END:VEVENT
BEGIN:VEVENT
DTSTART;TZID=America/New_York:20260301T150000
DTEND;TZID=America/New_York:20260301T180000
DTSTAMP:20260422T194510
CREATED:20260208T163808Z
LAST-MODIFIED:20260208T164020Z
UID:10004315-1772377200-1772388000@turnpurple2blue.org
SUMMARY:Talk to Our Neighbors About ICE | Phone Bank with SURJ!
DESCRIPTION:Right now is the time to intervene. To step up. To move our people. \n\n\n\n\n\n\n\nAs the Trump Administration continues to deploy violent ICE agents to our nation’s cities\, we remain clear and centered on the following truths: \n\n\n\n\n\n\n\n\nWhite working class Americans have so much to gain by standing in solidarity with our immigrant neighbors.\n\n\n\nTrump’s aggressive and violent deployment of ICE is causing many white working class communities to re-evaluate their views and beliefs on immigration.\n\n\n\nListening-forward conversations that support people to reflect on their values\, feelings and experiences can shift their attitudes\, perspective and behavior.\n\n\n\n\n\n\n\n\nThat’s why we’re channeling these truths into a powerful action that you can take with us. \n\n\n\n\n\n\n\nJoin SURJ to talk to key white working class voters about their feelings on Trump’s immigration policies and deployment of ICE in the key congressional districts that will determine control of the House in the 2026 elections. \n\n\n\n\n\n\n\nTogether\, we can move the needle and build power. No prior experience needed – we’ll provide all the resources\, training and support you need to phone bank with us to have these critical conversations at a critical juncture for shaping public opinion and our society’s commonsense beliefs around immigration policy \n\n\n\n\n\n\n\n\nRegister for Details
URL:https://turnpurple2blue.org/event/talk-to-our-neighbors-about-ice-phone-bank-with-surj/2026-03-01/
LOCATION:Virtual Event – Join from Anywhere
CATEGORIES:Phone Calls
ATTACH;FMTTYPE=image/avif:https://turnpurple2blue.org/wp-content/uploads/2026/02/1-Talk-to-our-Neighbors-about-ICE-Phone-bank-with-SURJ_20260112224925895375.png.avif
END:VEVENT
BEGIN:VEVENT
DTSTART;TZID=America/New_York:20260301T153000
DTEND;TZID=America/New_York:20260301T170000
DTSTAMP:20260422T194510
CREATED:20260213T142700Z
LAST-MODIFIED:20260213T142705Z
UID:10004357-1772379000-1772384400@turnpurple2blue.org
SUMMARY:Activist Afternoons Phone Calls
DESCRIPTION:What comes after calling your state rep and state senator? Getting others to do so as well. \n\n\n\n\nGet Zoom Link\n\n\n\n\nJoin Progressive Mass for our Activist Afternoons phone bank series\, where we will be building our collective power in service of a better Commonwealth for all. \n\n\n\nWe’ll be calling voters about contacting their state legislators about key issues.
URL:https://turnpurple2blue.org/event/activist-afternoons-phone-calls-2/
CATEGORIES:Phone Calls
ATTACH;FMTTYPE=image/png:https://turnpurple2blue.org/wp-content/uploads/2025/04/pm-progressive-afternoons.png
LOCATION:
END:VEVENT
END:VCALENDAR