BEGIN:VCALENDAR
VERSION:2.0
PRODID:-//Turn Purple 2 Blue - ECPv6.15.20//NONSGML v1.0//EN
CALSCALE:GREGORIAN
METHOD:PUBLISH
X-WR-CALNAME:Turn Purple 2 Blue
X-ORIGINAL-URL:https://turnpurple2blue.org
X-WR-CALDESC:Events for Turn Purple 2 Blue
REFRESH-INTERVAL;VALUE=DURATION:PT1H
X-Robots-Tag:noindex
X-PUBLISHED-TTL:PT1H
BEGIN:VTIMEZONE
TZID:America/New_York
BEGIN:DAYLIGHT
TZOFFSETFROM:-0500
TZOFFSETTO:-0400
TZNAME:EDT
DTSTART:20250309T070000
END:DAYLIGHT
BEGIN:STANDARD
TZOFFSETFROM:-0400
TZOFFSETTO:-0500
TZNAME:EST
DTSTART:20251102T060000
END:STANDARD
BEGIN:DAYLIGHT
TZOFFSETFROM:-0500
TZOFFSETTO:-0400
TZNAME:EDT
DTSTART:20260308T070000
END:DAYLIGHT
BEGIN:STANDARD
TZOFFSETFROM:-0400
TZOFFSETTO:-0500
TZNAME:EST
DTSTART:20261101T060000
END:STANDARD
BEGIN:DAYLIGHT
TZOFFSETFROM:-0500
TZOFFSETTO:-0400
TZNAME:EDT
DTSTART:20270314T070000
END:DAYLIGHT
BEGIN:STANDARD
TZOFFSETFROM:-0400
TZOFFSETTO:-0500
TZNAME:EST
DTSTART:20271107T060000
END:STANDARD
END:VTIMEZONE
BEGIN:VEVENT
DTSTART;TZID=America/New_York:20260314T080000
DTEND;TZID=America/New_York:20260315T170000
DTSTAMP:20260423T042750
CREATED:20260216T171234Z
LAST-MODIFIED:20260216T171239Z
UID:10004403-1773475200-1773594000@turnpurple2blue.org
SUMMARY:Grassroots Campaign Training 2026 | Multiple Dates & Locations
DESCRIPTION:Mass Alliance’s signature Grassroots Campaign Training\, is a comprehensive two-day bootcamp that will teach you all you need to know to run and win a grassroots campaign for public office  including mailers\, GOTV planning\, fundraising\, messaging\, social media\, and more. Link to application: tinyurl.com/gct26ma \n\n\n\n\n\n\n\nTraining Dates / Locations: \n\n\n\nFeb 28-Mar 1 Worcester (Deadline to apply: Feb 12) \n\n\n\nMar 14-15 Lynn (Deadline to apply:  Feb 27) \n\n\n\nMar 21-22 Springfield (Deadline to apply: Mar 5) \n\n\n\nApril 11-12 Quincy (Deadline to apply: Mar 2) \n\n\n\n\n\n\n\nRegistration Fee   $200 \n\n\n\nRegistration Fee + Scholarship Fund Contribution: $250 \n\n\n\n(Sliding scale available) \n\n\n\n\n\n\n\nBreakfast & Lunch Provided \n\n\n\n\n\n\n\nWe will review your application and contact you within a week with payment instructions upon submitting this form.  Location will be provided upon registration. \n\n\n\n\n\n\n\nPlease e-mail contact@massalliance.org for additional information.  \n\n\n\n\n\n\n\n\nRegister for Details\n\n\n\n\n\n\n\n\nA core principle behind all Indivisible events is a commitment to nonviolent action. We expect all participants to seek to de-escalate any potential confrontation with those who disagree with our values. 
URL:https://turnpurple2blue.org/event/grassroots-campaign-training-2026-multiple-dates-locations/2026-03-14/
LOCATION:Various Locations – Register for Details
CATEGORIES:Action Hours,Community Gatherings
ATTACH;FMTTYPE=image/png:https://turnpurple2blue.org/wp-content/uploads/2026/02/GCT-26-Social-Media-Post-768x994-1.png
END:VEVENT
BEGIN:VEVENT
DTSTART;TZID=America/New_York:20260315T120000
DTEND;TZID=America/New_York:20260315T130000
DTSTAMP:20260423T042750
CREATED:20251106T181737Z
LAST-MODIFIED:20251106T181741Z
UID:10003069-1773576000-1773579600@turnpurple2blue.org
SUMMARY:Patriots Standing Up for Democracy!
DESCRIPTION:This a local Indivisible event! EVERY SUNDAY! Noon to 1:30pm will be standing out to show resistance against the fascist regime that is trying to take over our country! Join us if you care! \n\n\n\nThis is a weekly local Indivisible event! \n\n\n\nWe are Patriots Standing Up for Democracy! We will be at the Barre Common on Rt. 122 every Sunday from noon to 1:30pm. Please bring your signs or banners and join us! All are welcome! We have copies of the U.S. Constitution and pins available. \n\n\n\n\nRSVP for updates\n\n\n\n\nWe will happily take a donation for the Barre Food Pantry. Now more than ever we need to help those in need. \n\n\n\nWe stand at the Town Common on Route 122 which passes right through where we stand. We are directly across from the Town Band Stand. This spot is at the corner of Barre Road and School St. where Route 62 ends. \n\n\n\nA core principle behind all Indivisible events is a commitment to nonviolent action. We expect all participants to seek to de-escalate any potential confrontation with those who disagree with our values.
URL:https://turnpurple2blue.org/event/patriots-standing-up-for-democracy-3/2026-03-15/
LOCATION:Barre Town Common\, MA-122\, Barre\, Massachusetts\, 01005
CATEGORIES:Protests
ATTACH;FMTTYPE=image/png:https://turnpurple2blue.org/wp-content/uploads/2025/03/rsvp-now.png
GEO:42.4221367;-72.1027056
X-APPLE-STRUCTURED-LOCATION;VALUE=URI;X-ADDRESS=Barre Town Common MA-122 Barre Massachusetts 01005;X-APPLE-RADIUS=500;X-TITLE=MA-122:geo:-72.1027056,42.4221367
END:VEVENT
BEGIN:VEVENT
DTSTART;TZID=America/New_York:20260315T120000
DTEND;TZID=America/New_York:20260315T130000
DTSTAMP:20260423T042750
CREATED:20260314T174302Z
LAST-MODIFIED:20260314T174309Z
UID:10004648-1773576000-1773579600@turnpurple2blue.org
SUMMARY:Rowley Stand Out for Democracy
DESCRIPTION:Show your support for Democracy!  We’ll meet in front of Town Hall. \n\n\n\n\nSign up for updates\n\n\n\n\nA core principle behind all Indivisible events is a commitment to nonviolent action. We expect all participants to seek to de-escalate any potential confrontation with those who disagree with our values.
URL:https://turnpurple2blue.org/event/rowley-stand-out-for-democracy/
LOCATION:Rowley Town Hall\, 139 Main Street\, Rowley\, Massachusetts\, 01969
CATEGORIES:Protests
ATTACH;FMTTYPE=image/png:https://turnpurple2blue.org/wp-content/uploads/2025/10/rowley-nov.png
END:VEVENT
BEGIN:VEVENT
DTSTART;TZID=America/New_York:20260315T143000
DTEND;TZID=America/New_York:20260315T163000
DTSTAMP:20260423T042750
CREATED:20260306T134302Z
LAST-MODIFIED:20260306T134308Z
UID:10004532-1773585000-1773592200@turnpurple2blue.org
SUMMARY:Food Drive and Activist Fair
DESCRIPTION:Activists from four local organizations\, including Indivisible LAB\, are co-sponsoring a Food Drive and Activist Fair. Donations will support Arlington EATS. \n\n\n\nWhile families struggle to eat\, the federal government is pouring billions into ICE\, mass detention\, and deportation. Immigrants are being treated inhumanely\, targeted because of the color of their skin\, and separated from their families. \n\n\n\nPlease consider dropping by to donate food or money to support Arlington EATS – or to learn ways to get involved. Other co-sponsoring groups include LUCE Arlington\, Boston DSA Arlington\, and Arlington for Palestine.
URL:https://turnpurple2blue.org/event/food-drive-and-activist-fair/
LOCATION:Robbins Library\, 700 Massachusetts Ave\, Arlington\, Massachusetts
CATEGORIES:Action Hours
ATTACH;FMTTYPE=image/png:https://turnpurple2blue.org/wp-content/uploads/2026/03/unnamed-8.png
GEO:42.4156643;-71.1551562
X-APPLE-STRUCTURED-LOCATION;VALUE=URI;X-ADDRESS=Robbins Library 700 Massachusetts Ave Arlington Massachusetts;X-APPLE-RADIUS=500;X-TITLE=700 Massachusetts Ave:geo:-71.1551562,42.4156643
END:VEVENT
BEGIN:VEVENT
DTSTART;TZID=America/New_York:20260315T163000
DTEND;TZID=America/New_York:20260315T180000
DTSTAMP:20260423T042750
CREATED:20260213T223728Z
LAST-MODIFIED:20260213T223733Z
UID:10004370-1773592200-1773597600@turnpurple2blue.org
SUMMARY:Activist Afternoons Phone Bank with Progressive Mass: 3/15/26
DESCRIPTION:What comes after calling your state rep and state senator? Getting others to do so as well.  \n\n\n\n\n\n\n\nJoin Progressive Mass for our Activist Afternoons phone bank series\, where we will be building our collective power in service of a better Commonwealth for all.  \n\n\n\n\n\n\n\nWe’ll be calling voters about contacting their state legislators about key issues. \n\n\n\n\n\n\n\n\nRegister for Details\n\n\n\n\n\n\n\n\nA core principle behind all Indivisible events is a commitment to nonviolent action. We expect all participants to seek to de-escalate any potential confrontation with those who disagree with our values.
URL:https://turnpurple2blue.org/event/activist-afternoons-phone-bank-with-progressive-mass-3-15-26/
LOCATION:Virtual Event – Join from Anywhere
CATEGORIES:Phone Calls
ATTACH;FMTTYPE=image/png:https://turnpurple2blue.org/wp-content/uploads/2026/02/open-uri20260208-2127467-1f13z8z.png
END:VEVENT
END:VCALENDAR