BEGIN:VCALENDAR
VERSION:2.0
PRODID:-//Turn Purple 2 Blue - ECPv6.15.17//NONSGML v1.0//EN
CALSCALE:GREGORIAN
METHOD:PUBLISH
X-ORIGINAL-URL:https://turnpurple2blue.org
X-WR-CALDESC:Events for Turn Purple 2 Blue
REFRESH-INTERVAL;VALUE=DURATION:PT1H
X-Robots-Tag:noindex
X-PUBLISHED-TTL:PT1H
BEGIN:VTIMEZONE
TZID:America/New_York
BEGIN:DAYLIGHT
TZOFFSETFROM:-0500
TZOFFSETTO:-0400
TZNAME:EDT
DTSTART:20250309T070000
END:DAYLIGHT
BEGIN:STANDARD
TZOFFSETFROM:-0400
TZOFFSETTO:-0500
TZNAME:EST
DTSTART:20251102T060000
END:STANDARD
BEGIN:DAYLIGHT
TZOFFSETFROM:-0500
TZOFFSETTO:-0400
TZNAME:EDT
DTSTART:20260308T070000
END:DAYLIGHT
BEGIN:STANDARD
TZOFFSETFROM:-0400
TZOFFSETTO:-0500
TZNAME:EST
DTSTART:20261101T060000
END:STANDARD
BEGIN:DAYLIGHT
TZOFFSETFROM:-0500
TZOFFSETTO:-0400
TZNAME:EDT
DTSTART:20270314T070000
END:DAYLIGHT
BEGIN:STANDARD
TZOFFSETFROM:-0400
TZOFFSETTO:-0500
TZNAME:EST
DTSTART:20271107T060000
END:STANDARD
END:VTIMEZONE
BEGIN:VEVENT
DTSTART;TZID=America/New_York:20260317T083000
DTEND;TZID=America/New_York:20260317T100000
DTSTAMP:20260305T062818
CREATED:20260105T175938Z
LAST-MODIFIED:20260105T175944Z
UID:10003813-1773736200-1773741600@turnpurple2blue.org
SUMMARY:Standout at Framingham ISAP Office
DESCRIPTION:Join us as we draw attention to the invasive cruelty of ICE’s ISAP program.  The Intensive Supervision Appearance Program (ISAP) utilizes private contractors to surveil and monitor undocumented neighbors via biometric scans and ankle monitors. \n\n\n\nPark at Life Time Fitness.  Protest on public sidewalk facing the intersection at 10 Speen St.  Signs welcome.
URL:https://turnpurple2blue.org/event/standout-at-framingham-isap-office-2/2026-03-17/
LOCATION:Lifetime Fitness Parking Lot\, 490 Old Connecticut Path\, Framingham\, Massachusetts\, 01701
CATEGORIES:Protests
ATTACH;FMTTYPE=image/png:https://turnpurple2blue.org/wp-content/uploads/2025/10/framingham.png
GEO:42.3128824;-71.3948911
X-APPLE-STRUCTURED-LOCATION;VALUE=URI;X-ADDRESS=Lifetime Fitness Parking Lot 490 Old Connecticut Path Framingham Massachusetts 01701;X-APPLE-RADIUS=500;X-TITLE=490 Old Connecticut Path:geo:-71.3948911,42.3128824
END:VEVENT
BEGIN:VEVENT
DTSTART;TZID=America/New_York:20260317T090000
DTEND;TZID=America/New_York:20260317T110000
DTSTAMP:20260305T062818
CREATED:20260121T233049Z
LAST-MODIFIED:20260121T233054Z
UID:10004013-1773738000-1773745200@turnpurple2blue.org
SUMMARY:Postcard Party
DESCRIPTION:Send hand-written postcards to voters in states that will play a key role in taking back Congress and in electing leaders who will fight back against the current authoritarian regime. Postcards educate voters\, urge them to register to vote\, and urge them to vote for specific candidates in special elections\, primaries\, and the November 2026 mid-term elections. Hand-written postcards have been proven in multiple studies to boost turnout enough to swing elections. Each packet of 15 postcards has everything you need\, and costs $10 to cover stamps and cards for those who can afford it. \n\n\n\n\nRSVP for updates\n\n\n\n\nIt’s more fun to write together\, but if you can’t stay\, you can also stop by and pick up postcards to write at home. 
URL:https://turnpurple2blue.org/event/postcard-party-2/2026-03-17/
LOCATION:Boston Bean\, 102 Main St\, Maynard\, Massachusetts\, 01754
CATEGORIES:Postcard Parties
ATTACH;FMTTYPE=image/png:https://turnpurple2blue.org/wp-content/uploads/2026/01/maynard-postcards.png
END:VEVENT
BEGIN:VEVENT
DTSTART;TZID=America/New_York:20260317T103000
DTEND;TZID=America/New_York:20260317T113000
DTSTAMP:20260305T062818
CREATED:20260118T184517Z
LAST-MODIFIED:20260118T184523Z
UID:10003997-1773743400-1773747000@turnpurple2blue.org
SUMMARY:Stand up for Democracy (Marshfield)
DESCRIPTION:Join the good troublemakers of Southeastern Massachusetts for a flash mob rally in Marshfield Center to protest the Trump regime’s unconstitutional actions in Venezuela. On Sunday\, January 4th at noon\, there will be a rally in Marshfield Center to support democracy and stand up against the unconstitutional Trump regime. \n\n\n\n\nRSVP for updates
URL:https://turnpurple2blue.org/event/stand-up-for-democracy-marshfield-2/2026-03-17/
LOCATION:Roche Bros. Marshfield\, 605 Plain St\, Marshfield\, Massachusetts\, 02050
CATEGORIES:Protests
ATTACH;FMTTYPE=image/png:https://turnpurple2blue.org/wp-content/uploads/2026/01/marshfield-standout.png
GEO:42.1041734;-70.7408652
X-APPLE-STRUCTURED-LOCATION;VALUE=URI;X-ADDRESS=Roche Bros. Marshfield 605 Plain St Marshfield Massachusetts 02050;X-APPLE-RADIUS=500;X-TITLE=605 Plain St:geo:-70.7408652,42.1041734
END:VEVENT
BEGIN:VEVENT
DTSTART;TZID=America/New_York:20260317T110000
DTEND;TZID=America/New_York:20260317T130000
DTSTAMP:20260305T062818
CREATED:20260204T220810Z
LAST-MODIFIED:20260204T221027Z
UID:10004281-1773745200-1773752400@turnpurple2blue.org
SUMMARY:Fix ICE!
DESCRIPTION:Come join us Monday and Tuesday 11-1 to protest ICE cruelties. \n\n\n\nWhere: Burlington\, MA: From 11–12 we hold signs on a busy street to communicate our message publicly\, and from 12–1 we gather outside the ICE office for a more informal time of signs\, speaking out\, connection\, and visible solidarity with immigrants while making our presence known to ICE.What to bring: A sign!Meeting point: Corner of Burlington Mall Road and District Ave\, closest to Pressed Cafe.After: Optionally join us for lunch at Pressed Cafe. \n\n\n\nParking near 1000 District Ave\, Burlington \n\n\n\nICE Jail\n\n\n\nFor a deep look at what happens inside ICE detention\, visit the full resource at https://bearingwitnessne.org/inside-ice \n\n\n\nInteractions\n\n\n\n\nImmigrants who are fortunate to leave the facility have shown gratitude for our presence and some share their stories with us.\n\n\n\nICE agents tend to cover their faces with masks\, many record us with their phones\, others give a satisfied smile or laugh\, they rarely say anything.\n\n\n\nThe security officers stationed at the front of the building have not hassled us.\n\n\n\nPassersby from nearby businesses often thank us for being there\, and many have shared that they never knew this was an ICE facility.\n\n\n\n\nParking for District Ave Protests\n\n\n\nThere is parking at busineses and on the street\, but there are risks. See information about where parking is officially allowed and the risk of being towed in the District Ave Area on the What to Expect page of the Bearing Witness page. Note that no one has been towed since Jared and Laurie started protesting in April 2025. In order to be legally towned\, Massachusetts General Laws Chapter 266\, Section 120D specifies that in order for towing to occur you need to be warned by a sign or a person that parking is restricted. In addition\, the owner of the property must get permission from the chief of police or designee and provide certain information.
URL:https://turnpurple2blue.org/event/fix-ice-2/2026-03-17/
LOCATION:Massachusetts
CATEGORIES:Protests
ATTACH;FMTTYPE=image/png:https://turnpurple2blue.org/wp-content/uploads/2026/02/Judged-by-appearance.png
END:VEVENT
BEGIN:VEVENT
DTSTART;TZID=America/New_York:20260317T180000
DTEND;TZID=America/New_York:20260317T190000
DTSTAMP:20260305T062818
CREATED:20260203T195318Z
LAST-MODIFIED:20260203T200240Z
UID:10004142-1773770400-1773774000@turnpurple2blue.org
SUMMARY:Texting Tuesdays | Virtual Text Bank
DESCRIPTION:Join us on Zoom at 6pm ET/5pm CT every week as we gather to drive change through digital organizing. Our texting campaigns will give you the opportunity to engage residents across the U.S. while empowering them to make a positive impact in their communities. Last year\, we sent over 19 million texts educating residents on local elections\, environmental justice\, police reform\, health care\, and so much more! During the event we will provide training\, discuss our latest texting campaign\, and we will take action. \n\n\n\n\n\n\n\nA basic Zoom account is required to register. \n\n\n\n\n\n\n\n\nRegister for Details
URL:https://turnpurple2blue.org/event/texting-tuesdays-virtual-text-bank/2026-03-17/
LOCATION:Virtual Event – Join from Anywhere
CATEGORIES:Phone Calls
ATTACH;FMTTYPE=image/avif:https://turnpurple2blue.org/wp-content/uploads/2026/02/Volunteer-Flyer-2.0_20260126183152062271.avif
END:VEVENT
BEGIN:VEVENT
DTSTART;TZID=America/New_York:20260317T180000
DTEND;TZID=America/New_York:20260317T200000
DTSTAMP:20260305T062818
CREATED:20251230T192157Z
LAST-MODIFIED:20251230T192203Z
UID:10003479-1773770400-1773777600@turnpurple2blue.org
SUMMARY:Phone Bank to Protect Voting Rights
DESCRIPTION:Join Common Cause for an important phone bank as we mobilize voters to take action against dangerous legislation in state houses and Congress. We will focus on the most urgent campaigns that need our help. Some of these campaigns may include stopping bills that will make it harder for millions of Americans—especially students\, seniors\, and veterans—to cast their ballots. We need your help to ensure voters across the country call their elected representatives and make their voices heard. \n\n\n\nNo prior experience is necessary—our team will provide full training at the start of each shift! \n\n\n\n\nGet Link\n\n\n\n\nWhat to Expect:\n\n\n\n\nA step-by-step walkthrough of our Phone Dialer tools.\n\n\n\nExpert tips on effective communication with voters.\n\n\n\nOpportunities to ask questions and connect with other like-minded volunteers.\n\n\n\n\nSign up today and take the first step toward empowering voters and protecting democracy in 2025!
URL:https://turnpurple2blue.org/event/phone-bank-to-protect-voting-rights/2026-03-17/
LOCATION:
CATEGORIES:Phone Calls
ATTACH;FMTTYPE=image/png:https://turnpurple2blue.org/wp-content/uploads/2025/12/phone-bank-with-common-cause.png
END:VEVENT
BEGIN:VEVENT
DTSTART;TZID=America/New_York:20260317T183000
DTEND;TZID=America/New_York:20260317T200000
DTSTAMP:20260305T062818
CREATED:20260224T215844Z
LAST-MODIFIED:20260224T215849Z
UID:10004484-1773772200-1773777600@turnpurple2blue.org
SUMMARY:Community Action Nights
DESCRIPTION:Looking to find your way to action? Join this lovely group of “doers” and support these awesome businesses! Last session we learned about Indivisible Groups\, LUCE and CASA actions\, and wrote 47 postcards! Questions? Email info@massgain.org and we’ll connect you\, or reach out to Hygge House Books or Craftlab!
URL:https://turnpurple2blue.org/event/community-action-nights/2026-03-17/
LOCATION:Craft Lab\, 3 Summer St\, Westborough\, Massachusetts\, 01581
CATEGORIES:Action Hours
ATTACH;FMTTYPE=image/png:https://turnpurple2blue.org/wp-content/uploads/2026/02/community-action-nights.png
END:VEVENT
BEGIN:VEVENT
DTSTART;TZID=America/New_York:20260317T190000
DTEND;TZID=America/New_York:20260329T213000
DTSTAMP:20260305T062818
CREATED:20250909T163930Z
LAST-MODIFIED:20251009T203141Z
UID:10002624-1773774000-1774819800@turnpurple2blue.org
SUMMARY:Suffs
DESCRIPTION:BEHIND EVERY POWERFUL WOMAN… ARE MORE POWERFUL WOMEN. \n\n\n\n\nBuy Tickets\n\n\n\n\nDirect from Broadway\, comes the acclaimed Tony Award®-winning musical SUFFS about the brilliant\, passionate\, and funny American women who fought tirelessly for the right to vote. Created by Shaina Taub\, the first woman to ever independently win Tony Awards for Best Book and Best Score in the same season\, this “thrilling\, inspiring and dazzlingly entertaining” (Variety) new musical boldly explores the triumphs and failures of a struggle for equality that’s far from over. Winner of the Outer Critics’ Circle Award for Best New Musical. \n\n\n\n“Like all of the best Broadway musicals\, Suffs humanizes\, empowers\, moves\, and entertains.” (Chicago Tribune)
URL:https://turnpurple2blue.org/event/suffs/
LOCATION:Emerson Colonial Theatre\, 106 Boylston St\, Boston\, Massachusetts\, 02116
CATEGORIES:Community Gatherings
ATTACH;FMTTYPE=image/png:https://turnpurple2blue.org/wp-content/uploads/2025/09/suffs.png
GEO:42.3522621;-71.0653971
X-APPLE-STRUCTURED-LOCATION;VALUE=URI;X-ADDRESS=Emerson Colonial Theatre 106 Boylston St Boston Massachusetts 02116;X-APPLE-RADIUS=500;X-TITLE=106 Boylston St:geo:-71.0653971,42.3522621
END:VEVENT
END:VCALENDAR