BEGIN:VCALENDAR
VERSION:2.0
PRODID:-//Turn Purple 2 Blue - ECPv6.15.20//NONSGML v1.0//EN
CALSCALE:GREGORIAN
METHOD:PUBLISH
X-WR-CALNAME:Turn Purple 2 Blue
X-ORIGINAL-URL:https://turnpurple2blue.org
X-WR-CALDESC:Events for Turn Purple 2 Blue
REFRESH-INTERVAL;VALUE=DURATION:PT1H
X-Robots-Tag:noindex
X-PUBLISHED-TTL:PT1H
BEGIN:VTIMEZONE
TZID:America/New_York
BEGIN:DAYLIGHT
TZOFFSETFROM:-0500
TZOFFSETTO:-0400
TZNAME:EDT
DTSTART:20250309T070000
END:DAYLIGHT
BEGIN:STANDARD
TZOFFSETFROM:-0400
TZOFFSETTO:-0500
TZNAME:EST
DTSTART:20251102T060000
END:STANDARD
BEGIN:DAYLIGHT
TZOFFSETFROM:-0500
TZOFFSETTO:-0400
TZNAME:EDT
DTSTART:20260308T070000
END:DAYLIGHT
BEGIN:STANDARD
TZOFFSETFROM:-0400
TZOFFSETTO:-0500
TZNAME:EST
DTSTART:20261101T060000
END:STANDARD
BEGIN:DAYLIGHT
TZOFFSETFROM:-0500
TZOFFSETTO:-0400
TZNAME:EDT
DTSTART:20270314T070000
END:DAYLIGHT
BEGIN:STANDARD
TZOFFSETFROM:-0400
TZOFFSETTO:-0500
TZNAME:EST
DTSTART:20271107T060000
END:STANDARD
END:VTIMEZONE
BEGIN:VEVENT
DTSTART;TZID=America/New_York:20260317T190000
DTEND;TZID=America/New_York:20260329T213000
DTSTAMP:20260420T064544
CREATED:20250909T163930Z
LAST-MODIFIED:20251009T203141Z
UID:10002624-1773774000-1774819800@turnpurple2blue.org
SUMMARY:Suffs
DESCRIPTION:BEHIND EVERY POWERFUL WOMAN… ARE MORE POWERFUL WOMEN. \n\n\n\n\nBuy Tickets\n\n\n\n\nDirect from Broadway\, comes the acclaimed Tony Award®-winning musical SUFFS about the brilliant\, passionate\, and funny American women who fought tirelessly for the right to vote. Created by Shaina Taub\, the first woman to ever independently win Tony Awards for Best Book and Best Score in the same season\, this “thrilling\, inspiring and dazzlingly entertaining” (Variety) new musical boldly explores the triumphs and failures of a struggle for equality that’s far from over. Winner of the Outer Critics’ Circle Award for Best New Musical. \n\n\n\n“Like all of the best Broadway musicals\, Suffs humanizes\, empowers\, moves\, and entertains.” (Chicago Tribune)
URL:https://turnpurple2blue.org/event/suffs/
LOCATION:Emerson Colonial Theatre\, 106 Boylston St\, Boston\, Massachusetts\, 02116
CATEGORIES:Community Gatherings
ATTACH;FMTTYPE=image/png:https://turnpurple2blue.org/wp-content/uploads/2025/09/suffs.png
GEO:42.3522621;-71.0653971
X-APPLE-STRUCTURED-LOCATION;VALUE=URI;X-ADDRESS=Emerson Colonial Theatre 106 Boylston St Boston Massachusetts 02116;X-APPLE-RADIUS=500;X-TITLE=106 Boylston St:geo:-71.0653971,42.3522621
END:VEVENT
BEGIN:VEVENT
DTSTART;TZID=America/New_York:20260323T110000
DTEND;TZID=America/New_York:20260323T130000
DTSTAMP:20260420T064544
CREATED:20260204T220541Z
LAST-MODIFIED:20260204T220547Z
UID:10004258-1774263600-1774270800@turnpurple2blue.org
SUMMARY:Fix ICE
DESCRIPTION:Come join us Monday and Tuesday 11-1 to protest ICE cruelties. \n\n\n\nWhere: Burlington\, MA: From 11–12 we hold signs on a busy street to communicate our message publicly\, and from 12–1 we gather outside the ICE office for a more informal time of signs\, speaking out\, connection\, and visible solidarity with immigrants while making our presence known to ICE.What to bring: A sign!Meeting point: Corner of Burlington Mall Road and District Ave\, closest to Pressed Cafe.After: Optionally join us for lunch at Pressed Cafe. \n\n\n\nParking near 1000 District Ave\, Burlington \n\n\n\nICE Jail\n\n\n\nFor a deep look at what happens inside ICE detention\, visit the full resource at https://bearingwitnessne.org/inside-ice \n\n\n\nInteractions\n\n\n\n\nImmigrants who are fortunate to leave the facility have shown gratitude for our presence and some share their stories with us.\n\n\n\nICE agents tend to cover their faces with masks\, many record us with their phones\, others give a satisfied smile or laugh\, they rarely say anything.\n\n\n\nThe security officers stationed at the front of the building have not hassled us.\n\n\n\nPassersby from nearby businesses often thank us for being there\, and many have shared that they never knew this was an ICE facility.\n\n\n\n\nParking for District Ave Protests\n\n\n\nThere is parking at busineses and on the street\, but there are risks. See information about where parking is officially allowed and the risk of being towed in the District Ave Area on the What to Expect page of the Bearing Witness page. Note that no one has been towed since Jared and Laurie started protesting in April 2025. In order to be legally towned\, Massachusetts General Laws Chapter 266\, Section 120D specifies that in order for towing to occur you need to be warned by a sign or a person that parking is restricted. In addition\, the owner of the property must get permission from the chief of police or designee and provide certain information.
URL:https://turnpurple2blue.org/event/fix-ice/2026-03-23/
LOCATION:MA
CATEGORIES:Protests
ATTACH;FMTTYPE=image/png:https://turnpurple2blue.org/wp-content/uploads/2026/02/Judged-by-appearance.png
END:VEVENT
BEGIN:VEVENT
DTSTART;TZID=America/New_York:20260323T180000
DTEND;TZID=America/New_York:20260323T190000
DTSTAMP:20260420T064544
CREATED:20260314T183738Z
LAST-MODIFIED:20260320T151755Z
UID:10004654-1774288800-1774292400@turnpurple2blue.org
SUMMARY:Know Your Rights: Protest Rights and Safety Practices (for all No Kings Attendees)
DESCRIPTION:In this ACLU-led training\, participants will learn about the Constitutional right to peacefully protest and about best practices for reducing risks when attending protests like the upcoming No Kings mobilization on March 28. \n\n\n\n\nRSVP for zoom link\n\n\n\n\nBy registering for this event\, you agree: (1) that Indivisible and ACLU can contact you about No Kings and other ways to take action or support their organizations and otherwise use any data collected from or about you on this form according to the applicable privacy policy: Indivisible Privacy Policy (https://indivisible.org/privacy-policy) and ACLU’s Privacy Statement (https://www.aclu.org/about/privacy/statement); and (2) subject to its privacy policy\, Indivisible may also share the information you provide to other No Kings partner organizations\, which may also contact you.
URL:https://turnpurple2blue.org/event/know-your-rights-protest-rights-and-safety-practices-for-all-no-kings-attendees-2/
LOCATION:
CATEGORIES:Action Hours
ATTACH;FMTTYPE=image/png:https://turnpurple2blue.org/wp-content/uploads/2026/03/know-your-rights-mar-23-call.png
END:VEVENT
BEGIN:VEVENT
DTSTART;TZID=America/New_York:20260323T190000
DTEND;TZID=America/New_York:20260323T203000
DTSTAMP:20260420T064544
CREATED:20260316T131511Z
LAST-MODIFIED:20260316T131516Z
UID:10004684-1774292400-1774297800@turnpurple2blue.org
SUMMARY:No Kings Sign Making Party
DESCRIPTION:Join us to make signs (it’s VERY stress relieving!) to prepare for No Kings 3. We’ll provide the materials and light snacks\, and some great ideas\, you come with your creativity. NO art skills required…just a desire to make you voice SEEN and HEARD!
URL:https://turnpurple2blue.org/event/no-kings-sign-making-party/
LOCATION:Northborough Free Library\, 34 Main St\, Northborough\, Massachusetts\, 01532
CATEGORIES:Action Hours
ATTACH;FMTTYPE=image/png:https://turnpurple2blue.org/wp-content/uploads/2025/10/GAIN.png
END:VEVENT
BEGIN:VEVENT
DTSTART;TZID=America/New_York:20260323T190000
DTEND;TZID=America/New_York:20260323T203000
DTSTAMP:20260420T064544
CREATED:20260323T210046Z
LAST-MODIFIED:20260323T210051Z
UID:10004703-1774292400-1774297800@turnpurple2blue.org
SUMMARY:Brockton Singing Resistance rehearsal
DESCRIPTION:I want SINGING at NO KINGS Brockton! Twin Cities Singing Resistance paved the way\, and other singing resistance groups are being organized. Brockton Singing Resistance will sing right here at NO KINGS on Hancock Field on March 28. All voices welcome! Come to either or both of the Mon 3/23 and Tues 3/24 rehearsals. This will be different from a choir. Choirs perform for listeners. Brockton Singing Resistance exists to help other people sing – so I hope there will be no performers or listeners\, but only singers! If you can’t make either one and feel confident in your singing\, just contact me at brocktonindivisible@gmail.com and say so. Learn the songs from Youtube playlist and Google Doc linked below. Then show up at Hancock Field at noon! We will choose what we want to sing from the songs on the playlist linked when we meet Monday and Tuesday evening. \n\n\n\n\nRSVP for exact location\n\n\n\n\nPlaylist: https://www.youtube.com/playlist?list=PLxDLY6nI0HgYyPT9I9I5200zL0Hx2Bb3G \n\n\n\nGoogle Doc with lyrics: https://docs.google.com/document/d/1Gfig_HmMPAtTHibJcvXyfkwTGEtgqZP74WaokebjT9Q/edit?usp=sharing \n\n\n\nA core principle behind all Indivisible events is a commitment to nonviolent action. We expect all participants to seek to de-escalate any potential confrontation with those who disagree with our values.
URL:https://turnpurple2blue.org/event/brockton-singing-resistance-rehearsal/2026-03-23/
LOCATION:Brockton Private Address\, Brockton\, Massachusetts
CATEGORIES:Action Hours
ATTACH;FMTTYPE=image/png:https://turnpurple2blue.org/wp-content/uploads/2026/03/Singing-resistance-2.png
END:VEVENT
BEGIN:VEVENT
DTSTART;TZID=America/New_York:20260323T193000
DTEND;TZID=America/New_York:20260323T210000
DTSTAMP:20260420T064544
CREATED:20260316T194149Z
LAST-MODIFIED:20260316T194458Z
UID:10004053-1774294200-1774299600@turnpurple2blue.org
SUMMARY:Training: Peacekeeping at Protests
DESCRIPTION:Protests\, rallies\, and marches are important tactics to fight back against the Trump Administration. Volunteer peacekeepers help ensure the intended message is delivered by keeping the event safe. Peacekeepers may direct traffic\, de-escalate conflict if there are counter protesters\, and support the success of the action. There is a significant need for more peacekeepers. There are a range of roles for volunteers who complete the training. \n\n\n\n\nGet Zoom Link\n\n\n\n\nJoin this virtual one hour training by experienced peacekeeper Elaine Almquist. The training will cover: \n\n\n\nCommitment to non-violence\, the purpose of peacekeeping\, planning for safety\, peacekeeping positioning\, how peacekeeping differs from other roles\, de-escalation\, and debriefing.
URL:https://turnpurple2blue.org/event/training-peacekeeping-at-protests-2/2026-03-23/
LOCATION:
CATEGORIES:Action Hours
ATTACH;FMTTYPE=image/png:https://turnpurple2blue.org/wp-content/uploads/2026/01/protest-boston.png
END:VEVENT
END:VCALENDAR