BEGIN:VCALENDAR
VERSION:2.0
PRODID:-//Turn Purple 2 Blue - ECPv6.15.20//NONSGML v1.0//EN
CALSCALE:GREGORIAN
METHOD:PUBLISH
X-ORIGINAL-URL:https://turnpurple2blue.org
X-WR-CALDESC:Events for Turn Purple 2 Blue
REFRESH-INTERVAL;VALUE=DURATION:PT1H
X-Robots-Tag:noindex
X-PUBLISHED-TTL:PT1H
BEGIN:VTIMEZONE
TZID:America/New_York
BEGIN:DAYLIGHT
TZOFFSETFROM:-0500
TZOFFSETTO:-0400
TZNAME:EDT
DTSTART:20250309T070000
END:DAYLIGHT
BEGIN:STANDARD
TZOFFSETFROM:-0400
TZOFFSETTO:-0500
TZNAME:EST
DTSTART:20251102T060000
END:STANDARD
BEGIN:DAYLIGHT
TZOFFSETFROM:-0500
TZOFFSETTO:-0400
TZNAME:EDT
DTSTART:20260308T070000
END:DAYLIGHT
BEGIN:STANDARD
TZOFFSETFROM:-0400
TZOFFSETTO:-0500
TZNAME:EST
DTSTART:20261101T060000
END:STANDARD
BEGIN:DAYLIGHT
TZOFFSETFROM:-0500
TZOFFSETTO:-0400
TZNAME:EDT
DTSTART:20270314T070000
END:DAYLIGHT
BEGIN:STANDARD
TZOFFSETFROM:-0400
TZOFFSETTO:-0500
TZNAME:EST
DTSTART:20271107T060000
END:STANDARD
END:VTIMEZONE
BEGIN:VEVENT
DTSTART;TZID=America/New_York:20260317T190000
DTEND;TZID=America/New_York:20260329T213000
DTSTAMP:20260421T151158
CREATED:20250909T163930Z
LAST-MODIFIED:20251009T203141Z
UID:10002624-1773774000-1774819800@turnpurple2blue.org
SUMMARY:Suffs
DESCRIPTION:BEHIND EVERY POWERFUL WOMAN… ARE MORE POWERFUL WOMEN. \n\n\n\n\nBuy Tickets\n\n\n\n\nDirect from Broadway\, comes the acclaimed Tony Award®-winning musical SUFFS about the brilliant\, passionate\, and funny American women who fought tirelessly for the right to vote. Created by Shaina Taub\, the first woman to ever independently win Tony Awards for Best Book and Best Score in the same season\, this “thrilling\, inspiring and dazzlingly entertaining” (Variety) new musical boldly explores the triumphs and failures of a struggle for equality that’s far from over. Winner of the Outer Critics’ Circle Award for Best New Musical. \n\n\n\n“Like all of the best Broadway musicals\, Suffs humanizes\, empowers\, moves\, and entertains.” (Chicago Tribune)
URL:https://turnpurple2blue.org/event/suffs/
LOCATION:Emerson Colonial Theatre\, 106 Boylston St\, Boston\, Massachusetts\, 02116
CATEGORIES:Community Gatherings
ATTACH;FMTTYPE=image/png:https://turnpurple2blue.org/wp-content/uploads/2025/09/suffs.png
GEO:42.3522621;-71.0653971
X-APPLE-STRUCTURED-LOCATION;VALUE=URI;X-ADDRESS=Emerson Colonial Theatre 106 Boylston St Boston Massachusetts 02116;X-APPLE-RADIUS=500;X-TITLE=106 Boylston St:geo:-71.0653971,42.3522621
END:VEVENT
BEGIN:VEVENT
DTSTART;TZID=America/New_York:20260324T083000
DTEND;TZID=America/New_York:20260324T100000
DTSTAMP:20260421T151158
CREATED:20260105T175938Z
LAST-MODIFIED:20260105T175944Z
UID:10003814-1774341000-1774346400@turnpurple2blue.org
SUMMARY:Standout at Framingham ISAP Office
DESCRIPTION:Join us as we draw attention to the invasive cruelty of ICE’s ISAP program.  The Intensive Supervision Appearance Program (ISAP) utilizes private contractors to surveil and monitor undocumented neighbors via biometric scans and ankle monitors. \n\n\n\nPark at Life Time Fitness.  Protest on public sidewalk facing the intersection at 10 Speen St.  Signs welcome.
URL:https://turnpurple2blue.org/event/standout-at-framingham-isap-office-2/2026-03-24/
LOCATION:Lifetime Fitness Parking Lot\, 490 Old Connecticut Path\, Framingham\, Massachusetts\, 01701
CATEGORIES:Protests
ATTACH;FMTTYPE=image/png:https://turnpurple2blue.org/wp-content/uploads/2025/10/framingham.png
GEO:42.3128824;-71.3948911
X-APPLE-STRUCTURED-LOCATION;VALUE=URI;X-ADDRESS=Lifetime Fitness Parking Lot 490 Old Connecticut Path Framingham Massachusetts 01701;X-APPLE-RADIUS=500;X-TITLE=490 Old Connecticut Path:geo:-71.3948911,42.3128824
END:VEVENT
BEGIN:VEVENT
DTSTART;TZID=America/New_York:20260324T090000
DTEND;TZID=America/New_York:20260324T110000
DTSTAMP:20260421T151158
CREATED:20260121T233049Z
LAST-MODIFIED:20260121T233054Z
UID:10004014-1774342800-1774350000@turnpurple2blue.org
SUMMARY:Postcard Party
DESCRIPTION:Send hand-written postcards to voters in states that will play a key role in taking back Congress and in electing leaders who will fight back against the current authoritarian regime. Postcards educate voters\, urge them to register to vote\, and urge them to vote for specific candidates in special elections\, primaries\, and the November 2026 mid-term elections. Hand-written postcards have been proven in multiple studies to boost turnout enough to swing elections. Each packet of 15 postcards has everything you need\, and costs $10 to cover stamps and cards for those who can afford it. \n\n\n\n\nRSVP for updates\n\n\n\n\nIt’s more fun to write together\, but if you can’t stay\, you can also stop by and pick up postcards to write at home. 
URL:https://turnpurple2blue.org/event/postcard-party-2/2026-03-24/
LOCATION:Boston Bean\, 102 Main St\, Maynard\, Massachusetts\, 01754
CATEGORIES:Postcard Parties
ATTACH;FMTTYPE=image/png:https://turnpurple2blue.org/wp-content/uploads/2026/01/maynard-postcards.png
END:VEVENT
BEGIN:VEVENT
DTSTART;TZID=America/New_York:20260324T103000
DTEND;TZID=America/New_York:20260324T113000
DTSTAMP:20260421T151158
CREATED:20260118T184517Z
LAST-MODIFIED:20260118T184523Z
UID:10003998-1774348200-1774351800@turnpurple2blue.org
SUMMARY:Stand up for Democracy (Marshfield)
DESCRIPTION:Join the good troublemakers of Southeastern Massachusetts for a flash mob rally in Marshfield Center to protest the Trump regime’s unconstitutional actions in Venezuela. On Sunday\, January 4th at noon\, there will be a rally in Marshfield Center to support democracy and stand up against the unconstitutional Trump regime. \n\n\n\n\nRSVP for updates
URL:https://turnpurple2blue.org/event/stand-up-for-democracy-marshfield-2/2026-03-24/
LOCATION:Roche Bros. Marshfield\, 605 Plain St\, Marshfield\, Massachusetts\, 02050
CATEGORIES:Protests
ATTACH;FMTTYPE=image/png:https://turnpurple2blue.org/wp-content/uploads/2026/01/marshfield-standout.png
GEO:42.1041734;-70.7408652
X-APPLE-STRUCTURED-LOCATION;VALUE=URI;X-ADDRESS=Roche Bros. Marshfield 605 Plain St Marshfield Massachusetts 02050;X-APPLE-RADIUS=500;X-TITLE=605 Plain St:geo:-70.7408652,42.1041734
END:VEVENT
BEGIN:VEVENT
DTSTART;TZID=America/New_York:20260324T103000
DTEND;TZID=America/New_York:20260324T120000
DTSTAMP:20260421T151158
CREATED:20260224T211435Z
LAST-MODIFIED:20260224T211440Z
UID:10004481-1774348200-1774353600@turnpurple2blue.org
SUMMARY:Indivisible LAB Daytime Action Hours
DESCRIPTION:Join us for our Daytime Action Hours in Lexington Center. We’ll have actions you can take during the meeting and information on events and actions planned this winter. Bring your ideas for actions and suggestions for future meetings. \n\n\n\nPlease RSVP to get location details and parking information. \n\n\n\nNote: Our daytime meetings are now on Tuesdays since many members attend the Wednesday and Thursday 11am -1pm ICE protests in Burlington.
URL:https://turnpurple2blue.org/event/indivisible-lab-daytime-action-hours-4/2026-03-24/
LOCATION:Lexington Center\, Lexington\, MA\, 02421
CATEGORIES:Action Hours
ATTACH;FMTTYPE=image/png:https://turnpurple2blue.org/wp-content/uploads/2024/02/Indivisible-LAB.png
GEO:42.4286907;-71.2280234
END:VEVENT
BEGIN:VEVENT
DTSTART;TZID=America/New_York:20260324T110000
DTEND;TZID=America/New_York:20260324T130000
DTSTAMP:20260421T151158
CREATED:20260204T220810Z
LAST-MODIFIED:20260204T221027Z
UID:10004282-1774350000-1774357200@turnpurple2blue.org
SUMMARY:Fix ICE!
DESCRIPTION:Come join us Monday and Tuesday 11-1 to protest ICE cruelties. \n\n\n\nWhere: Burlington\, MA: From 11–12 we hold signs on a busy street to communicate our message publicly\, and from 12–1 we gather outside the ICE office for a more informal time of signs\, speaking out\, connection\, and visible solidarity with immigrants while making our presence known to ICE.What to bring: A sign!Meeting point: Corner of Burlington Mall Road and District Ave\, closest to Pressed Cafe.After: Optionally join us for lunch at Pressed Cafe. \n\n\n\nParking near 1000 District Ave\, Burlington \n\n\n\nICE Jail\n\n\n\nFor a deep look at what happens inside ICE detention\, visit the full resource at https://bearingwitnessne.org/inside-ice \n\n\n\nInteractions\n\n\n\n\nImmigrants who are fortunate to leave the facility have shown gratitude for our presence and some share their stories with us.\n\n\n\nICE agents tend to cover their faces with masks\, many record us with their phones\, others give a satisfied smile or laugh\, they rarely say anything.\n\n\n\nThe security officers stationed at the front of the building have not hassled us.\n\n\n\nPassersby from nearby businesses often thank us for being there\, and many have shared that they never knew this was an ICE facility.\n\n\n\n\nParking for District Ave Protests\n\n\n\nThere is parking at busineses and on the street\, but there are risks. See information about where parking is officially allowed and the risk of being towed in the District Ave Area on the What to Expect page of the Bearing Witness page. Note that no one has been towed since Jared and Laurie started protesting in April 2025. In order to be legally towned\, Massachusetts General Laws Chapter 266\, Section 120D specifies that in order for towing to occur you need to be warned by a sign or a person that parking is restricted. In addition\, the owner of the property must get permission from the chief of police or designee and provide certain information.
URL:https://turnpurple2blue.org/event/fix-ice-2/2026-03-24/
CATEGORIES:Protests
ATTACH;FMTTYPE=image/png:https://turnpurple2blue.org/wp-content/uploads/2026/02/Judged-by-appearance.png
END:VEVENT
BEGIN:VEVENT
DTSTART;TZID=America/New_York:20260324T150000
DTEND;TZID=America/New_York:20260324T163000
DTSTAMP:20260421T151158
CREATED:20260310T143032Z
LAST-MODIFIED:20260310T143037Z
UID:10004617-1774364400-1774369800@turnpurple2blue.org
SUMMARY:Phone Bank to Protect Voting & Reproductive Rights in Wisconsin | Virtual Event
DESCRIPTION:Join us as we call Wisconsin voters to help them lock in their Vote By Mail ballot for the April 7 Wisconsin State Supreme Court election. Any registered voter can vote by mail\, no excuse needed! Volunteers will talk with voters about why Judge Chris Taylor will defend reproductive freedom and voting rights\, and help them request a ballot at myvote.wi.gov\, including signing up to vote absentee for the entire year so they don’t miss future elections. \n\n\n\n\n\n\n\n📞 Phone banks start Thursday\, January 22\, and run every Tuesday and Thursday at 3:00 p.m. ET through Election Day. ✨ No experience needed—training\, scripts\, and support provided. \n\n\n\n\n\n\n\nThis election matters. Your calls can make the difference\, sign up and help Wisconsin voters make their voices heard! \n\n\n\n\n\n\n\n\nRegister for Details
URL:https://turnpurple2blue.org/event/phone-bank-to-protect-voting-reproductive-rights-in-wisconsin-virtual-event/2026-03-24/
LOCATION:Virtual Event – Join from Anywhere
CATEGORIES:Phone Calls
ATTACH;FMTTYPE=image/avif:https://turnpurple2blue.org/wp-content/uploads/2026/03/WI-PB-Pic_20260121210452703012.png.avif
END:VEVENT
BEGIN:VEVENT
DTSTART;TZID=America/New_York:20260324T163000
DTEND;TZID=America/New_York:20260324T173000
DTSTAMP:20260421T151158
CREATED:20260212T204511Z
LAST-MODIFIED:20260227T211710Z
UID:10004339-1774369800-1774373400@turnpurple2blue.org
SUMMARY:Burma Shave Standouts - Arlington
DESCRIPTION:The third No Kings protest is scheduled for March 28. Events are being planned throughout the U.S. and in many foreign countries to demand that Trump and the Republican-led Congress stop their unconstitutional power grab and the cruel destruction of our federal government. \n\n\n\n\n\n\n\nTo publicize the No Kings protests\, we plan to hold signs from 4:30 to 5:30 pm on three dates in March at high visibility locations in Arlington. Signs will be provided. \n\n\n\n\n\n\n\nThe signs are designed after the World War 2 era poem which begins “First they came for the Communists\, and I did not speak out….”  We will replace “Communists” with “immigrants”\, etc. \n\n\n\n\n\n\n\nWe are looking for people who are available to pick up a sign by 4:15 and hold it at a designated location for the full hour\, 4:30-5:30 pm. \n\n\n\n\n\n\n\nPlease RSVP for 1\, 2 or all 3 dates. The location for each standout and other important details will be sent closer to the date. You will be notified if the standout needs to be rescheduled or cancelled due to bad weather. \n\n\n\n\n\n\n\n\nRSVP for Updates\n\n\n\n\n\n\n\n\nA core principle behind all Indivisible events is a commitment to nonviolent action. We expect all participants to seek to de-escalate any potential confrontation with those who disagree with our values.
URL:https://turnpurple2blue.org/event/burma-shave-standouts-arlington/2026-03-24/
LOCATION:Arlington\, MA\, Arlington\, Massachusetts
CATEGORIES:Protests
ATTACH;FMTTYPE=image/png:https://turnpurple2blue.org/wp-content/uploads/2026/02/first-they-came-for-the-immigrants.png
END:VEVENT
BEGIN:VEVENT
DTSTART;TZID=America/New_York:20260324T180000
DTEND;TZID=America/New_York:20260324T190000
DTSTAMP:20260421T151158
CREATED:20260203T195318Z
LAST-MODIFIED:20260203T200240Z
UID:10004143-1774375200-1774378800@turnpurple2blue.org
SUMMARY:Texting Tuesdays | Virtual Text Bank
DESCRIPTION:Join us on Zoom at 6pm ET/5pm CT every week as we gather to drive change through digital organizing. Our texting campaigns will give you the opportunity to engage residents across the U.S. while empowering them to make a positive impact in their communities. Last year\, we sent over 19 million texts educating residents on local elections\, environmental justice\, police reform\, health care\, and so much more! During the event we will provide training\, discuss our latest texting campaign\, and we will take action. \n\n\n\n\n\n\n\nA basic Zoom account is required to register. \n\n\n\n\n\n\n\n\nRegister for Details
URL:https://turnpurple2blue.org/event/texting-tuesdays-virtual-text-bank/2026-03-24/
LOCATION:Virtual Event – Join from Anywhere
CATEGORIES:Phone Calls
ATTACH;FMTTYPE=image/avif:https://turnpurple2blue.org/wp-content/uploads/2026/02/Volunteer-Flyer-2.0_20260126183152062271.avif
END:VEVENT
BEGIN:VEVENT
DTSTART;TZID=America/New_York:20260324T180000
DTEND;TZID=America/New_York:20260324T200000
DTSTAMP:20260421T151158
CREATED:20251230T192157Z
LAST-MODIFIED:20251230T192203Z
UID:10003480-1774375200-1774382400@turnpurple2blue.org
SUMMARY:Phone Bank to Protect Voting Rights
DESCRIPTION:Join Common Cause for an important phone bank as we mobilize voters to take action against dangerous legislation in state houses and Congress. We will focus on the most urgent campaigns that need our help. Some of these campaigns may include stopping bills that will make it harder for millions of Americans—especially students\, seniors\, and veterans—to cast their ballots. We need your help to ensure voters across the country call their elected representatives and make their voices heard. \n\n\n\nNo prior experience is necessary—our team will provide full training at the start of each shift! \n\n\n\n\nGet Link\n\n\n\n\nWhat to Expect:\n\n\n\n\nA step-by-step walkthrough of our Phone Dialer tools.\n\n\n\nExpert tips on effective communication with voters.\n\n\n\nOpportunities to ask questions and connect with other like-minded volunteers.\n\n\n\n\nSign up today and take the first step toward empowering voters and protecting democracy in 2025!
URL:https://turnpurple2blue.org/event/phone-bank-to-protect-voting-rights/2026-03-24/
CATEGORIES:Phone Calls
ATTACH;FMTTYPE=image/png:https://turnpurple2blue.org/wp-content/uploads/2025/12/phone-bank-with-common-cause.png
LOCATION:
END:VEVENT
BEGIN:VEVENT
DTSTART;TZID=America/New_York:20260324T180000
DTEND;TZID=America/New_York:20260324T200000
DTSTAMP:20260421T151158
CREATED:20260310T174222Z
LAST-MODIFIED:20260310T174227Z
UID:10004623-1774375200-1774382400@turnpurple2blue.org
SUMMARY:Help Make Signs for Upcoming No Kings Rally! | Community Gathering in Melrose
DESCRIPTION:Put your hands to work\, express yourself and help make No Kings signs for yourself or others (we’d like to have extras to loan out on the day). Materials will be provided – big markers\, paints\, brushes\, poster board and slogan ideas will be at your disposal! Drop in for as long as you like. \n\n\n\n\n\n\n\n\nRegister for Updates\n\n\n\n\n\n\n\n\nA core principle behind all Indivisible events is a commitment to nonviolent action. We expect all participants to seek to de-escalate any potential confrontation with those who disagree with our values.
URL:https://turnpurple2blue.org/event/help-make-signs-for-upcoming-no-kings-rally-community-gathering-in-melrose/2026-03-24/
LOCATION:Melrose Unitarian Universalist Church\, 70 W. Emerson St.\, Melrose\, Massachusetts\, 02176
CATEGORIES:Action Hours,Community Gatherings
ATTACH;FMTTYPE=image/png:https://turnpurple2blue.org/wp-content/uploads/2025/03/rsvp-now.png
GEO:42.4587891;-71.0664788
X-APPLE-STRUCTURED-LOCATION;VALUE=URI;X-ADDRESS=Melrose Unitarian Universalist Church 70 W. Emerson St. Melrose Massachusetts 02176;X-APPLE-RADIUS=500;X-TITLE=70 W. Emerson St.:geo:-71.0664788,42.4587891
END:VEVENT
BEGIN:VEVENT
DTSTART;TZID=America/New_York:20260324T180000
DTEND;TZID=America/New_York:20260324T200000
DTSTAMP:20260421T151158
CREATED:20260323T210520Z
LAST-MODIFIED:20260323T210525Z
UID:10004705-1774375200-1774382400@turnpurple2blue.org
SUMMARY:Troublemaker Tuesday Postcard Party
DESCRIPTION:Join the Good Troublemakers of Southeastern Mass on the 4th Tuesday night of this month for a postcard party in Pembroke. The Troublemakers request that you RSVP so that we can prepare the appropriate amount of resources. If you can’t make it on Tuesday\, please check out our Friday and Wednesday parties. \n\n\n\n\nRSVP for materials count
URL:https://turnpurple2blue.org/event/troublemaker-tuesday-postcard-party/
LOCATION:Panera Bread-Pembroke\, 152 Church St\, Pembroke\, Massachusetts\, 02359
CATEGORIES:Postcard Parties
ATTACH;FMTTYPE=image/png:https://turnpurple2blue.org/wp-content/uploads/2026/03/reschedule.png
GEO:42.108626;-70.7699303
X-APPLE-STRUCTURED-LOCATION;VALUE=URI;X-ADDRESS=Panera Bread-Pembroke 152 Church St Pembroke Massachusetts 02359;X-APPLE-RADIUS=500;X-TITLE=152 Church St:geo:-70.7699303,42.108626
END:VEVENT
BEGIN:VEVENT
DTSTART;TZID=America/New_York:20260324T183000
DTEND;TZID=America/New_York:20260324T193000
DTSTAMP:20260421T151158
CREATED:20260107T122329Z
LAST-MODIFIED:20260108T230137Z
UID:10003904-1774377000-1774380600@turnpurple2blue.org
SUMMARY:Fight Back with Friends
DESCRIPTION:Fight Back With Friends! is a national program designed to help you activate your community! Using our the Empower app\, we’ll equip you with the tools to connect with friends\, family\, and neighbors who need YOUR voice to get civically engaged. Join us on the fourth Tuesday of every month for a one-hour training session\, where we’ll onboard new participants and introduce fresh calls to action that make a real impact. \n\n\n\n\nRSVP for Zoom Link
URL:https://turnpurple2blue.org/event/fight-back-with-friends-3/2026-03-24/
CATEGORIES:Action Hours
ATTACH;FMTTYPE=image/png:https://turnpurple2blue.org/wp-content/uploads/2025/07/Fight-back-with-Friends.png
LOCATION:
END:VEVENT
BEGIN:VEVENT
DTSTART;TZID=America/New_York:20260324T190000
DTEND;TZID=America/New_York:20260324T200000
DTSTAMP:20260421T151158
CREATED:20260323T214501Z
LAST-MODIFIED:20260323T214507Z
UID:10004714-1774378800-1774382400@turnpurple2blue.org
SUMMARY:ndivisible Mass Coalition (IMC) Statewide Call -Know Your Protest Rights
DESCRIPTION:Indivisible Mass Coalition Statewide Call on Tue. 3/24 at 7 – 8PM is hosting the ACLU-MA to discuss Know Your Rights at Protests\, Safety & what to expect at Boston No Kings 3. They will be joined by a Safety Training Leader\, and as always we look forward to the Q&A with all of you! \n\n\n\n\nGet Zoom Link
URL:https://turnpurple2blue.org/event/ndivisible-mass-coalition-imc-statewide-call-know-your-protest-rights/
CATEGORIES:Action Hours
ATTACH;FMTTYPE=image/png:https://turnpurple2blue.org/wp-content/uploads/2026/03/statewide.png
LOCATION:
END:VEVENT
BEGIN:VEVENT
DTSTART;TZID=America/New_York:20260324T190000
DTEND;TZID=America/New_York:20260324T203000
DTSTAMP:20260421T151158
CREATED:20260323T210046Z
LAST-MODIFIED:20260323T210051Z
UID:10004704-1774378800-1774384200@turnpurple2blue.org
SUMMARY:Brockton Singing Resistance rehearsal
DESCRIPTION:I want SINGING at NO KINGS Brockton! Twin Cities Singing Resistance paved the way\, and other singing resistance groups are being organized. Brockton Singing Resistance will sing right here at NO KINGS on Hancock Field on March 28. All voices welcome! Come to either or both of the Mon 3/23 and Tues 3/24 rehearsals. This will be different from a choir. Choirs perform for listeners. Brockton Singing Resistance exists to help other people sing – so I hope there will be no performers or listeners\, but only singers! If you can’t make either one and feel confident in your singing\, just contact me at brocktonindivisible@gmail.com and say so. Learn the songs from Youtube playlist and Google Doc linked below. Then show up at Hancock Field at noon! We will choose what we want to sing from the songs on the playlist linked when we meet Monday and Tuesday evening. \n\n\n\n\nRSVP for exact location\n\n\n\n\nPlaylist: https://www.youtube.com/playlist?list=PLxDLY6nI0HgYyPT9I9I5200zL0Hx2Bb3G \n\n\n\nGoogle Doc with lyrics: https://docs.google.com/document/d/1Gfig_HmMPAtTHibJcvXyfkwTGEtgqZP74WaokebjT9Q/edit?usp=sharing \n\n\n\nA core principle behind all Indivisible events is a commitment to nonviolent action. We expect all participants to seek to de-escalate any potential confrontation with those who disagree with our values.
URL:https://turnpurple2blue.org/event/brockton-singing-resistance-rehearsal/2026-03-24/
LOCATION:Brockton Private Address\, Brockton\, Massachusetts
CATEGORIES:Action Hours
ATTACH;FMTTYPE=image/png:https://turnpurple2blue.org/wp-content/uploads/2026/03/Singing-resistance-2.png
END:VEVENT
END:VCALENDAR