BEGIN:VCALENDAR
VERSION:2.0
PRODID:-//Turn Purple 2 Blue - ECPv6.15.20//NONSGML v1.0//EN
CALSCALE:GREGORIAN
METHOD:PUBLISH
X-WR-CALNAME:Turn Purple 2 Blue
X-ORIGINAL-URL:https://turnpurple2blue.org
X-WR-CALDESC:Events for Turn Purple 2 Blue
REFRESH-INTERVAL;VALUE=DURATION:PT1H
X-Robots-Tag:noindex
X-PUBLISHED-TTL:PT1H
BEGIN:VTIMEZONE
TZID:America/New_York
BEGIN:DAYLIGHT
TZOFFSETFROM:-0500
TZOFFSETTO:-0400
TZNAME:EDT
DTSTART:20250309T070000
END:DAYLIGHT
BEGIN:STANDARD
TZOFFSETFROM:-0400
TZOFFSETTO:-0500
TZNAME:EST
DTSTART:20251102T060000
END:STANDARD
BEGIN:DAYLIGHT
TZOFFSETFROM:-0500
TZOFFSETTO:-0400
TZNAME:EDT
DTSTART:20260308T070000
END:DAYLIGHT
BEGIN:STANDARD
TZOFFSETFROM:-0400
TZOFFSETTO:-0500
TZNAME:EST
DTSTART:20261101T060000
END:STANDARD
BEGIN:DAYLIGHT
TZOFFSETFROM:-0500
TZOFFSETTO:-0400
TZNAME:EDT
DTSTART:20270314T070000
END:DAYLIGHT
BEGIN:STANDARD
TZOFFSETFROM:-0400
TZOFFSETTO:-0500
TZNAME:EST
DTSTART:20271107T060000
END:STANDARD
END:VTIMEZONE
BEGIN:VEVENT
DTSTART;TZID=America/New_York:20260401T090000
DTEND;TZID=America/New_York:20260401T110000
DTSTAMP:20260419T181955
CREATED:20260204T213113Z
LAST-MODIFIED:20260204T213119Z
UID:10003411-1775034000-1775041200@turnpurple2blue.org
SUMMARY:Postcard Writing Party
DESCRIPTION:We will be writing postcards to voters in other states to lay the groundwork for winning the 2026 Midterms. Campaigns will vary from voter registration to messaging to election information.  Join us for great conversation while we write.  Postcards are a great way to connect with voters! \n\n\n\nIn case of bad\, dangerous weather\, our meeting is cancelled.
URL:https://turnpurple2blue.org/event/postcard-writing-party-5/2026-04-01/
LOCATION:First Parish Church Westford\, 43 Main Street\, Westford\, Massachusetts
CATEGORIES:Postcard Parties
ATTACH;FMTTYPE=image/png:https://turnpurple2blue.org/wp-content/uploads/2026/01/Denali-mornings.png
GEO:42.5810293;-71.4403888
X-APPLE-STRUCTURED-LOCATION;VALUE=URI;X-ADDRESS=First Parish Church Westford 43 Main Street Westford Massachusetts;X-APPLE-RADIUS=500;X-TITLE=43 Main Street:geo:-71.4403888,42.5810293
END:VEVENT
BEGIN:VEVENT
DTSTART;TZID=America/New_York:20260401T110000
DTEND;TZID=America/New_York:20260401T130000
DTSTAMP:20260419T181955
CREATED:20260303T134920Z
LAST-MODIFIED:20260303T134957Z
UID:10003691-1775041200-1775048400@turnpurple2blue.org
SUMMARY:Bear Witness- Protest and Food  Drive Wednesdays at ICE
DESCRIPTION:“We invite you to stand in solidarity outside the ICE Enforcement & Removal Operations Office in Burlington every Wednesday from 11am-1pm. We’re grateful to those who have previously joined us at this facility\, and we hope that more will consider attending. Together\, we can show love & support for immigrants\, express our shame at ICE\, and bear witness to the cruel and unconstitutional actions of our government.”Schedule11:00-11:30\, Welcome chat; orientation for new folks; sign-making for those who need them11:30-12:30\, Stand (or sit) with signs12:30-1:00\, Short walk along the sidewalk on District AveThe ICE building in Burlington is the detention and enforcement office for New England. Immigrants must come here for appointments. The standouts are peaceful and offer support for those who must show up here. Signs expressing support for immigrants are welcome. \n\n\n\n\nMore Info & Email Updates\n\n\n\n\n\n\n\n\n\n\n\n\nAs far as we know\, the Mall is continuing to restrict parking to mall shoppers only. We continue to invite you to be creative while we work on a solution to this problem. If you scroll down further\, there are some suggested alternative parking possibilities. \n\n\n\n\n\nThere was a small group of counter-protesters again at the Saturday vigil\, and we may expect to see counter-protesters more regularly now. The important thing is to not engage with counter-protesters. Please ignore them. We will continue to peacefully exercise our first amendment rights. \n\n\n\nA weather reminder for our gatherings during the winter season — by default\, we will plan to gather\, and ask people to use their own judgment about what conditions are safe for them. Please do be safe. If Burlington schools close due to weather\, we will cancel the usual 11am-1pm public gathering and the organizing team will make some other arrangement to safely maintain the continuity of our vigil for that day that does not require the general public. \n\n\n\nAs usual\, this gathering outside ICE is a very targeted action; it’s not the venue for protesting other causes. We all care about many issues\, but each Wednesday we come together across differences. Regardless of your views on any other political or social issues\, if you support immigrants and their constitutional rights and are committed to nonviolence you are welcome to join us. We have a stash of signs and small U.S. flags that have been donated\, and you’re welcome to bring your own signs and U.S. flags if you have them. \n\n\n\nHere are some parking options that have been suggested\, while we explore a resolution with the mall or other options: \n\n\n\n\nFor those looking to switch to public transportation\, one option is the 350 Bus. This runs from Alewife to Burlington Mall Rd. You can park or bike to the Alewife T stop\, and the bus leaves Alewife at 10:46am and arrives at District Ave. at 11:15am.\n\n\n\nAlternatively\, you can drive to Burlington and park at Simonds Park\, at Rev. Andrew’s United Church of Christ (6 Lexington St. Burlington\, MA)\, or at Rabbi Abramson’s Temple Shalom Emeth\, 16 Lexington St.\,and walk to the 350 bus stop at the intersection of Cambridge St. and Bedford St. That bus leaves at 11:09am and arrives at 11:17am. If you’d like to arrive before 11:00am\, there’s a bus that leaves an hour earlier at 10:09am.\n\n\n\nYou can park at Wegmans. 53 Third Avenue. Burlington\, MA 01803. The Lowell LRTA #14 bus goes by there and stops at Lexington and Mall Rd. That bus is free.\n\n\n\n\nBearing Witness attendees Tina & Jay continue to collect food pantry donations to help local immigrant families. You can drop off unopened food/health/household items by the tree.
URL:https://turnpurple2blue.org/event/bear-witness-protest-and-food-drive-wednesdays-at-ice-5/2026-04-01/
LOCATION:Burlington ICE Enforcement & Removal Operations Office\, 1000 District Avenue\, Burlington\, MA\, 01803
CATEGORIES:Protests
ATTACH;FMTTYPE=image/png:https://turnpurple2blue.org/wp-content/uploads/2025/05/protect-immigrant-families.png
GEO:42.4825992;-71.2088135
X-APPLE-STRUCTURED-LOCATION;VALUE=URI;X-ADDRESS=Burlington ICE Enforcement & Removal Operations Office 1000 District Avenue Burlington MA 01803;X-APPLE-RADIUS=500;X-TITLE=1000 District Avenue:geo:-71.2088135,42.4825992
END:VEVENT
BEGIN:VEVENT
DTSTART;TZID=America/New_York:20260401T120000
DTEND;TZID=America/New_York:20260401T130000
DTSTAMP:20260419T181955
CREATED:20260323T211658Z
LAST-MODIFIED:20260404T141413Z
UID:10004540-1775044800-1775048400@turnpurple2blue.org
SUMMARY:de-ICE Citizens Bank Standout
DESCRIPTION:Join us for a peaceful standout each Wednesday and Saturday calling on Citizens Bank to stop financing private prison corporations that build and operate ICE detention centers\, where immigrants are held in abusive and inhumane conditions. \n\n\n\n\nSign up for Updates\n\n\n\n\nWe will have leaflets to share with customers and passersby. Participants are encouraged to bring signs demanding that Citizens Bank stop funding ICE prisons. \n\n\n\nThis is an easy\, accessible action—come and help build community pressure Citizens for change.
URL:https://turnpurple2blue.org/event/de-ice-citizens-bank-standout-3/2026-04-01/
LOCATION:Citizens Bank\, 315 Harvard St\, Brookline\, Massachusetts\, 02446
CATEGORIES:Protests
ATTACH;FMTTYPE=image/png:https://turnpurple2blue.org/wp-content/uploads/2026/02/De-Ice-Citizens-Bank.png
END:VEVENT
BEGIN:VEVENT
DTSTART;TZID=America/New_York:20260401T170000
DTEND;TZID=America/New_York:20260401T190000
DTSTAMP:20260419T181955
CREATED:20251230T182356Z
LAST-MODIFIED:20251230T182402Z
UID:10003453-1775062800-1775070000@turnpurple2blue.org
SUMMARY:Postcard Writing Party
DESCRIPTION:We will be writing postcards to voters in other states to lay the groundwork for winning the 2026 Midterms. Campaigns will vary from voter registration to messaging to election information.  Join us for great conversation while we write.  Postcards are a great way to connect with voters!
URL:https://turnpurple2blue.org/event/postcard-writing-party-2/2026-04-01/
LOCATION:Panera Bread-Westford\, 2 Cornerstone Square\, Westford\, Massachusetts\, 01886
CATEGORIES:Postcard Parties
ATTACH;FMTTYPE=image/jpeg:https://turnpurple2blue.org/wp-content/uploads/2025/07/postcards.jpg
END:VEVENT
BEGIN:VEVENT
DTSTART;TZID=America/New_York:20260401T170000
DTEND;TZID=America/New_York:20260401T190000
DTSTAMP:20260419T181955
CREATED:20260310T115052Z
LAST-MODIFIED:20260310T115059Z
UID:10004387-1775062800-1775070000@turnpurple2blue.org
SUMMARY:Postcard Writing Party
DESCRIPTION:We will be writing postcards to voters in other states to lay the groundwork for winning the 2026 Midterms. Campaigns will vary from voter registration to messaging to election information. Join us for great conversation while we write. Postcards are a great way to connect with voters! \n\n\n\n\nSign up for Updates
URL:https://turnpurple2blue.org/event/postcard-writing-party-8/2026-04-01/
LOCATION:Reuben Hoar Public Library\, 35 Shattuck St\, Littleton\, Massachusetts\, 01460
CATEGORIES:Postcard Parties
ATTACH;FMTTYPE=image/jpeg:https://turnpurple2blue.org/wp-content/uploads/2025/07/Indivisible-Littleton-Mass-Banner.jpg
END:VEVENT
BEGIN:VEVENT
DTSTART;TZID=America/New_York:20260401T180000
DTEND;TZID=America/New_York:20260401T190000
DTSTAMP:20260419T181955
CREATED:20260218T145606Z
LAST-MODIFIED:20260218T145611Z
UID:10004440-1775066400-1775070000@turnpurple2blue.org
SUMMARY:Postcards at Panera | Biweekly in North Andover
DESCRIPTION:Come join us to write postcards with Greater Andover Indivisible’s friendly community. Our overarching objective is to get progressive candidates into office approve progressive legislation / defeat MAGA legislation wherever possible.  \n\n\n\n\n\n\n\nAvailable postcard campaigns vary from week to week and by pick-up location. We write cards to key districts around the country to: – Provide info about voter registration and encourage people to register; – Remind people of upcoming elections and encourage voting by providing important information about when/where/how to vote; – Build name recognition for progressive candidates; – Inform people about what their MAGA elected officials are doing; – and more. \n\n\n\n\n\n\n\nScripts vary but often use top-of-mind issues\, like healthcare and cost of living\, to attract recipients’ attention. \n\n\n\n\n\n\n\n\nRSVP for Updates\n\n\n\n\n\n\n\n\nA core principle behind all Indivisible events is a commitment to nonviolent action. We expect all participants to seek to de-escalate any potential confrontation with those who disagree with our values.
URL:https://turnpurple2blue.org/event/postcards-at-panera-biweekly-in-north-andover/2026-04-01/
LOCATION:Panera Bread-North Andover\, 58 Peters St\, North Andover\, Massachusetts\, 01845\, United States
ATTACH;FMTTYPE=image/avif:https://turnpurple2blue.org/wp-content/uploads/2026/02/IMG_3837.png_20260216011302968609.png.avif
END:VEVENT
BEGIN:VEVENT
DTSTART;TZID=America/New_York:20260401T190000
DTEND;TZID=America/New_York:20260401T203000
DTSTAMP:20260419T181955
CREATED:20260324T142103Z
LAST-MODIFIED:20260324T142109Z
UID:10004726-1775070000-1775075400@turnpurple2blue.org
SUMMARY:LUCE Community Bystander Training
DESCRIPTION:LUCE Community Bystander Training How to Respond to ICE in our neighborhoods Presented by LUCE Immigrant Justice Network of MA IN PERSON April 1\, 7-8:30 pm Melrose Unitarian Universalist Church 70 West Emerson St.\, Melrose\, MA ● LUCE Mass ICE Watch & immigrant organizing ● Know your rights ● How to use the Hotline & identify ICE ● How to become involved with LUCE ● Questions from attendees Sponsored by the MUUC Pro-Democracy Team and Indivisible Melrose\, Wakefield and Beyond \n\n\n\nA core principle behind all Indivisible events is a commitment to nonviolent action. We expect all participants to seek to de-escalate any potential confrontation with those who disagree with our values.
URL:https://turnpurple2blue.org/event/luce-community-bystander-training/
LOCATION:Melrose Unitarian Universalist Church\, 70 W. Emerson St.\, Melrose\, Massachusetts\, 02176
CATEGORIES:Action Hours
ATTACH;FMTTYPE=image/png:https://turnpurple2blue.org/wp-content/uploads/2025/10/Luce-logo.png
GEO:42.4587891;-71.0664788
X-APPLE-STRUCTURED-LOCATION;VALUE=URI;X-ADDRESS=Melrose Unitarian Universalist Church 70 W. Emerson St. Melrose Massachusetts 02176;X-APPLE-RADIUS=500;X-TITLE=70 W. Emerson St.:geo:-71.0664788,42.4587891
END:VEVENT
BEGIN:VEVENT
DTSTART;TZID=America/New_York:20260401T200000
DTEND;TZID=America/New_York:20260401T213000
DTSTAMP:20260419T181955
CREATED:20260227T171200Z
LAST-MODIFIED:20260227T171207Z
UID:10004492-1775073600-1775079000@turnpurple2blue.org
SUMMARY:Block by Block Training & Action Series | Virtual Training by SURJ
DESCRIPTION:Join us for our ‘Block by Block’ Training & Action Series—a hands-on program designed to help you launch and lead a team for 2026 national campaign! \n\n\n\n\n\n\n\nBlock by Block is SURJ’s 2026 national campaign to elect champions for working people\, block MAGA\, and fight for the future we deserve. We do this through three strategies: Mobilize through mass action\, Elect working class champions\, and Grow a strong\, active base. \n\n\n\n\n\n\n\nThis online training series is designed to train and support new groups\, circles and chapters to run Block by Block: Solidarity Rising in your communities for the rest of the year. Groups will deepen organizing skills\, align with national strategy\, and be ready to take action locally. We’ll meet every other week online for training. On the off weeks\, your group will gather locally to practice skills\, grow your base\, and take action. \n\n\n\n\n\n\n\nThis training series will consist of three modules\, each focused on one part of our strategy: \n\n\n\n\n\n\n\nGrow Module — March 4 & 18\, 2026\n\n\n\n\n\n\n\nLearn how to bring new people into your group\, plug them into meaningful roles\, build strong and accountable teams\, and develop leaders who can carry the work forward. Growing our base is essential to winning—this is how we build the scale and discipline needed to carry out Block by Block for the rest of the year. \n\n\n\n\n\n\n\nMobilize Module — April 1\, 15 & 29\, 2026\n\n\n\n\n\n\n\nGet trained to organize coordinated\, strategic action using tools of mass noncooperation. Prepare to move quickly when our rights and democracy are threatened\, and build toward May Day: A Day Without Workers. \n\n\n\n\n\n\n\nElect Module — May 13\, 2026\n\n\n\n\n\n\n\nLearn why governing power is a key part of our strategy and the role your circle\, chapter\, or group can play in supporting progressive candidates and blocking MAGA power. \n\n\n\n\n\n\n\nBy the end of this series\, your group will be ready to grow your base\, mobilize for action\, and take part in electoral strategy. We’ll provide all the structure\, toolkits\, and guidance you need to plug into our national program and make a real difference—block by block. \n\n\n\n\n\n\n\nWe encourage at least one member from every group\, circle\, or chapter to join\, but ideally more! Sign up for all the sessions—even if you can’t make them all\, we’ll send recordings so you won’t miss anything. And for more info on the Block by Block campaign\, check out the 1-pager. \n\n\n\n\n\n\n\n\nRegister for Details
URL:https://turnpurple2blue.org/event/block-by-block-training-action-series-virtual-training-by-surj-2/2026-04-01/
LOCATION:Virtual Event – Join from Anywhere
CATEGORIES:Action Hours,Community Gatherings
ATTACH;FMTTYPE=image/png:https://turnpurple2blue.org/wp-content/uploads/2026/02/block-by-block.png
END:VEVENT
END:VCALENDAR