BEGIN:VCALENDAR
VERSION:2.0
PRODID:-//Turn Purple 2 Blue - ECPv6.15.17//NONSGML v1.0//EN
CALSCALE:GREGORIAN
METHOD:PUBLISH
X-WR-CALNAME:Turn Purple 2 Blue
X-ORIGINAL-URL:https://turnpurple2blue.org
X-WR-CALDESC:Events for Turn Purple 2 Blue
REFRESH-INTERVAL;VALUE=DURATION:PT1H
X-Robots-Tag:noindex
X-PUBLISHED-TTL:PT1H
BEGIN:VTIMEZONE
TZID:America/New_York
BEGIN:DAYLIGHT
TZOFFSETFROM:-0500
TZOFFSETTO:-0400
TZNAME:EDT
DTSTART:20250309T070000
END:DAYLIGHT
BEGIN:STANDARD
TZOFFSETFROM:-0400
TZOFFSETTO:-0500
TZNAME:EST
DTSTART:20251102T060000
END:STANDARD
BEGIN:DAYLIGHT
TZOFFSETFROM:-0500
TZOFFSETTO:-0400
TZNAME:EDT
DTSTART:20260308T070000
END:DAYLIGHT
BEGIN:STANDARD
TZOFFSETFROM:-0400
TZOFFSETTO:-0500
TZNAME:EST
DTSTART:20261101T060000
END:STANDARD
BEGIN:DAYLIGHT
TZOFFSETFROM:-0500
TZOFFSETTO:-0400
TZNAME:EDT
DTSTART:20270314T070000
END:DAYLIGHT
BEGIN:STANDARD
TZOFFSETFROM:-0400
TZOFFSETTO:-0500
TZNAME:EST
DTSTART:20271107T060000
END:STANDARD
END:VTIMEZONE
BEGIN:VEVENT
DTSTART;TZID=America/New_York:20260411T080000
DTEND;TZID=America/New_York:20260412T170000
DTSTAMP:20260305T060302
CREATED:20260216T171234Z
LAST-MODIFIED:20260216T171239Z
UID:10004405-1775894400-1776013200@turnpurple2blue.org
SUMMARY:Grassroots Campaign Training 2026 | Multiple Dates & Locations
DESCRIPTION:Mass Alliance’s signature Grassroots Campaign Training\, is a comprehensive two-day bootcamp that will teach you all you need to know to run and win a grassroots campaign for public office  including mailers\, GOTV planning\, fundraising\, messaging\, social media\, and more. Link to application: tinyurl.com/gct26ma \n\n\n\n\n\n\n\nTraining Dates / Locations: \n\n\n\nFeb 28-Mar 1 Worcester (Deadline to apply: Feb 12) \n\n\n\nMar 14-15 Lynn (Deadline to apply:  Feb 27) \n\n\n\nMar 21-22 Springfield (Deadline to apply: Mar 5) \n\n\n\nApril 11-12 Quincy (Deadline to apply: Mar 2) \n\n\n\n\n\n\n\nRegistration Fee   $200 \n\n\n\nRegistration Fee + Scholarship Fund Contribution: $250 \n\n\n\n(Sliding scale available) \n\n\n\n\n\n\n\nBreakfast & Lunch Provided \n\n\n\n\n\n\n\nWe will review your application and contact you within a week with payment instructions upon submitting this form.  Location will be provided upon registration. \n\n\n\n\n\n\n\nPlease e-mail contact@massalliance.org for additional information.  \n\n\n\n\n\n\n\n\nRegister for Details\n\n\n\n\n\n\n\n\nA core principle behind all Indivisible events is a commitment to nonviolent action. We expect all participants to seek to de-escalate any potential confrontation with those who disagree with our values. 
URL:https://turnpurple2blue.org/event/grassroots-campaign-training-2026-multiple-dates-locations/2026-04-11/
LOCATION:Various Locations – Register for Details
CATEGORIES:Action Hours,Community Gatherings
ATTACH;FMTTYPE=image/png:https://turnpurple2blue.org/wp-content/uploads/2026/02/GCT-26-Social-Media-Post-768x994-1.png
END:VEVENT
BEGIN:VEVENT
DTSTART;TZID=America/New_York:20260411T100000
DTEND;TZID=America/New_York:20260411T113000
DTSTAMP:20260305T060302
CREATED:20260226T031909Z
LAST-MODIFIED:20260226T032031Z
UID:10004499-1775901600-1775907000@turnpurple2blue.org
SUMMARY:SECOND SATURDAYS Standout - Fitchburg | Protest Event
DESCRIPTION:Join us as we gather in front of Fitchburg City Hall on the second Saturday of each month to support democracy and the rule of law – and to protest the policies of trump and this shambolic and cruel administration. Signs are welcome\, and there are always extra signs and flags to borrow. \n\n\n\n\n\n\n\nAmple parking is available at 166 Boulder Drive if you’re unable to find parking on Main Street. \n\n\n\n\n\n\n\nJoin our Facebook page (Indivisible Fitchburg MA) or our website (https://indivisiblefitchburgma.org) for updates and info on pop-up protests! \n\n\n\n\n\n\n\nSee Facebook event here: https://fb.me/e/9r0kRYnXM \n\n\n\n\n\n\n\nThis Indivisible event takes place in the sun\, rain\, cold! \n\n\n\n\n\n\n\nA core principle behind all Indivisible events is a commitment to nonviolent action. We expect all participants to seek to de-escalate any potential confrontation with those who disagree with our values. \n\n\n\n\n\n\n\nPlease email cindy@indivisiblefitchburgma.org with any questions. Hope to see you soon! \n\n\n\n\n\n\n\n\nRSVP for Updates
URL:https://turnpurple2blue.org/event/second-saturdays-standout-fitchburg-protest-event/
LOCATION:Fitchburg City Hall\, 718 Main St\, Fitchburg\, MA\, 01420
CATEGORIES:Protests
ATTACH;FMTTYPE=image/png:https://turnpurple2blue.org/wp-content/uploads/2025/09/Indivisible-RSVP.png
GEO:42.5839558;-71.8037785
X-APPLE-STRUCTURED-LOCATION;VALUE=URI;X-ADDRESS=Fitchburg City Hall 718 Main St Fitchburg MA 01420;X-APPLE-RADIUS=500;X-TITLE=718 Main St:geo:-71.8037785,42.5839558
END:VEVENT
BEGIN:VEVENT
DTSTART;TZID=America/New_York:20260411T110000
DTEND;TZID=America/New_York:20260411T120000
DTSTAMP:20260305T060302
CREATED:20260130T214044Z
LAST-MODIFIED:20260130T214050Z
UID:10004075-1775905200-1775908800@turnpurple2blue.org
SUMMARY:Weekly Standout
DESCRIPTION:This a local Indivisible event! Indivisible North Quabbin hosts a weekly Stand Out. This happens every Saturday with neighbors coming together to stand up for democracy and non-violent action. \n\n\n\n\nRSVP for updates\n\n\n\n\nA core principle behind all Indivisible events is a commitment to nonviolent action. We expect all participants to seek to de-escalate any potential confrontation with those who disagree with our values.
URL:https://turnpurple2blue.org/event/weekly-standout/2026-04-11/
LOCATION:Memorial Park\, So. Main St and Water St.\, Orange\, Massachusetts\, 01364
CATEGORIES:Protests
ATTACH;FMTTYPE=image/png:https://turnpurple2blue.org/wp-content/uploads/2025/03/rsvp-now.png
GEO:42.5894308;-72.3095743
X-APPLE-STRUCTURED-LOCATION;VALUE=URI;X-ADDRESS=Memorial Park So. Main St and Water St. Orange Massachusetts 01364;X-APPLE-RADIUS=500;X-TITLE=So. Main St and Water St.:geo:-72.3095743,42.5894308
END:VEVENT
BEGIN:VEVENT
DTSTART;TZID=America/New_York:20260411T110000
DTEND;TZID=America/New_York:20260411T120000
DTSTAMP:20260305T060302
CREATED:20260204T212509Z
LAST-MODIFIED:20260204T212514Z
UID:10004213-1775905200-1775908800@turnpurple2blue.org
SUMMARY:Malden Democrats Stand Out for Democracy
DESCRIPTION:The Malden Democratic City Committee hosts a weekly pro-democracy stand out every Saturday. \n\n\n\nAll are welcome. \n\n\n\nPlease bring your own sign or an American flag. \n\n\n\nThis is a family friendly event. \n\n\n\n\nRSVP for Exact Address\n\n\n\n\nParking is available on surrounding side streets as well as at the nearby hockey rink as long as there isn’t a game being held.
URL:https://turnpurple2blue.org/event/malden-democrats-stand-out-for-democracy/2026-04-11/
LOCATION:Malden-Private Address\, Malden\, Massachusetts
CATEGORIES:Protests
ATTACH;FMTTYPE=image/png:https://turnpurple2blue.org/wp-content/uploads/2026/02/malden.png
END:VEVENT
BEGIN:VEVENT
DTSTART;TZID=America/New_York:20260411T110000
DTEND;TZID=America/New_York:20260411T130000
DTSTAMP:20260305T060302
CREATED:20260216T212553Z
LAST-MODIFIED:20260216T212600Z
UID:10004412-1775905200-1775912400@turnpurple2blue.org
SUMMARY:No Fear with Street Theater Group
DESCRIPTION:A new protest group named “No Fear Street Theater” will be hosting ICE protests near the Burlington ICE Office on Saturdays! Everyone is welcome!  More info here
URL:https://turnpurple2blue.org/event/no-fear-with-street-theater-group-4/2026-04-11/
LOCATION:Burlington Mall Rd and District Ave\, Burlington Mall Rd and District Ave\, Burlington\, Massachusetts\, 01813
CATEGORIES:Protests
ATTACH;FMTTYPE=image/png:https://turnpurple2blue.org/wp-content/uploads/2025/06/ice-melts-under-resistance.png
GEO:42.4858849;-71.211809
X-APPLE-STRUCTURED-LOCATION;VALUE=URI;X-ADDRESS=Burlington Mall Rd and District Ave Burlington Mall Rd and District Ave Burlington Massachusetts 01813;X-APPLE-RADIUS=500;X-TITLE=Burlington Mall Rd and District Ave:geo:-71.211809,42.4858849
END:VEVENT
BEGIN:VEVENT
DTSTART;TZID=America/New_York:20260411T130000
DTEND;TZID=America/New_York:20260411T140000
DTSTAMP:20260305T060302
CREATED:20260203T215630Z
LAST-MODIFIED:20260203T215635Z
UID:10004193-1775912400-1775916000@turnpurple2blue.org
SUMMARY:Brookline Rally for Democracy\, April 2026
DESCRIPTION:Join members of three Brookline pro-democracy groups — indivisible Activist Evenings\, Brookline Pax\, and Speak Out\, Seniors! — for our weekly rally at Coolidge Corner at 1:00 PM. \n\n\n\n\n\n\n\nWe gather to raise our voices and our signs in defense of democracy\, justice\, and decency — and to stand united against the abuses of the Trump administration and the forces that threaten our rights and freedoms. \n\n\n\n\n\n\n\nWe stand for: \n\n\n\n• Immigrant rights\, human rights\, and racial justice \n\n\n\n• Free speech\, the Constitution\, and the rule of law \n\n\n\n• Access to health and healthcare for all \n\n\n\n• Protection of our planet and the future we leave to the next generation \n\n\n\n\n\n\n\nWe choose empathy over cruelty\, peace over violence\, and hope over fear. \n\n\n\n\n\n\n\nOur rallies are peaceful\, spirited\, and uplifting — a chance to connect\, recharge\, and stand up for what matters. Bring your friends\, your voice\, and your sign (or borrow one of ours!). \n\n\n\n\n\n\n\nAll are welcome!  The rally is multi-generational and family-friendly; those using walkers or other mobility devices may use them to sit to participate. \n\n\n\n\n\n\n\nIn the event of inclement weather\, we’ll each use our best judgment about whether to attend. We hope you’ll do the same!  \n\n\n\n\n\n\n\nPlease join us\, one rally at a time.  We’ll continue for as long as it takes. \n\n\n\n\n\n\n\n\nRSVP for Updates
URL:https://turnpurple2blue.org/event/brookline-rally-for-democracy-april-2026/2026-04-11/
LOCATION:Coolidge Corner\, Beacon Street & Harvard Street\, Brookline\, Massachusetts\, 02446\, United States
CATEGORIES:Protests
ATTACH;FMTTYPE=image/avif:https://turnpurple2blue.org/wp-content/uploads/2026/02/IMG_6117_20251028235144028225.png.avif
END:VEVENT
END:VCALENDAR