BEGIN:VCALENDAR
VERSION:2.0
PRODID:-//Turn Purple 2 Blue - ECPv6.15.20//NONSGML v1.0//EN
CALSCALE:GREGORIAN
METHOD:PUBLISH
X-WR-CALNAME:Turn Purple 2 Blue
X-ORIGINAL-URL:https://turnpurple2blue.org
X-WR-CALDESC:Events for Turn Purple 2 Blue
REFRESH-INTERVAL;VALUE=DURATION:PT1H
X-Robots-Tag:noindex
X-PUBLISHED-TTL:PT1H
BEGIN:VTIMEZONE
TZID:America/New_York
BEGIN:DAYLIGHT
TZOFFSETFROM:-0500
TZOFFSETTO:-0400
TZNAME:EDT
DTSTART:20250309T070000
END:DAYLIGHT
BEGIN:STANDARD
TZOFFSETFROM:-0400
TZOFFSETTO:-0500
TZNAME:EST
DTSTART:20251102T060000
END:STANDARD
BEGIN:DAYLIGHT
TZOFFSETFROM:-0500
TZOFFSETTO:-0400
TZNAME:EDT
DTSTART:20260308T070000
END:DAYLIGHT
BEGIN:STANDARD
TZOFFSETFROM:-0400
TZOFFSETTO:-0500
TZNAME:EST
DTSTART:20261101T060000
END:STANDARD
BEGIN:DAYLIGHT
TZOFFSETFROM:-0500
TZOFFSETTO:-0400
TZNAME:EDT
DTSTART:20270314T070000
END:DAYLIGHT
BEGIN:STANDARD
TZOFFSETFROM:-0400
TZOFFSETTO:-0500
TZNAME:EST
DTSTART:20271107T060000
END:STANDARD
END:VTIMEZONE
BEGIN:VEVENT
DTSTART;TZID=America/New_York:20260428T083000
DTEND;TZID=America/New_York:20260428T100000
DTSTAMP:20260419T210439
CREATED:20260105T175938Z
LAST-MODIFIED:20260105T175944Z
UID:10003819-1777365000-1777370400@turnpurple2blue.org
SUMMARY:Standout at Framingham ISAP Office
DESCRIPTION:Join us as we draw attention to the invasive cruelty of ICE’s ISAP program.  The Intensive Supervision Appearance Program (ISAP) utilizes private contractors to surveil and monitor undocumented neighbors via biometric scans and ankle monitors. \n\n\n\nPark at Life Time Fitness.  Protest on public sidewalk facing the intersection at 10 Speen St.  Signs welcome.
URL:https://turnpurple2blue.org/event/standout-at-framingham-isap-office-2/2026-04-28/
LOCATION:Lifetime Fitness Parking Lot\, 490 Old Connecticut Path\, Framingham\, Massachusetts\, 01701
CATEGORIES:Protests
ATTACH;FMTTYPE=image/png:https://turnpurple2blue.org/wp-content/uploads/2025/10/framingham.png
GEO:42.3128824;-71.3948911
X-APPLE-STRUCTURED-LOCATION;VALUE=URI;X-ADDRESS=Lifetime Fitness Parking Lot 490 Old Connecticut Path Framingham Massachusetts 01701;X-APPLE-RADIUS=500;X-TITLE=490 Old Connecticut Path:geo:-71.3948911,42.3128824
END:VEVENT
BEGIN:VEVENT
DTSTART;TZID=America/New_York:20260428T090000
DTEND;TZID=America/New_York:20260428T110000
DTSTAMP:20260419T210440
CREATED:20260327T124934Z
LAST-MODIFIED:20260327T125103Z
UID:10004752-1777366800-1777374000@turnpurple2blue.org
SUMMARY:Postcard Party
DESCRIPTION:Send hand-written postcards to voters in states that will play a key role in taking back Congress and in electing leaders who will fight back against the current authoritarian regime. Postcards educate voters\, urge them to register to vote\, and urge them to vote for specific candidates in special elections\, primaries\, and the November 2026 mid-term elections. Hand-written postcards have been proven in multiple studies to boost turnout enough to swing elections. Each packet of 15 postcards has everything you need\, and costs $10 to cover stamps and cards for those who can afford it. \n\n\n\n\nRSVP for updates\n\n\n\n\nIt’s more fun to write together\, but if you can’t stay\, you can also stop by and pick up postcards to write at home. 
URL:https://turnpurple2blue.org/event/postcard-party-3/2026-04-28/
LOCATION:Boston Bean\, 102 Main St\, Maynard\, Massachusetts\, 01754
CATEGORIES:Postcard Parties
ATTACH;FMTTYPE=image/png:https://turnpurple2blue.org/wp-content/uploads/2026/01/maynard-postcards.png
END:VEVENT
BEGIN:VEVENT
DTSTART;TZID=America/New_York:20260428T100000
DTEND;TZID=America/New_York:20260428T110000
DTSTAMP:20260419T210440
CREATED:20260402T155718Z
LAST-MODIFIED:20260402T155723Z
UID:10004806-1777370400-1777374000@turnpurple2blue.org
SUMMARY:Write Postcards with Neponset Valley Progressive Mass
DESCRIPTION:Join us to write postcards to register voters or Get Out The VOTE (GOTV). Please RSVP so that we can make sure we have enough supplies \n\n\n\n\nApril 13\n\n\n\nApril 28\n\n\n\nMay 13
URL:https://turnpurple2blue.org/event/write-postcards-with-neponset-valley-progressive-mass/2026-04-28/
LOCATION:Westwood Public Library\, 660 High St\, Westwood\, Massachusetts\, 02090
CATEGORIES:Postcard Parties
ATTACH;FMTTYPE=image/png:https://turnpurple2blue.org/wp-content/uploads/2026/02/neponset.png
END:VEVENT
BEGIN:VEVENT
DTSTART;TZID=America/New_York:20260428T110000
DTEND;TZID=America/New_York:20260428T130000
DTSTAMP:20260419T210440
CREATED:20260204T220810Z
LAST-MODIFIED:20260204T221027Z
UID:10004287-1777374000-1777381200@turnpurple2blue.org
SUMMARY:Fix ICE!
DESCRIPTION:Come join us Monday and Tuesday 11-1 to protest ICE cruelties. \n\n\n\nWhere: Burlington\, MA: From 11–12 we hold signs on a busy street to communicate our message publicly\, and from 12–1 we gather outside the ICE office for a more informal time of signs\, speaking out\, connection\, and visible solidarity with immigrants while making our presence known to ICE.What to bring: A sign!Meeting point: Corner of Burlington Mall Road and District Ave\, closest to Pressed Cafe.After: Optionally join us for lunch at Pressed Cafe. \n\n\n\nParking near 1000 District Ave\, Burlington \n\n\n\nICE Jail\n\n\n\nFor a deep look at what happens inside ICE detention\, visit the full resource at https://bearingwitnessne.org/inside-ice \n\n\n\nInteractions\n\n\n\n\nImmigrants who are fortunate to leave the facility have shown gratitude for our presence and some share their stories with us.\n\n\n\nICE agents tend to cover their faces with masks\, many record us with their phones\, others give a satisfied smile or laugh\, they rarely say anything.\n\n\n\nThe security officers stationed at the front of the building have not hassled us.\n\n\n\nPassersby from nearby businesses often thank us for being there\, and many have shared that they never knew this was an ICE facility.\n\n\n\n\nParking for District Ave Protests\n\n\n\nThere is parking at busineses and on the street\, but there are risks. See information about where parking is officially allowed and the risk of being towed in the District Ave Area on the What to Expect page of the Bearing Witness page. Note that no one has been towed since Jared and Laurie started protesting in April 2025. In order to be legally towned\, Massachusetts General Laws Chapter 266\, Section 120D specifies that in order for towing to occur you need to be warned by a sign or a person that parking is restricted. In addition\, the owner of the property must get permission from the chief of police or designee and provide certain information.
URL:https://turnpurple2blue.org/event/fix-ice-2/2026-04-28/
LOCATION:MA
CATEGORIES:Protests
ATTACH;FMTTYPE=image/png:https://turnpurple2blue.org/wp-content/uploads/2026/02/Judged-by-appearance.png
END:VEVENT
BEGIN:VEVENT
DTSTART;TZID=America/New_York:20260428T180000
DTEND;TZID=America/New_York:20260428T190000
DTSTAMP:20260419T210440
CREATED:20260203T195318Z
LAST-MODIFIED:20260203T200240Z
UID:10004148-1777399200-1777402800@turnpurple2blue.org
SUMMARY:Texting Tuesdays | Virtual Text Bank
DESCRIPTION:Join us on Zoom at 6pm ET/5pm CT every week as we gather to drive change through digital organizing. Our texting campaigns will give you the opportunity to engage residents across the U.S. while empowering them to make a positive impact in their communities. Last year\, we sent over 19 million texts educating residents on local elections\, environmental justice\, police reform\, health care\, and so much more! During the event we will provide training\, discuss our latest texting campaign\, and we will take action. \n\n\n\n\n\n\n\nA basic Zoom account is required to register. \n\n\n\n\n\n\n\n\nRegister for Details
URL:https://turnpurple2blue.org/event/texting-tuesdays-virtual-text-bank/2026-04-28/
LOCATION:Virtual Event – Join from Anywhere
CATEGORIES:Phone Calls
ATTACH;FMTTYPE=image/avif:https://turnpurple2blue.org/wp-content/uploads/2026/02/Volunteer-Flyer-2.0_20260126183152062271.avif
END:VEVENT
BEGIN:VEVENT
DTSTART;TZID=America/New_York:20260428T180000
DTEND;TZID=America/New_York:20260428T200000
DTSTAMP:20260419T210440
CREATED:20251230T192157Z
LAST-MODIFIED:20251230T192203Z
UID:10003485-1777399200-1777406400@turnpurple2blue.org
SUMMARY:Phone Bank to Protect Voting Rights
DESCRIPTION:Join Common Cause for an important phone bank as we mobilize voters to take action against dangerous legislation in state houses and Congress. We will focus on the most urgent campaigns that need our help. Some of these campaigns may include stopping bills that will make it harder for millions of Americans—especially students\, seniors\, and veterans—to cast their ballots. We need your help to ensure voters across the country call their elected representatives and make their voices heard. \n\n\n\nNo prior experience is necessary—our team will provide full training at the start of each shift! \n\n\n\n\nGet Link\n\n\n\n\nWhat to Expect:\n\n\n\n\nA step-by-step walkthrough of our Phone Dialer tools.\n\n\n\nExpert tips on effective communication with voters.\n\n\n\nOpportunities to ask questions and connect with other like-minded volunteers.\n\n\n\n\nSign up today and take the first step toward empowering voters and protecting democracy in 2025!
URL:https://turnpurple2blue.org/event/phone-bank-to-protect-voting-rights/2026-04-28/
LOCATION:
CATEGORIES:Phone Calls
ATTACH;FMTTYPE=image/png:https://turnpurple2blue.org/wp-content/uploads/2025/12/phone-bank-with-common-cause.png
END:VEVENT
BEGIN:VEVENT
DTSTART;TZID=America/New_York:20260428T183000
DTEND;TZID=America/New_York:20260428T193000
DTSTAMP:20260419T210440
CREATED:20260107T122329Z
LAST-MODIFIED:20260108T230137Z
UID:10003905-1777401000-1777404600@turnpurple2blue.org
SUMMARY:Fight Back with Friends
DESCRIPTION:Fight Back With Friends! is a national program designed to help you activate your community! Using our the Empower app\, we’ll equip you with the tools to connect with friends\, family\, and neighbors who need YOUR voice to get civically engaged. Join us on the fourth Tuesday of every month for a one-hour training session\, where we’ll onboard new participants and introduce fresh calls to action that make a real impact. \n\n\n\n\nRSVP for Zoom Link
URL:https://turnpurple2blue.org/event/fight-back-with-friends-3/2026-04-28/
LOCATION:
CATEGORIES:Action Hours
ATTACH;FMTTYPE=image/png:https://turnpurple2blue.org/wp-content/uploads/2025/07/Fight-back-with-Friends.png
END:VEVENT
BEGIN:VEVENT
DTSTART;TZID=America/New_York:20260428T190000
DTEND;TZID=America/New_York:20260428T203000
DTSTAMP:20260419T210440
CREATED:20260401T171802Z
LAST-MODIFIED:20260401T171907Z
UID:10004788-1777402800-1777408200@turnpurple2blue.org
SUMMARY:Worcester Indivisible Marshal Training
DESCRIPTION:Want to help keep our actions safe\, organized\, and powerful? Join us for an official Marshal Training hosted by Worcester Indivisible. Whether you’re brand new to nonviolent direct action or just want to brush up on your skills\, this session will cover both NVDA essentials and marshal techniques — open to anyone ready to learn and support actions in any role. \n\n\n\n\nGet zoom link\n\n\n\n\nWe’ll cover: What is NVDA [Non-Violent Direct Action] What a marshal is and why they matter How to cork intersections and control flow Leapfrogging techniques to support mobile protests/marches De-escalation tips and safety awareness Signal App 101 for secure group communication How to support accessibility and inclusion on the ground And most importantly — how to keep each other safe while standing up for justice \n\n\n\n📣 This training will be interactive\, and discussion based. You’ll leave with real tactics\, scripts\, and tools you can use right away. We’ll also go over what to do in case of police presence\, counter-protesters\, or emergencies. No prior experience is required — just bring your curiosity\, your questions\, and your commitment to keeping our community strong. You are also not required to Marshal at any time by attending this event\, we encourage anyone and everyone to attend it simply to grow their skills and feel more comfortable during actions. \n\n\n\n🧭 This is a great entry point if you’ve ever thought: “I want to help\, but I don’t know where to start.” Please RSVP so we can plan for time. Let’s build the infrastructure we need for bold\, safe\, and effective action in Central MA!
URL:https://turnpurple2blue.org/event/worcester-indivisible-marshal-training-4/2026-04-28/
LOCATION:
CATEGORIES:Action Hours
ATTACH;FMTTYPE=image/png:https://turnpurple2blue.org/wp-content/uploads/2025/08/Marshal.png
END:VEVENT
END:VCALENDAR