BEGIN:VCALENDAR
VERSION:2.0
PRODID:-//Turn Purple 2 Blue - ECPv6.15.20//NONSGML v1.0//EN
CALSCALE:GREGORIAN
METHOD:PUBLISH
X-WR-CALNAME:Turn Purple 2 Blue
X-ORIGINAL-URL:https://turnpurple2blue.org
X-WR-CALDESC:Events for Turn Purple 2 Blue
REFRESH-INTERVAL;VALUE=DURATION:PT1H
X-Robots-Tag:noindex
X-PUBLISHED-TTL:PT1H
BEGIN:VTIMEZONE
TZID:America/New_York
BEGIN:DAYLIGHT
TZOFFSETFROM:-0500
TZOFFSETTO:-0400
TZNAME:EDT
DTSTART:20250309T070000
END:DAYLIGHT
BEGIN:STANDARD
TZOFFSETFROM:-0400
TZOFFSETTO:-0500
TZNAME:EST
DTSTART:20251102T060000
END:STANDARD
BEGIN:DAYLIGHT
TZOFFSETFROM:-0500
TZOFFSETTO:-0400
TZNAME:EDT
DTSTART:20260308T070000
END:DAYLIGHT
BEGIN:STANDARD
TZOFFSETFROM:-0400
TZOFFSETTO:-0500
TZNAME:EST
DTSTART:20261101T060000
END:STANDARD
BEGIN:DAYLIGHT
TZOFFSETFROM:-0500
TZOFFSETTO:-0400
TZNAME:EDT
DTSTART:20270314T070000
END:DAYLIGHT
BEGIN:STANDARD
TZOFFSETFROM:-0400
TZOFFSETTO:-0500
TZNAME:EST
DTSTART:20271107T060000
END:STANDARD
END:VTIMEZONE
BEGIN:VEVENT
DTSTART;TZID=America/New_York:20260511T153000
DTEND;TZID=America/New_York:20260511T163000
DTSTAMP:20260420T170844
CREATED:20260419T211236Z
LAST-MODIFIED:20260419T211241Z
UID:10004988-1778513400-1778517000@turnpurple2blue.org
SUMMARY:Standout for Democracy
DESCRIPTION:Hosted by Indivisible Progressive Mass Cambridge and Third Act \n\n\n\nEvery Monday from 3:30-4:30pm starting February 2\, 2026 Location: on the public sidewalk along Alewife Brook Parkway\, Cambridge\, near the Whole Foods at Fresh Pond Mall (200 Alewife Brook Pkwy 02138). \n\n\n\n\nRSVP for updates\n\n\n\n\nWe bring our own signs and wave to traffic Cancelled if heavy rain\, snow\, or very low wind chill. If you Sign Up we will notify you of cancellations by email. Accessibility: flat ground\, parking at the spot
URL:https://turnpurple2blue.org/event/standout-for-democracy/2026-05-11/
LOCATION:Near Whole Foods at Frosh Pond\, 200 Alewife Brook Parkway\, Cambridge\, Massachusetts\, 02138
ATTACH;FMTTYPE=image/png:https://turnpurple2blue.org/wp-content/uploads/2026/04/standout-cambridge.png
END:VEVENT
END:VCALENDAR