BEGIN:VCALENDAR
VERSION:2.0
PRODID:-//Turn Purple 2 Blue - ECPv6.15.17//NONSGML v1.0//EN
CALSCALE:GREGORIAN
METHOD:PUBLISH
X-ORIGINAL-URL:https://turnpurple2blue.org
X-WR-CALDESC:Events for Turn Purple 2 Blue
REFRESH-INTERVAL;VALUE=DURATION:PT1H
X-Robots-Tag:noindex
X-PUBLISHED-TTL:PT1H
BEGIN:VTIMEZONE
TZID:America/New_York
BEGIN:DAYLIGHT
TZOFFSETFROM:-0500
TZOFFSETTO:-0400
TZNAME:EDT
DTSTART:20250309T070000
END:DAYLIGHT
BEGIN:STANDARD
TZOFFSETFROM:-0400
TZOFFSETTO:-0500
TZNAME:EST
DTSTART:20251102T060000
END:STANDARD
BEGIN:DAYLIGHT
TZOFFSETFROM:-0500
TZOFFSETTO:-0400
TZNAME:EDT
DTSTART:20260308T070000
END:DAYLIGHT
BEGIN:STANDARD
TZOFFSETFROM:-0400
TZOFFSETTO:-0500
TZNAME:EST
DTSTART:20261101T060000
END:STANDARD
BEGIN:DAYLIGHT
TZOFFSETFROM:-0500
TZOFFSETTO:-0400
TZNAME:EDT
DTSTART:20270314T070000
END:DAYLIGHT
BEGIN:STANDARD
TZOFFSETFROM:-0400
TZOFFSETTO:-0500
TZNAME:EST
DTSTART:20271107T060000
END:STANDARD
END:VTIMEZONE
BEGIN:VEVENT
DTSTART;TZID=America/New_York:20260620T110000
DTEND;TZID=America/New_York:20260620T120000
DTSTAMP:20260306T024623
CREATED:20260204T212509Z
LAST-MODIFIED:20260204T212514Z
UID:10004223-1781953200-1781956800@turnpurple2blue.org
SUMMARY:Malden Democrats Stand Out for Democracy
DESCRIPTION:The Malden Democratic City Committee hosts a weekly pro-democracy stand out every Saturday. \n\n\n\nAll are welcome. \n\n\n\nPlease bring your own sign or an American flag. \n\n\n\nThis is a family friendly event. \n\n\n\n\nRSVP for Exact Address\n\n\n\n\nParking is available on surrounding side streets as well as at the nearby hockey rink as long as there isn’t a game being held.
URL:https://turnpurple2blue.org/event/malden-democrats-stand-out-for-democracy/2026-06-20/
LOCATION:Malden-Private Address\, Malden\, Massachusetts
CATEGORIES:Protests
ATTACH;FMTTYPE=image/png:https://turnpurple2blue.org/wp-content/uploads/2026/02/malden.png
END:VEVENT
BEGIN:VEVENT
DTSTART;TZID=America/New_York:20260620T130000
DTEND;TZID=America/New_York:20260620T150000
DTSTAMP:20260306T024623
CREATED:20260121T235527Z
LAST-MODIFIED:20260121T235532Z
UID:10004028-1781960400-1781967600@turnpurple2blue.org
SUMMARY:Monthly Standout Against Authoritarianism
DESCRIPTION:This a Indivisible Maynard Area event! \n\n\n\nWe meet the 3rd Saturday of every month from 1-3pm At Veterans Memorial Park to stand up against authoritarianism. Signs welcome! Let’s stand together as a community to fight for our democracy and our rights. \n\n\n\n\nRSVP for updates\n\n\n\n\nA core principle behind all Indivisible events is a commitment to nonviolent action. We expect all participants to seek to de-escalate any potential confrontation with those who disagree with our values.
URL:https://turnpurple2blue.org/event/monthly-standout-against-authoritarianism/2026-06-20/
LOCATION:Veteran’s Memorial Park\, Summer St\, Maynard\, Massachusetts\, 01754
CATEGORIES:Protests
ATTACH;FMTTYPE=image/png:https://turnpurple2blue.org/wp-content/uploads/2025/03/rsvp-now.png
GEO:42.4358926;-71.464172
X-APPLE-STRUCTURED-LOCATION;VALUE=URI;X-ADDRESS=Veteran’s Memorial Park Summer St Maynard Massachusetts 01754;X-APPLE-RADIUS=500;X-TITLE=Summer St:geo:-71.464172,42.4358926
END:VEVENT
END:VCALENDAR