BEGIN:VCALENDAR
VERSION:2.0
PRODID:-//Turn Purple 2 Blue - ECPv6.15.20//NONSGML v1.0//EN
CALSCALE:GREGORIAN
METHOD:PUBLISH
X-ORIGINAL-URL:https://turnpurple2blue.org
X-WR-CALDESC:Events for Turn Purple 2 Blue
REFRESH-INTERVAL;VALUE=DURATION:PT1H
X-Robots-Tag:noindex
X-PUBLISHED-TTL:PT1H
BEGIN:VTIMEZONE
TZID:America/New_York
BEGIN:DAYLIGHT
TZOFFSETFROM:-0500
TZOFFSETTO:-0400
TZNAME:EDT
DTSTART:20250309T070000
END:DAYLIGHT
BEGIN:STANDARD
TZOFFSETFROM:-0400
TZOFFSETTO:-0500
TZNAME:EST
DTSTART:20251102T060000
END:STANDARD
BEGIN:DAYLIGHT
TZOFFSETFROM:-0500
TZOFFSETTO:-0400
TZNAME:EDT
DTSTART:20260308T070000
END:DAYLIGHT
BEGIN:STANDARD
TZOFFSETFROM:-0400
TZOFFSETTO:-0500
TZNAME:EST
DTSTART:20261101T060000
END:STANDARD
BEGIN:DAYLIGHT
TZOFFSETFROM:-0500
TZOFFSETTO:-0400
TZNAME:EDT
DTSTART:20270314T070000
END:DAYLIGHT
BEGIN:STANDARD
TZOFFSETFROM:-0400
TZOFFSETTO:-0500
TZNAME:EST
DTSTART:20271107T060000
END:STANDARD
END:VTIMEZONE
BEGIN:VEVENT
DTSTART;TZID=America/New_York:20260710T090000
DTEND;TZID=America/New_York:20260710T100000
DTSTAMP:20260424T100927
CREATED:20260101T201938Z
LAST-MODIFIED:20260101T201943Z
UID:10003567-1783674000-1783677600@turnpurple2blue.org
SUMMARY:Tech Office Hours
DESCRIPTION:Swing Blue Alliance values your commitment to activism. We want to make sure you get the assistance that you need so you can focus on becoming an effective activist. Technology can certainly be a hurdle for many. The Swing Blue Alliance Tech Team is here to help. We will provide one-on-one assistance and answer any questions you may have every Friday from 9 AM to 10 AM.
URL:https://turnpurple2blue.org/event/tech-office-hours/2026-07-10/
LOCATION:
CATEGORIES:Action Hours
ATTACH;FMTTYPE=image/png:https://turnpurple2blue.org/wp-content/uploads/2025/03/tech-help.png
END:VEVENT
BEGIN:VEVENT
DTSTART;TZID=America/New_York:20260710T100000
DTEND;TZID=America/New_York:20260710T120000
DTSTAMP:20260424T100927
CREATED:20260423T120313Z
LAST-MODIFIED:20260423T120318Z
UID:10005014-1783677600-1783684800@turnpurple2blue.org
SUMMARY:Weekly Postcard Action Hours hosted by Indivisible Outer Cape
DESCRIPTION:Turn your political worries into positive actions and help flip the House and Senate in 2026! \n\n\n\n\n\n\n\nIn early 2026\, we are sending messages to voters highlighting the negative consequences of the Republican legislation and policies. \n\n\n\n\n\n\n\nAnd we are encouraging progressives to register and vote! \n\n\n\n\n\n\n\nAs we get closer to the election\, we will be getting out the vote. \n\n\n\n\n\n\n\nPlease join us to write postcards at Wellfleet Preservation Hall every\, Friday morning 10:00-12:00. \n\n\n\n\n\n\n\nThis is a great way to help Dems win\, preserve our democracy and enjoy some quality time with lovely like-minded activists. 🙂 \n\n\n\n\n\n\n\n\nRSVP for Details\n\n\n\n\n\n\n\n\nA core principle behind all Indivisible events is a commitment to nonviolent action. We expect all participants to seek to de-escalate any potential confrontation with those who disagree with our values.
URL:https://turnpurple2blue.org/event/weekly-postcard-action-hours-hosted-by-indivisible-outer-cape/2026-07-10/
LOCATION:Wellfleet Private Address
CATEGORIES:Postcard Parties
ATTACH;FMTTYPE=image/avif:https://turnpurple2blue.org/wp-content/uploads/2026/04/Screenshot-2025-02-24-at-11.09.02-PM_20250813152735185951.avif
END:VEVENT
BEGIN:VEVENT
DTSTART;TZID=America/New_York:20260710T130000
DTEND;TZID=America/New_York:20260710T140000
DTSTAMP:20260424T100927
CREATED:20260407T155335Z
LAST-MODIFIED:20260407T155341Z
UID:10004878-1783688400-1783692000@turnpurple2blue.org
SUMMARY:Greater Methuen Indivisible: Building Community One Postcard at a Time | Postcard Event in Methuen
DESCRIPTION:This a local\, indoor Indivisible event! POSTCARD WRITING NEVIN’S MEMORIAL LIBRARY \n\n\n\n\n\n\n\nGreater Methuen Indivisible was created to bring impactful activism directly to you. We offer a variety of actions to help you defend our democracy and support the progressive agenda. If you’re looking at how you can help strengthen our Democracy\, please join us! \n\n\n\n\n\n\n\nPostcard writing is a community builder and best of all\, they have an impact! Postcards provide a personal connection to the voter and has been found to boost turnout by roughly 1-6%\, which can put a candidate in a close race over the top. \n\n\n\n\n\n\n\nPOSTCARDS come 10 to a packet for a donation of $6 to help pay for postage. Cash please. We will provide a short script\, pens and markers. We are reaching out to register people to vote in Swing and Blue States. \n\n\n\n\n\n\n\nOUR MISSION \n\n\n\n\n\n\n\nWe focus on Get-Out-The-Vote (GOTV) efforts\, voting access\, and defending election integrity\, because we believe voter participation is the foundation to a healthy democracy. \n\n\n\n\n\n\n\n\nRSVP for Updates\n\n\n\n\n\n\n\n\nA core principle behind all Indivisible events is a commitment to nonviolent action. We expect all participants to seek to de-escalate any potential confrontation with those who disagree with our values.
URL:https://turnpurple2blue.org/event/greater-methuen-indivisible-building-community-one-postcard-at-a-time-postcard-event-in-methuen/2026-07-10/
LOCATION:Nevins Memorial Library\, 305 Broadway\, Methuen\, Massachusetts\, 01844
CATEGORIES:Postcard Parties
ATTACH;FMTTYPE=image/png:https://turnpurple2blue.org/wp-content/uploads/2025/03/rsvpnow.png
END:VEVENT
END:VCALENDAR