BEGIN:VCALENDAR
VERSION:2.0
PRODID:-//Turn Purple 2 Blue - ECPv6.15.20//NONSGML v1.0//EN
CALSCALE:GREGORIAN
METHOD:PUBLISH
X-ORIGINAL-URL:https://turnpurple2blue.org
X-WR-CALDESC:Events for Turn Purple 2 Blue
REFRESH-INTERVAL;VALUE=DURATION:PT1H
X-Robots-Tag:noindex
X-PUBLISHED-TTL:PT1H
BEGIN:VTIMEZONE
TZID:America/New_York
BEGIN:DAYLIGHT
TZOFFSETFROM:-0500
TZOFFSETTO:-0400
TZNAME:EDT
DTSTART:20250309T070000
END:DAYLIGHT
BEGIN:STANDARD
TZOFFSETFROM:-0400
TZOFFSETTO:-0500
TZNAME:EST
DTSTART:20251102T060000
END:STANDARD
BEGIN:DAYLIGHT
TZOFFSETFROM:-0500
TZOFFSETTO:-0400
TZNAME:EDT
DTSTART:20260308T070000
END:DAYLIGHT
BEGIN:STANDARD
TZOFFSETFROM:-0400
TZOFFSETTO:-0500
TZNAME:EST
DTSTART:20261101T060000
END:STANDARD
BEGIN:DAYLIGHT
TZOFFSETFROM:-0500
TZOFFSETTO:-0400
TZNAME:EDT
DTSTART:20270314T070000
END:DAYLIGHT
BEGIN:STANDARD
TZOFFSETFROM:-0400
TZOFFSETTO:-0500
TZNAME:EST
DTSTART:20271107T060000
END:STANDARD
END:VTIMEZONE
BEGIN:VEVENT
DTSTART;TZID=America/New_York:20260825T180000
DTEND;TZID=America/New_York:20260825T190000
DTSTAMP:20260420T034414
CREATED:20260203T195318Z
LAST-MODIFIED:20260203T200240Z
UID:10004162-1787680800-1787684400@turnpurple2blue.org
SUMMARY:Texting Tuesdays | Virtual Text Bank
DESCRIPTION:Join us on Zoom at 6pm ET/5pm CT every week as we gather to drive change through digital organizing. Our texting campaigns will give you the opportunity to engage residents across the U.S. while empowering them to make a positive impact in their communities. Last year\, we sent over 19 million texts educating residents on local elections\, environmental justice\, police reform\, health care\, and so much more! During the event we will provide training\, discuss our latest texting campaign\, and we will take action. \n\n\n\n\n\n\n\nA basic Zoom account is required to register. \n\n\n\n\n\n\n\n\nRegister for Details
URL:https://turnpurple2blue.org/event/texting-tuesdays-virtual-text-bank/2026-08-25/
LOCATION:Virtual Event – Join from Anywhere
CATEGORIES:Phone Calls
ATTACH;FMTTYPE=image/avif:https://turnpurple2blue.org/wp-content/uploads/2026/02/Volunteer-Flyer-2.0_20260126183152062271.avif
END:VEVENT
BEGIN:VEVENT
DTSTART;TZID=America/New_York:20260825T180000
DTEND;TZID=America/New_York:20260825T200000
DTSTAMP:20260420T034414
CREATED:20251230T192157Z
LAST-MODIFIED:20251230T192203Z
UID:10003502-1787680800-1787688000@turnpurple2blue.org
SUMMARY:Phone Bank to Protect Voting Rights
DESCRIPTION:Join Common Cause for an important phone bank as we mobilize voters to take action against dangerous legislation in state houses and Congress. We will focus on the most urgent campaigns that need our help. Some of these campaigns may include stopping bills that will make it harder for millions of Americans—especially students\, seniors\, and veterans—to cast their ballots. We need your help to ensure voters across the country call their elected representatives and make their voices heard. \n\n\n\nNo prior experience is necessary—our team will provide full training at the start of each shift! \n\n\n\n\nGet Link\n\n\n\n\nWhat to Expect:\n\n\n\n\nA step-by-step walkthrough of our Phone Dialer tools.\n\n\n\nExpert tips on effective communication with voters.\n\n\n\nOpportunities to ask questions and connect with other like-minded volunteers.\n\n\n\n\nSign up today and take the first step toward empowering voters and protecting democracy in 2025!
URL:https://turnpurple2blue.org/event/phone-bank-to-protect-voting-rights/2026-08-25/
LOCATION:
CATEGORIES:Phone Calls
ATTACH;FMTTYPE=image/png:https://turnpurple2blue.org/wp-content/uploads/2025/12/phone-bank-with-common-cause.png
END:VEVENT
BEGIN:VEVENT
DTSTART;TZID=America/New_York:20260825T183000
DTEND;TZID=America/New_York:20260825T193000
DTSTAMP:20260420T034414
CREATED:20260107T122329Z
LAST-MODIFIED:20260108T230137Z
UID:10003909-1787682600-1787686200@turnpurple2blue.org
SUMMARY:Fight Back with Friends
DESCRIPTION:Fight Back With Friends! is a national program designed to help you activate your community! Using our the Empower app\, we’ll equip you with the tools to connect with friends\, family\, and neighbors who need YOUR voice to get civically engaged. Join us on the fourth Tuesday of every month for a one-hour training session\, where we’ll onboard new participants and introduce fresh calls to action that make a real impact. \n\n\n\n\nRSVP for Zoom Link
URL:https://turnpurple2blue.org/event/fight-back-with-friends-3/2026-08-25/
LOCATION:
CATEGORIES:Action Hours
ATTACH;FMTTYPE=image/png:https://turnpurple2blue.org/wp-content/uploads/2025/07/Fight-back-with-Friends.png
END:VEVENT
END:VCALENDAR