BEGIN:VCALENDAR
VERSION:2.0
PRODID:-//Turn Purple 2 Blue - ECPv6.15.20//NONSGML v1.0//EN
CALSCALE:GREGORIAN
METHOD:PUBLISH
X-ORIGINAL-URL:https://turnpurple2blue.org
X-WR-CALDESC:Events for Turn Purple 2 Blue
REFRESH-INTERVAL;VALUE=DURATION:PT1H
X-Robots-Tag:noindex
X-PUBLISHED-TTL:PT1H
BEGIN:VTIMEZONE
TZID:America/New_York
BEGIN:DAYLIGHT
TZOFFSETFROM:-0500
TZOFFSETTO:-0400
TZNAME:EDT
DTSTART:20250309T070000
END:DAYLIGHT
BEGIN:STANDARD
TZOFFSETFROM:-0400
TZOFFSETTO:-0500
TZNAME:EST
DTSTART:20251102T060000
END:STANDARD
BEGIN:DAYLIGHT
TZOFFSETFROM:-0500
TZOFFSETTO:-0400
TZNAME:EDT
DTSTART:20260308T070000
END:DAYLIGHT
BEGIN:STANDARD
TZOFFSETFROM:-0400
TZOFFSETTO:-0500
TZNAME:EST
DTSTART:20261101T060000
END:STANDARD
BEGIN:DAYLIGHT
TZOFFSETFROM:-0500
TZOFFSETTO:-0400
TZNAME:EDT
DTSTART:20270314T070000
END:DAYLIGHT
BEGIN:STANDARD
TZOFFSETFROM:-0400
TZOFFSETTO:-0500
TZNAME:EST
DTSTART:20271107T060000
END:STANDARD
END:VTIMEZONE
BEGIN:VEVENT
DTSTART;TZID=America/New_York:20261009T090000
DTEND;TZID=America/New_York:20261009T100000
DTSTAMP:20260425T102001
CREATED:20260101T201938Z
LAST-MODIFIED:20260101T201943Z
UID:10003580-1791536400-1791540000@turnpurple2blue.org
SUMMARY:Tech Office Hours
DESCRIPTION:Swing Blue Alliance values your commitment to activism. We want to make sure you get the assistance that you need so you can focus on becoming an effective activist. Technology can certainly be a hurdle for many. The Swing Blue Alliance Tech Team is here to help. We will provide one-on-one assistance and answer any questions you may have every Friday from 9 AM to 10 AM.
URL:https://turnpurple2blue.org/event/tech-office-hours/2026-10-09/
LOCATION:
CATEGORIES:Action Hours
ATTACH;FMTTYPE=image/png:https://turnpurple2blue.org/wp-content/uploads/2025/03/tech-help.png
END:VEVENT
BEGIN:VEVENT
DTSTART;TZID=America/New_York:20261009T100000
DTEND;TZID=America/New_York:20261009T120000
DTSTAMP:20260425T102001
CREATED:20260423T120313Z
LAST-MODIFIED:20260423T120318Z
UID:10005027-1791540000-1791547200@turnpurple2blue.org
SUMMARY:Weekly Postcard Action Hours hosted by Indivisible Outer Cape
DESCRIPTION:Turn your political worries into positive actions and help flip the House and Senate in 2026! \n\n\n\n\n\n\n\nIn early 2026\, we are sending messages to voters highlighting the negative consequences of the Republican legislation and policies. \n\n\n\n\n\n\n\nAnd we are encouraging progressives to register and vote! \n\n\n\n\n\n\n\nAs we get closer to the election\, we will be getting out the vote. \n\n\n\n\n\n\n\nPlease join us to write postcards at Wellfleet Preservation Hall every\, Friday morning 10:00-12:00. \n\n\n\n\n\n\n\nThis is a great way to help Dems win\, preserve our democracy and enjoy some quality time with lovely like-minded activists. 🙂 \n\n\n\n\n\n\n\n\nRSVP for Details\n\n\n\n\n\n\n\n\nA core principle behind all Indivisible events is a commitment to nonviolent action. We expect all participants to seek to de-escalate any potential confrontation with those who disagree with our values.
URL:https://turnpurple2blue.org/event/weekly-postcard-action-hours-hosted-by-indivisible-outer-cape/2026-10-09/
LOCATION:Wellfleet Private Address
CATEGORIES:Postcard Parties
ATTACH;FMTTYPE=image/avif:https://turnpurple2blue.org/wp-content/uploads/2026/04/Screenshot-2025-02-24-at-11.09.02-PM_20250813152735185951.avif
END:VEVENT
END:VCALENDAR