BEGIN:VCALENDAR
VERSION:2.0
PRODID:-//Turn Purple 2 Blue - ECPv6.15.20//NONSGML v1.0//EN
CALSCALE:GREGORIAN
METHOD:PUBLISH
X-ORIGINAL-URL:https://turnpurple2blue.org
X-WR-CALDESC:Events for Turn Purple 2 Blue
REFRESH-INTERVAL;VALUE=DURATION:PT1H
X-Robots-Tag:noindex
X-PUBLISHED-TTL:PT1H
BEGIN:VTIMEZONE
TZID:America/New_York
BEGIN:DAYLIGHT
TZOFFSETFROM:-0500
TZOFFSETTO:-0400
TZNAME:EDT
DTSTART:20250309T070000
END:DAYLIGHT
BEGIN:STANDARD
TZOFFSETFROM:-0400
TZOFFSETTO:-0500
TZNAME:EST
DTSTART:20251102T060000
END:STANDARD
BEGIN:DAYLIGHT
TZOFFSETFROM:-0500
TZOFFSETTO:-0400
TZNAME:EDT
DTSTART:20260308T070000
END:DAYLIGHT
BEGIN:STANDARD
TZOFFSETFROM:-0400
TZOFFSETTO:-0500
TZNAME:EST
DTSTART:20261101T060000
END:STANDARD
BEGIN:DAYLIGHT
TZOFFSETFROM:-0500
TZOFFSETTO:-0400
TZNAME:EDT
DTSTART:20270314T070000
END:DAYLIGHT
BEGIN:STANDARD
TZOFFSETFROM:-0400
TZOFFSETTO:-0500
TZNAME:EST
DTSTART:20271107T060000
END:STANDARD
END:VTIMEZONE
BEGIN:VEVENT
DTSTART;TZID=America/New_York:20260308T130000
DTEND;TZID=America/New_York:20260308T140000
DTSTAMP:20260422T223326
CREATED:20260217T150232Z
LAST-MODIFIED:20260217T150237Z
UID:10004430-1772974800-1772978400@turnpurple2blue.org
SUMMARY:Signs of Fascism | Sign-Holding Event
DESCRIPTION:Signs of Fascism is a unique visibility event where specific examples on signs can help get through to people what’s being lost. For example “Ignoring Due Process”\, “Controlling Media”. Indivisible in Melrose Wakefield and Beyond has a set of 24 different signs – come hold one with us!  \n\n\n\n\n\n\n\nWear a warm coat (ideally black) and join us holding signs\, light snow or drizzle. See the video from our 12/14/25 (set to the song Bella Ciao https://drive.google.com/file/d/1mtDXFnOpDgB1bfQuxg70hOlaL_KIwA7Z/view?usp=sharing \n\n\n\n\n\n\n\n\nRegister for Details/Updates\n\n\n\n\n\n\n\n\nA core principle behind all Indivisible events is a commitment to nonviolent action. We expect all participants to seek to de-escalate any potential confrontation with those who disagree with our values.
URL:https://turnpurple2blue.org/event/signs-of-fascism-sign-holding-event/2026-03-08/
LOCATION:Veterans Field\, 468 North Ave\, Wakefield\, Massachusetts\, 01880\, United States
CATEGORIES:Action Hours,Protests
ATTACH;FMTTYPE=image/png:https://turnpurple2blue.org/wp-content/uploads/2025/03/rsvp-now.png
END:VEVENT
BEGIN:VEVENT
DTSTART;TZID=America/New_York:20260308T163000
DTEND;TZID=America/New_York:20260308T183000
DTSTAMP:20260422T223326
CREATED:20260225T151457Z
LAST-MODIFIED:20260225T152612Z
UID:10004496-1772987400-1772994600@turnpurple2blue.org
SUMMARY:Indivisible Westford Poster Making for NO KINGS | Community Gathering in Westford
DESCRIPTION:Join us for a poster-making event to make posters for No Kings 3. \n\n\n\n\n\n\n\nPoster-making supplies will be available\, but we appreciate if you can also bring your own. Refreshments will be provided. We have participated and hosted these events in the past\, and it’s a great opportunity to work with your fellow activists\, use your creativity\, and have some fun.   \n\n\n\n\n\n\n\n\nRSVP for Updates\n\n\n\n\n\n\n\n\nA core principle behind all Indivisible events is a commitment to nonviolent action. We expect all participants to seek to de-escalate any potential confrontation with those who disagree with our values.
URL:https://turnpurple2blue.org/event/indivisible-westford-poster-making-for-no-kings-community-gathering-in-westford/
LOCATION:First Parish Church United\, 48 Main St\, Westford\, Massachusetts\, 01186
CATEGORIES:Action Hours,Community Gatherings
ATTACH;FMTTYPE=image/jpeg:https://turnpurple2blue.org/wp-content/uploads/2026/02/hannah-busing-Zyx1bK9mqmA-unsplash.jpg
GEO:42.5816209;-71.4393076
X-APPLE-STRUCTURED-LOCATION;VALUE=URI;X-ADDRESS=First Parish Church United 48 Main St Westford Massachusetts 01186;X-APPLE-RADIUS=500;X-TITLE=48 Main St:geo:-71.4393076,42.5816209
END:VEVENT
END:VCALENDAR