BEGIN:VCALENDAR
VERSION:2.0
PRODID:-//Turn Purple 2 Blue - ECPv6.15.20//NONSGML v1.0//EN
CALSCALE:GREGORIAN
METHOD:PUBLISH
X-WR-CALNAME:Turn Purple 2 Blue
X-ORIGINAL-URL:https://turnpurple2blue.org
X-WR-CALDESC:Events for Turn Purple 2 Blue
REFRESH-INTERVAL;VALUE=DURATION:PT1H
X-Robots-Tag:noindex
X-PUBLISHED-TTL:PT1H
BEGIN:VTIMEZONE
TZID:America/New_York
BEGIN:DAYLIGHT
TZOFFSETFROM:-0500
TZOFFSETTO:-0400
TZNAME:EDT
DTSTART:20250309T070000
END:DAYLIGHT
BEGIN:STANDARD
TZOFFSETFROM:-0400
TZOFFSETTO:-0500
TZNAME:EST
DTSTART:20251102T060000
END:STANDARD
BEGIN:DAYLIGHT
TZOFFSETFROM:-0500
TZOFFSETTO:-0400
TZNAME:EDT
DTSTART:20260308T070000
END:DAYLIGHT
BEGIN:STANDARD
TZOFFSETFROM:-0400
TZOFFSETTO:-0500
TZNAME:EST
DTSTART:20261101T060000
END:STANDARD
BEGIN:DAYLIGHT
TZOFFSETFROM:-0500
TZOFFSETTO:-0400
TZNAME:EDT
DTSTART:20270314T070000
END:DAYLIGHT
BEGIN:STANDARD
TZOFFSETFROM:-0400
TZOFFSETTO:-0500
TZNAME:EST
DTSTART:20271107T060000
END:STANDARD
END:VTIMEZONE
BEGIN:VEVENT
DTSTART;TZID=America/New_York:20260321T080000
DTEND;TZID=America/New_York:20260322T170000
DTSTAMP:20260420T110553
CREATED:20260216T171234Z
LAST-MODIFIED:20260216T171239Z
UID:10004404-1774080000-1774198800@turnpurple2blue.org
SUMMARY:Grassroots Campaign Training 2026 | Multiple Dates & Locations
DESCRIPTION:Mass Alliance’s signature Grassroots Campaign Training\, is a comprehensive two-day bootcamp that will teach you all you need to know to run and win a grassroots campaign for public office  including mailers\, GOTV planning\, fundraising\, messaging\, social media\, and more. Link to application: tinyurl.com/gct26ma \n\n\n\n\n\n\n\nTraining Dates / Locations: \n\n\n\nFeb 28-Mar 1 Worcester (Deadline to apply: Feb 12) \n\n\n\nMar 14-15 Lynn (Deadline to apply:  Feb 27) \n\n\n\nMar 21-22 Springfield (Deadline to apply: Mar 5) \n\n\n\nApril 11-12 Quincy (Deadline to apply: Mar 2) \n\n\n\n\n\n\n\nRegistration Fee   $200 \n\n\n\nRegistration Fee + Scholarship Fund Contribution: $250 \n\n\n\n(Sliding scale available) \n\n\n\n\n\n\n\nBreakfast & Lunch Provided \n\n\n\n\n\n\n\nWe will review your application and contact you within a week with payment instructions upon submitting this form.  Location will be provided upon registration. \n\n\n\n\n\n\n\nPlease e-mail contact@massalliance.org for additional information.  \n\n\n\n\n\n\n\n\nRegister for Details\n\n\n\n\n\n\n\n\nA core principle behind all Indivisible events is a commitment to nonviolent action. We expect all participants to seek to de-escalate any potential confrontation with those who disagree with our values. 
URL:https://turnpurple2blue.org/event/grassroots-campaign-training-2026-multiple-dates-locations/2026-03-21/
LOCATION:Various Locations – Register for Details
CATEGORIES:Action Hours,Community Gatherings
ATTACH;FMTTYPE=image/png:https://turnpurple2blue.org/wp-content/uploads/2026/02/GCT-26-Social-Media-Post-768x994-1.png
END:VEVENT
BEGIN:VEVENT
DTSTART;TZID=America/New_York:20260322T140000
DTEND;TZID=America/New_York:20260322T160000
DTSTAMP:20260420T110553
CREATED:20260103T162006Z
LAST-MODIFIED:20260103T162307Z
UID:10003678-1774188000-1774195200@turnpurple2blue.org
SUMMARY:Indivisible Central Mass Monthly Meeting
DESCRIPTION:Join Indivisible Central Mass for our monthly meeting the last Sunday of each month. \n\n\n\nWe will share updates\, discuss how we can collaborate and take action\, and organize some fun social gatherings as we build relationships and community too! \n\n\n\n\nRSVP for exact address\n\n\n\n\nWe are so excited to hear what all of our committees have been doing since we last met! Come prepared to share what you have been working on as we plan our next steps together. \n\n\n\nThis a local Indivisible event! \n\n\n\nA core principle behind all Indivisible events is a commitment to nonviolent action. We expect all participants to seek to de-escalate any potential confrontation with those who disagree with our values.
URL:https://turnpurple2blue.org/event/indivisible-central-mass-monthly-meeting-3/2026-03-22/
LOCATION:Private address near Hopedale\, Hopedale\, Massachusetts
CATEGORIES:Action Hours
ATTACH;FMTTYPE=image/png:https://turnpurple2blue.org/wp-content/uploads/2025/03/rsvpnow.png
END:VEVENT
BEGIN:VEVENT
DTSTART;TZID=America/New_York:20260322T141500
DTEND;TZID=America/New_York:20260322T161500
DTSTAMP:20260420T110553
CREATED:20260303T162301Z
LAST-MODIFIED:20260303T162307Z
UID:10004529-1774188900-1774196100@turnpurple2blue.org
SUMMARY:Neponset Valley Progressives Member Meeting
DESCRIPTION:Join Neponset Valley Progressives in the Community Room. Parking is available in the library lot. We will provide coffee\, tea\, and snacks.  \n\n\n\n\nRSVP and get zoom link\n\n\n\n\nThis will be hybrid meeting; we will also offer participation via Zoom. Instructions for remote participation to follow.   \n\n\n\nWe look forward to seeing you 
URL:https://turnpurple2blue.org/event/neponset-valley-progressives-member-meeting/
LOCATION:Westwood Public Library\, 660 High St\, Westwood\, Massachusetts\, 02090
CATEGORIES:Action Hours
ATTACH;FMTTYPE=image/png:https://turnpurple2blue.org/wp-content/uploads/2026/02/neponset.png
END:VEVENT
BEGIN:VEVENT
DTSTART;TZID=America/New_York:20260322T190000
DTEND;TZID=America/New_York:20260322T203000
DTSTAMP:20260420T110553
CREATED:20260312T132023Z
LAST-MODIFIED:20260312T170439Z
UID:10004641-1774206000-1774211400@turnpurple2blue.org
SUMMARY:Building Effective Resistance through Citizen Activism
DESCRIPTION:The abuses that led to the American Revolution–rule by a king\, troops seizing people without a warrant\, using office for personal gain\, arresting people for what they say–are all being repeated in our time.  People who have studied authoritarian takeovers all agree that popular resistance can make the difference between a democracy’s survival or death.  Come find out how citizen activism can reverse authoritarian trends\, what popular resistance has looked like over the past year\, and what we have to prepare for in the next three years.  Learn about the impact of ICE activity in Massachusetts\, how LUCE has evolved to become a potent force for immigrant justice and equity in the state\, and effective actions that people can take now to support at-risk populations. \n\n\n\n\nGet Zoom Link\n\n\n\n\nSpeakers:  \n\n\n\nToby Sackton has been a lifelong movement activist in the Boston area and has lived in Lexington for 40 years.  He was one of the founders of Lexington Alarm on Patriots Day 2025.  \n\n\n\nStephen Lewin-Berlin is a long-time activist committed to community building and resisting injustice through nonviolent actions.  He is a local hub lead for LUCE–a Massachusetts-wide rapid response network that supports immigrants and opposes ICE activity throughout the state. \n\n\n\nParking:  Parking is available at First Parish in Wayland\, 225 Boston Post Road\, Wayland\, MA 01778.  If overflow parking is needed\, we recommend crossing Route 27 at the light and parking in the Town Hall parking lots across the street.
URL:https://turnpurple2blue.org/event/building-effective-resistance-through-citizen-activism/
LOCATION:First Parish Wayland\, 225 Boston Post Road\, Wayland\, Massachusetts\, 01778
CATEGORIES:Action Hours
ATTACH;FMTTYPE=image/jpeg:https://turnpurple2blue.org/wp-content/uploads/2026/03/Building-Effective-Resistance-Flyer.jpg
GEO:42.3622814;-71.3592737
X-APPLE-STRUCTURED-LOCATION;VALUE=URI;X-ADDRESS=First Parish Wayland 225 Boston Post Road Wayland Massachusetts 01778;X-APPLE-RADIUS=500;X-TITLE=225 Boston Post Road:geo:-71.3592737,42.3622814
END:VEVENT
END:VCALENDAR