BEGIN:VCALENDAR
VERSION:2.0
PRODID:-//Turn Purple 2 Blue - ECPv6.15.20//NONSGML v1.0//EN
CALSCALE:GREGORIAN
METHOD:PUBLISH
X-WR-CALNAME:Turn Purple 2 Blue
X-ORIGINAL-URL:https://turnpurple2blue.org
X-WR-CALDESC:Events for Turn Purple 2 Blue
REFRESH-INTERVAL;VALUE=DURATION:PT1H
X-Robots-Tag:noindex
X-PUBLISHED-TTL:PT1H
BEGIN:VTIMEZONE
TZID:America/New_York
BEGIN:DAYLIGHT
TZOFFSETFROM:-0500
TZOFFSETTO:-0400
TZNAME:EDT
DTSTART:20250309T070000
END:DAYLIGHT
BEGIN:STANDARD
TZOFFSETFROM:-0400
TZOFFSETTO:-0500
TZNAME:EST
DTSTART:20251102T060000
END:STANDARD
BEGIN:DAYLIGHT
TZOFFSETFROM:-0500
TZOFFSETTO:-0400
TZNAME:EDT
DTSTART:20260308T070000
END:DAYLIGHT
BEGIN:STANDARD
TZOFFSETFROM:-0400
TZOFFSETTO:-0500
TZNAME:EST
DTSTART:20261101T060000
END:STANDARD
BEGIN:DAYLIGHT
TZOFFSETFROM:-0500
TZOFFSETTO:-0400
TZNAME:EDT
DTSTART:20270314T070000
END:DAYLIGHT
BEGIN:STANDARD
TZOFFSETFROM:-0400
TZOFFSETTO:-0500
TZNAME:EST
DTSTART:20271107T060000
END:STANDARD
END:VTIMEZONE
BEGIN:VEVENT
DTSTART;TZID=America/New_York:20260413T190000
DTEND;TZID=America/New_York:20260413T193000
DTSTAMP:20260425T074940
CREATED:20260331T202543Z
LAST-MODIFIED:20260331T202547Z
UID:10004774-1776106800-1776108600@turnpurple2blue.org
SUMMARY:Brockton Singing Resistance organizing meeting
DESCRIPTION:Minneapolis showed us the power of Singing Resistance\, catalyzing the formation of groups all around the country. A few of us in Brockton brought increased energy and joy to NO KINGS Brockton\, and we want to continue singing at protests. \n\n\n\n\nGet Zoom Link\n\n\n\n\nBrockton Singing Resistance is planned not to be a choir\, but instead to get other people singing and adding energy to protests and other events. Outdoor singing is challenging\, so we prioritize enthusiasm and loudness over vocal skill — and no music experience necessary. If we succeed it is not by pleasing listeners\, but by getting others to sing! \n\n\n\nIt’s practically impossible to sing live at this (very short!) Zoom meeting\, but we CAN Zoom to see how many are interested in an ongoing Brockton Singing Resistance\, and decide when to meet in person\, and decide what comes next! \n\n\n\nIn the meantime\, here are two YouTube playlists. The first contains a variety of music that livened up NO KINGS Brockton\, while the second is the songs we sang when we gathered for that purpose — these are simple and repetitive so people can learn them on the fly. See how you like them! Bring a playlist or song ideas of your own to share at the Zoom! \n\n\n\n\n\n\n\n\n\n\n\n\n\n\n\nA core principle behind all Indivisible events is a commitment to nonviolent action. We expect all participants to seek to de-escalate any potential confrontation with those who disagree with our values.
URL:https://turnpurple2blue.org/event/brockton-singing-resistance-organizing-meeting/
CATEGORIES:Action Hours
ATTACH;FMTTYPE=image/png:https://turnpurple2blue.org/wp-content/uploads/2026/03/Singing-resistance-2.png
LOCATION:
END:VEVENT
BEGIN:VEVENT
DTSTART;TZID=America/New_York:20260413T190000
DTEND;TZID=America/New_York:20260413T210000
DTSTAMP:20260425T074940
CREATED:20260316T124444Z
LAST-MODIFIED:20260316T124450Z
UID:10004663-1776106800-1776114000@turnpurple2blue.org
SUMMARY:Noncooperation Training 101
DESCRIPTION:Join us for a 2 hour virtual training on civil resistance and noncooperation. We will cover the authoritarian threat\, pillars of support\, stories of noncooperation in these times\, and how noncooperation has been used to defeat authoritarians and fascists. \n\n\n\n\nZoom Link for  4/13\n\n\n\nZoom Link for May/7
URL:https://turnpurple2blue.org/event/noncooperation-training-101/2026-04-13/
CATEGORIES:Action Hours
ATTACH;FMTTYPE=image/png:https://turnpurple2blue.org/wp-content/uploads/2026/03/noncooperation-training.png
LOCATION:
END:VEVENT
END:VCALENDAR