BEGIN:VCALENDAR
VERSION:2.0
PRODID:-//Turn Purple 2 Blue - ECPv6.15.20//NONSGML v1.0//EN
CALSCALE:GREGORIAN
METHOD:PUBLISH
X-WR-CALNAME:Turn Purple 2 Blue
X-ORIGINAL-URL:https://turnpurple2blue.org
X-WR-CALDESC:Events for Turn Purple 2 Blue
REFRESH-INTERVAL;VALUE=DURATION:PT1H
X-Robots-Tag:noindex
X-PUBLISHED-TTL:PT1H
BEGIN:VTIMEZONE
TZID:America/New_York
BEGIN:DAYLIGHT
TZOFFSETFROM:-0500
TZOFFSETTO:-0400
TZNAME:EDT
DTSTART:20240310T070000
END:DAYLIGHT
BEGIN:STANDARD
TZOFFSETFROM:-0400
TZOFFSETTO:-0500
TZNAME:EST
DTSTART:20241103T060000
END:STANDARD
BEGIN:DAYLIGHT
TZOFFSETFROM:-0500
TZOFFSETTO:-0400
TZNAME:EDT
DTSTART:20250309T070000
END:DAYLIGHT
BEGIN:STANDARD
TZOFFSETFROM:-0400
TZOFFSETTO:-0500
TZNAME:EST
DTSTART:20251102T060000
END:STANDARD
BEGIN:DAYLIGHT
TZOFFSETFROM:-0500
TZOFFSETTO:-0400
TZNAME:EDT
DTSTART:20260308T070000
END:DAYLIGHT
BEGIN:STANDARD
TZOFFSETFROM:-0400
TZOFFSETTO:-0500
TZNAME:EST
DTSTART:20261101T060000
END:STANDARD
END:VTIMEZONE
BEGIN:VEVENT
DTSTART;TZID=America/New_York:20251206T100000
DTEND;TZID=America/New_York:20251206T140000
DTSTAMP:20260425T211100
CREATED:20251203T170437Z
LAST-MODIFIED:20251203T170846Z
UID:10003268-1765015200-1765029600@turnpurple2blue.org
SUMMARY:Jingle and Mingle Concord
DESCRIPTION:Throughout the day on Saturday\, Concord Center will be alive with music\, art\, and holiday spirit:  \n\n\n\nThe daily 75-minute walking tour of Concord Center is a ticketed activity and a great way to learn about the local history of the neighborhood. Stop by the Concord Visitor Center for a candy cane giveaway and browse select Concord souvenirs in the gift shop\, including their “Gift of Concord History” packages. \n\n\n\n\n\n\n\n\n\n\n\n\n\n\n\nPick up Postcard packet from Concord Indivisible\, 11-1\, in Monument Square.  Details and reserve your packet. \n\n\n\n\n\n\n\n\n\nAt the historic Wright Tavern\, enjoy music performances by Lori Zuroff and Sawyer Lawson. \n\n\n\n\n\n\n\nStop by the Colonial Inn to see the display of decorative Gingerbread Houses created by local businesses and schools. Hot chocolate and cookies will be served on the patio. \n\n\n\n\n\n\n\n\n\n\n\n\n\n\n\nThe Umbrella Arts Center Winter Market runs all weekend long\, featuring hand-crafted gifts and artwork from regional artisans. \n\n\n\nReceive a gift with any purchase over $20 all day at Artisans Way. \n\n\n\n\n\n\n\n\n\nConcord Free Public Library hosts its Annual Holiday Book Sale from 9:00 AM to 4:00 PM. And be sure to check out the expert gingerbread house by Dr Andrea Resciniti. Her annual tradition\, started back in 1982\, continues to impress with three stories of colorful\, candy-covered cookies. \n\n\n\n\n\n\n\n\n\n\n\n\n\n\n\nAt Barrow Bookstore\, it’s the last day of the “Reverse Boston Tea Party.” Enjoy a cup of East India Company Tea\, the same brand the colonists threw overboard in their protest at Boston Harbor in 1773. In the chest at the door of Barrow Bookstore place your donations of packaged tea\, ground and instant coffee\, and related sundries like sugar\, powdered creamers\, honey\, etc. for Open Table to distribute to neighbors in need. \n\n\n\n\n\nThe Concord Museum’s Holiday House Tour invites ticket holders to visit six beautifully decorated homes across Concord. Inside the Museum\, experience one-of-a-kind installation of dozens of story trees\, each featuring elaborate hand-made decorations inspired by a picture book. \n\n\n\n\n\n\n\nBluemercury is offering 15% their selection of luxury beauty products and featuring holiday gift giving ideas. \n\n\n\n\n\n\n\nThe 1780 House welcomes visitors for a special Open House. \n\n\n\n\n\n\n\nSee the behind-the-scenes process of creating distinctive\, welcoming rooms during an Open House at Megan Healy Interior Design. \n\n\n\n\n\n\n\nThe Concord Orchestra performs at 8:00 PM at the 51 Walden Performing Arts Center — a perfect way to end the day on a high note. \n\n\n\n\n\n\n\nFamilies won’t want to miss the “Decorate Your Own Gingerbread” event at Concord Market — a ticketed activity perfect for kids and families.
URL:https://turnpurple2blue.org/event/jingle-and-mingle-concord/
LOCATION:Monument Square Concord\, Monument Square\, Concord\, MA
CATEGORIES:Community Gatherings
GEO:42.4608449;-71.3493342
X-APPLE-STRUCTURED-LOCATION;VALUE=URI;X-ADDRESS=Monument Square Concord Monument Square Concord MA;X-APPLE-RADIUS=500;X-TITLE=Monument Square:geo:-71.3493342,42.4608449
END:VEVENT
BEGIN:VEVENT
DTSTART;TZID=America/New_York:20251213T160000
DTEND;TZID=America/New_York:20251213T190000
DTSTAMP:20260425T211100
CREATED:20251208T164913Z
LAST-MODIFIED:20251208T164919Z
UID:10003305-1765641600-1765652400@turnpurple2blue.org
SUMMARY:Free Holiday Concert with Collection for Open Door Food Pantry
DESCRIPTION:We hope you can join our family band\, the Foo Family\, at True North Ale Company on Saturday\, December 13th for a concert to benefit the The Open Door food pantry! Bring an item(s) listed on the poster—cereal\, coffee\, tea\, granola bars\, oatmeal\, pancake mix—and enjoy a concert of Foo Fighters’ classics\, PLUS a Holiday Sing-Along! This is our only local show until next year. We hope to see you there! \n\n\n\nItems Needed:  Cereal\, pancake mix\, granola bars\, oatmeal\, coffee and tea
URL:https://turnpurple2blue.org/event/free-holiday-concert-with-collection-for-open-door-food-pantry/
LOCATION:True North Ale Company\, 116 County Rd\, Ipswich\, Massachusetts\, 01938
CATEGORIES:Community Gatherings
GEO:42.6695605;-70.8360098
X-APPLE-STRUCTURED-LOCATION;VALUE=URI;X-ADDRESS=True North Ale Company 116 County Rd Ipswich Massachusetts 01938;X-APPLE-RADIUS=500;X-TITLE=116 County Rd:geo:-70.8360098,42.6695605
END:VEVENT
END:VCALENDAR