BEGIN:VCALENDAR
VERSION:2.0
PRODID:-//Turn Purple 2 Blue - ECPv6.15.20//NONSGML v1.0//EN
CALSCALE:GREGORIAN
METHOD:PUBLISH
X-WR-CALNAME:Turn Purple 2 Blue
X-ORIGINAL-URL:https://turnpurple2blue.org
X-WR-CALDESC:Events for Turn Purple 2 Blue
REFRESH-INTERVAL;VALUE=DURATION:PT1H
X-Robots-Tag:noindex
X-PUBLISHED-TTL:PT1H
BEGIN:VTIMEZONE
TZID:America/New_York
BEGIN:DAYLIGHT
TZOFFSETFROM:-0500
TZOFFSETTO:-0400
TZNAME:EDT
DTSTART:20250309T070000
END:DAYLIGHT
BEGIN:STANDARD
TZOFFSETFROM:-0400
TZOFFSETTO:-0500
TZNAME:EST
DTSTART:20251102T060000
END:STANDARD
BEGIN:DAYLIGHT
TZOFFSETFROM:-0500
TZOFFSETTO:-0400
TZNAME:EDT
DTSTART:20260308T070000
END:DAYLIGHT
BEGIN:STANDARD
TZOFFSETFROM:-0400
TZOFFSETTO:-0500
TZNAME:EST
DTSTART:20261101T060000
END:STANDARD
BEGIN:DAYLIGHT
TZOFFSETFROM:-0500
TZOFFSETTO:-0400
TZNAME:EDT
DTSTART:20270314T070000
END:DAYLIGHT
BEGIN:STANDARD
TZOFFSETFROM:-0400
TZOFFSETTO:-0500
TZNAME:EST
DTSTART:20271107T060000
END:STANDARD
END:VTIMEZONE
BEGIN:VEVENT
DTSTART;TZID=America/New_York:20260201T190000
DTEND;TZID=America/New_York:20260201T200000
DTSTAMP:20260422T074132
CREATED:20260131T141444Z
LAST-MODIFIED:20260131T141449Z
UID:10004076-1769972400-1769976000@turnpurple2blue.org
SUMMARY:Community Support Zoom Gathering
DESCRIPTION:We welcome community members to a moderated virtual support gathering centered on care\, compassion\, and mutual respect.  This space is intended for quiet presence and gentle sharing.  Listening is always welcome\, participation is optional. \n\n\n\n\nGet Zoom Link\n\n\n\n\nTo protect the safety and integrity of this gathering\, advance registration and cameras on are required.
URL:https://turnpurple2blue.org/event/community-support-zoom-gathering/
LOCATION:
CATEGORIES:Community Gatherings
ATTACH;FMTTYPE=image/png:https://turnpurple2blue.org/wp-content/uploads/2026/01/community-support-Zoom-.png
END:VEVENT
BEGIN:VEVENT
DTSTART;TZID=America/New_York:20260202T183000
DTEND;TZID=America/New_York:20260202T193000
DTSTAMP:20260422T074132
CREATED:20260130T145113Z
LAST-MODIFIED:20260130T145118Z
UID:10004058-1770057000-1770060600@turnpurple2blue.org
SUMMARY:Book Discussion | Giving Up is Unforgivable
DESCRIPTION:We will discuss Joyce Vance’s book\, Giving Up Is Unforgivable. If you’ve had a chance to read it\, bring a copy along. We will also have handouts of selected passages to read and analyze. \n\n\n\n     \n\n\n\nThis event is organized by a volunteer with Indivisible and is being held at a private address in Fitchburg\, Massachusetts.  Please RSVP below for exact  address.   \n\n\n\n\nRSVP for Exact Address\n\n\n\n\nA core principle behind all Indivisible events is a commitment to nonviolent action. We expect all participants to seek to de-escalate any potential confrontation with those who disagree with our values.
URL:https://turnpurple2blue.org/event/book-discussion-giving-up-is-unforgivable/
LOCATION:Private Address\, Fitchburg\, MA\, Fitchburg\, Massachusetts\, United States
CATEGORIES:Community Gatherings
ATTACH;FMTTYPE=image/png:https://turnpurple2blue.org/wp-content/uploads/2025/03/rsvpnow.png
END:VEVENT
BEGIN:VEVENT
DTSTART;TZID=America/New_York:20260206T133000
DTEND;TZID=America/New_York:20260206T153000
DTSTAMP:20260422T074132
CREATED:20260114T194305Z
LAST-MODIFIED:20260114T194311Z
UID:10003959-1770384600-1770391800@turnpurple2blue.org
SUMMARY:Worcester County Indivisible Alliance Coffee Shop Discussion Group
DESCRIPTION:We are a NEW Central Mass Indivisible group called Worcester County Indivisible Alliance (WCIA) looking to bring people together for community\, education\, and initiatives that will make a real difference in these difficult times.  \n\n\n\nPlease attend our Worcester County bi-monthly Coffee Discussion Group\, created by one of our members to bring folks together for a smart and impactful discussion on current events. We meet at local coffee shops typically on a Friday from 1:30 – 3:30pm. Please reach out to the organizer to learn more and to confirm the current location of our next event. We welcome new attendees interested in discussing current events while building new relationships.  \n\n\n\nA core principle behind all Indivisible events is a commitment to nonviolent action. We expect all participants to seek to de-escalate any potential confrontation with those who disagree with our values. \n\n\n\nPrivate event. Sign up for details. \n\n\n\n\nSign Up
URL:https://turnpurple2blue.org/event/worcester-county-indivisible-alliance-coffee-shop-discussion-group/2026-02-06/
LOCATION:Massachusetts
CATEGORIES:Community Gatherings
ATTACH;FMTTYPE=image/png:https://turnpurple2blue.org/wp-content/uploads/2025/06/Mobilize20Generalized20Indivisible20Event20Campaign20Image201_20231214173802957298-gOiVqn.png
END:VEVENT
BEGIN:VEVENT
DTSTART;TZID=America/New_York:20260208T180000
DTEND;TZID=America/New_York:20260208T193000
DTSTAMP:20260422T074133
CREATED:20260206T132232Z
LAST-MODIFIED:20260206T132524Z
UID:10004300-1770573600-1770579000@turnpurple2blue.org
SUMMARY:Resistance Readers
DESCRIPTION:This group discusses literature and other media (artwork \, movies\, and music) relating to nonviolent civil resistance\, organizing\, and campaigning. \n\n\n\n\n\n\n\nThus far\, we have read Erica Chenoweth’s “Civil Resistance: What Everyone Needs to Know” and Marshall Ganz’s “People\, Power\, Change: Organizing for Democratic Renewal.” \n\n\n\n\n\n\n\nWe’re currently reading “How to Save a Constitutional Democracy” by Tom Ginsburg and Aziz Z. Huq text (https://a.co/d/eGcuMs9). \n\n\n\n\n\n\n\nYou can follow the discussion guide we’re developing here: https://tinyurl.com/resistanceschool-text3 \n\n\n\n\n\n\n\nNewcomers are welcome and no prior reading is required. \n\n\n\n\n\n\n\n\nRegister for Details/Updates
URL:https://turnpurple2blue.org/event/resistance-readers/2026-02-08/
LOCATION:Virtual Event – Join from Anywhere
CATEGORIES:Community Gatherings
ATTACH;FMTTYPE=image/avif:https://turnpurple2blue.org/wp-content/uploads/2026/02/Mobilize-horizontal-1200x630_20260123042018013992.png.avif
END:VEVENT
BEGIN:VEVENT
DTSTART;TZID=America/New_York:20260210T180000
DTEND;TZID=America/New_York:20260210T200000
DTSTAMP:20260422T074133
CREATED:20260208T142436Z
LAST-MODIFIED:20260208T142442Z
UID:10004307-1770746400-1770753600@turnpurple2blue.org
SUMMARY:Monthly Meeting
DESCRIPTION:This is our monthly meeting where we come together to make plans for fighting back in Randolph. Join a committee that reflects your interests – Overpass brigade\, working with the schools\, protecting our immigrant neighbors\, creating cultural alliances.  \n\n\n\nNote: This event is organized by a volunteer and is not an Indivisible Acton Area event. \n\n\n\n\n\n\n\n\nRSVP for Exact Details\n\n\n\n\n\n\n\n\nA core principle behind all Indivisible events is a commitment to nonviolent action. We expect all participants to seek to de-escalate any potential confrontation with those who disagree with our values.
URL:https://turnpurple2blue.org/event/monthly-meeting/
LOCATION:Private Address\, Sign Up for Exact Details
CATEGORIES:Community Gatherings
ATTACH;FMTTYPE=image/png:https://turnpurple2blue.org/wp-content/uploads/2025/03/rsvp-now.png
END:VEVENT
BEGIN:VEVENT
DTSTART;TZID=America/New_York:20260215T180000
DTEND;TZID=America/New_York:20260215T193000
DTSTAMP:20260422T074133
CREATED:20260206T132232Z
LAST-MODIFIED:20260206T132524Z
UID:10004301-1771178400-1771183800@turnpurple2blue.org
SUMMARY:Resistance Readers
DESCRIPTION:This group discusses literature and other media (artwork \, movies\, and music) relating to nonviolent civil resistance\, organizing\, and campaigning. \n\n\n\n\n\n\n\nThus far\, we have read Erica Chenoweth’s “Civil Resistance: What Everyone Needs to Know” and Marshall Ganz’s “People\, Power\, Change: Organizing for Democratic Renewal.” \n\n\n\n\n\n\n\nWe’re currently reading “How to Save a Constitutional Democracy” by Tom Ginsburg and Aziz Z. Huq text (https://a.co/d/eGcuMs9). \n\n\n\n\n\n\n\nYou can follow the discussion guide we’re developing here: https://tinyurl.com/resistanceschool-text3 \n\n\n\n\n\n\n\nNewcomers are welcome and no prior reading is required. \n\n\n\n\n\n\n\n\nRegister for Details/Updates
URL:https://turnpurple2blue.org/event/resistance-readers/2026-02-15/
LOCATION:Virtual Event – Join from Anywhere
CATEGORIES:Community Gatherings
ATTACH;FMTTYPE=image/avif:https://turnpurple2blue.org/wp-content/uploads/2026/02/Mobilize-horizontal-1200x630_20260123042018013992.png.avif
END:VEVENT
BEGIN:VEVENT
DTSTART;TZID=America/New_York:20260218T190000
DTEND;TZID=America/New_York:20260218T200000
DTSTAMP:20260422T074133
CREATED:20260211T212416Z
LAST-MODIFIED:20260211T212421Z
UID:10004332-1771441200-1771444800@turnpurple2blue.org
SUMMARY:Solar Without Federal Incentives: Why It Still Works and What Options Exist | Virtual Event
DESCRIPTION:Thinking about solar but not sure where to start? Join our webinar to learn how solar works\, what options are available\, and how it can help lower energy costs while supporting a cleaner\, healthier community! \n\n\n\n\n\n\n\n\nRegister for Details
URL:https://turnpurple2blue.org/event/solar-without-federal-incentives-why-it-still-works-and-what-options-exist-virtual-event/
LOCATION:Virtual Event – Join from Anywhere
CATEGORIES:Community Gatherings
ATTACH;FMTTYPE=image/png:https://turnpurple2blue.org/wp-content/uploads/2026/02/plugIN-260121-150450.png
END:VEVENT
BEGIN:VEVENT
DTSTART;TZID=America/New_York:20260221T134500
DTEND;TZID=America/New_York:20260221T150000
DTSTAMP:20260422T074133
CREATED:20260217T151729Z
LAST-MODIFIED:20260217T151734Z
UID:10004431-1771681500-1771686000@turnpurple2blue.org
SUMMARY:Billerica United ~ A Local Indivisible Group | February Meeting
DESCRIPTION:Join us for our second meeting. We will be making plans for the next No KINGS event on March 28th 2026 \n\n\n\n\n\n\n\nThis a local Indivisible event! \n\n\n\n\n\n\n\nHere is where you’ll describe your local event. Please be specific about important details and include anything a first time attendee\, or new group member\, might find helpful! \n\n\n\n\n\n\n\n\nRSVP for Updates\n\n\n\n\n\n\n\n\nA core principle behind all Indivisible events is a commitment to nonviolent action. We expect all participants to seek to de-escalate any potential confrontation with those who disagree with our values.
URL:https://turnpurple2blue.org/event/billerica-united-a-local-indivisible-group-february-meeting/
LOCATION:7 Concord Rd\, 7 Concord Rd\, Billerica\, Massachusetts\, 01821\, United States
CATEGORIES:Community Gatherings
ATTACH;FMTTYPE=image/png:https://turnpurple2blue.org/wp-content/uploads/2025/03/rsvp-now.png
END:VEVENT
BEGIN:VEVENT
DTSTART;TZID=America/New_York:20260221T160000
DTEND;TZID=America/New_York:20260221T180000
DTSTAMP:20260422T074133
CREATED:20260203T201815Z
LAST-MODIFIED:20260203T201820Z
UID:10004173-1771689600-1771696800@turnpurple2blue.org
SUMMARY:The War on Immigration
DESCRIPTION:This a local Indivisible event! \n\n\n\n\n\n\n\nAt this unimaginable time in our nation’s history\, it is imperative we stay informed\, engaged\, and aligned. We see what is happening in Minneapolis and now Maine\, and wonder what may happen in our own communities. \n\n\n\n\n\n\n\nWorcester County Indivisible Alliance (WCIA) is proud to announce a presentation by the Executive Director of Worcester’s Refugee and Immigrant Assistance Center (RIAC)\, Meg Gallo. Meg will discuss immigration in general\, and how the recent changes to our nation’s immigration policies will affect vulnerable communities around the globe\, and America as a whole.  \n\n\n\n\n\n\n\nIn order to support the most vulnerable among us\, please consider bringing a non-perishable food item for our local food pantry\, or a financial donation to Worcester County Food Bank\, which provides food assistance to the most vulnerable throughout Worcester County.  \n\n\n\n\n\n\n\nCome learn the truth on February 21st while supporting our communities. Come meet our welcoming WCIA members\, ask questions to our expert presenter\, and sign our letters to our political leaders about the brutality we are all witnessing. \n\n\n\n\n\n\n\nThis isn’t America\, but Americans can make a difference.  \n\n\n\n\n\n\n\n\nRSVP for Updates\n\n\n\n\n\n\n\n\nA core principle behind all Indivisible events is a commitment to nonviolent action. We expect all participants to seek to de-escalate any potential confrontation with those who disagree with our values.
URL:https://turnpurple2blue.org/event/the-war-on-immigration/
LOCATION:First Parish Northboro Unitarian Universalist Church\, 40 Church St.\, Northborough\, Massachusetts\, 01532
CATEGORIES:Community Gatherings
ATTACH;FMTTYPE=image/png:https://turnpurple2blue.org/wp-content/uploads/2025/09/Indivisible-RSVP.png
GEO:42.3221009;-71.6456423
X-APPLE-STRUCTURED-LOCATION;VALUE=URI;X-ADDRESS=First Parish Northboro Unitarian Universalist Church 40 Church St. Northborough Massachusetts 01532;X-APPLE-RADIUS=500;X-TITLE=40 Church St.:geo:-71.6456423,42.3221009
END:VEVENT
BEGIN:VEVENT
DTSTART;TZID=America/New_York:20260222T160000
DTEND;TZID=America/New_York:20260222T173000
DTSTAMP:20260422T074133
CREATED:20260130T214421Z
LAST-MODIFIED:20260202T134027Z
UID:10004064-1771776000-1771781400@turnpurple2blue.org
SUMMARY:Can -- And Will -- the Judiciary Save Us?
DESCRIPTION:The role of the Judiciary is to uphold the Constitution and serve as a check on the other branches of government. But under the Trump Administration\, the Supreme Court has been compromised; the Department of Justice has been weaponized; and the Constitution has been undermined. \n\n\n\nSo who can we count on to resist Trump’s unconstitutional agenda? The answer in the first year of the Trump regime has been a series of very brave and principled federal judges. They have blocked some illegal deportations; mandated the continuation of SNAP benefits; and halted an executive order restricting birthright citizenship to name a few lines of resistance. Moreover\, they have done so despite being accused of being liberal activists or out of touch with everyday Americans. And their actions have made them the targets of intimidation and subjected to death threats by MAGA extremists.  \n\n\n\nThe question now is can the Judiciary hold the line on Trump’s lawlessness during the remainder of his presidency? And\, if they don’t\, what does that mean for the Constitution? Join us for a panel discussion on the role of the Judiciary in the Trump era. We’ll look at the cases where federal judges have successfully resisted Trump’s lawlessness–and where they did not. We’ll examine how the Supreme Court has been compromised and discuss possible solutions. Most importantly\, we will discuss how much damage has already been done to the rule of law—and how we as activists can help restore our Constitution and ensure its enforcement. \n\n\n\nFeel free to submit questions along with your on-line registration or just bring your questions to the event itself. \n\n\n\n\nRSVP for Exact Address
URL:https://turnpurple2blue.org/event/can-and-will-the-judiciary-save-us/
LOCATION:Private Address\, Andover\, MA\, Andover\, Massachusetts\, United States
CATEGORIES:Community Gatherings
ATTACH;FMTTYPE=image/avif:https://turnpurple2blue.org/wp-content/uploads/2026/01/Judiciary_20260126165231997322.jpeg.avif
END:VEVENT
BEGIN:VEVENT
DTSTART;TZID=America/New_York:20260222T180000
DTEND;TZID=America/New_York:20260222T193000
DTSTAMP:20260422T074133
CREATED:20260206T132232Z
LAST-MODIFIED:20260206T132524Z
UID:10004302-1771783200-1771788600@turnpurple2blue.org
SUMMARY:Resistance Readers
DESCRIPTION:This group discusses literature and other media (artwork \, movies\, and music) relating to nonviolent civil resistance\, organizing\, and campaigning. \n\n\n\n\n\n\n\nThus far\, we have read Erica Chenoweth’s “Civil Resistance: What Everyone Needs to Know” and Marshall Ganz’s “People\, Power\, Change: Organizing for Democratic Renewal.” \n\n\n\n\n\n\n\nWe’re currently reading “How to Save a Constitutional Democracy” by Tom Ginsburg and Aziz Z. Huq text (https://a.co/d/eGcuMs9). \n\n\n\n\n\n\n\nYou can follow the discussion guide we’re developing here: https://tinyurl.com/resistanceschool-text3 \n\n\n\n\n\n\n\nNewcomers are welcome and no prior reading is required. \n\n\n\n\n\n\n\n\nRegister for Details/Updates
URL:https://turnpurple2blue.org/event/resistance-readers/2026-02-22/
LOCATION:Virtual Event – Join from Anywhere
CATEGORIES:Community Gatherings
ATTACH;FMTTYPE=image/avif:https://turnpurple2blue.org/wp-content/uploads/2026/02/Mobilize-horizontal-1200x630_20260123042018013992.png.avif
END:VEVENT
BEGIN:VEVENT
DTSTART;TZID=America/New_York:20260223T190000
DTEND;TZID=America/New_York:20260223T203000
DTSTAMP:20260422T074133
CREATED:20260210T023012Z
LAST-MODIFIED:20260210T023018Z
UID:10004321-1771873200-1771878600@turnpurple2blue.org
SUMMARY:Systems and Power: Lessons From Those Who Came Before Us | Virtual Training
DESCRIPTION:Celebrate Black history and leadership by examining how past organizers built resilient movements. Explore systemic power structures and inequities\, and translate historical lessons into contemporary movement-building and leadership practices. \n\n\n\n\n\n\n\nWe are thrilled to announce our special guest\, Barbara R. Arnwine\, esq\, president & founder of the Transformative Justice Coalition. Barbara is internationally renowned for contributions on critical justice issues including the passage of the landmark Civil Rights Act of 1991 and the 2006 reauthorization of provisions of the Voting Rights Act. \n\n\n\n\n\n\n\n\nRegister for Details
URL:https://turnpurple2blue.org/event/systems-and-power-lessons-from-those-who-came-before-us-virtual-training/
LOCATION:Virtual Event – Join from Anywhere
CATEGORIES:Community Gatherings
ATTACH;FMTTYPE=image/avif:https://turnpurple2blue.org/wp-content/uploads/2026/02/IMG_3020_20260205192221028765.png-2.avif
END:VEVENT
BEGIN:VEVENT
DTSTART;TZID=America/New_York:20260224T183000
DTEND;TZID=America/New_York:20260224T220000
DTSTAMP:20260422T074133
CREATED:20260217T153742Z
LAST-MODIFIED:20260217T153747Z
UID:10004432-1771957800-1771970400@turnpurple2blue.org
SUMMARY:"State of the Swamp" Newburyport Viewing Party |  Community Gathering - REGISTRATION REQUIRED
DESCRIPTION:Join the Newburyport Democratic City Committee and our pro-Democracy friends for a watch party of the “State of the Swamp\,” a response to the State of the Union address being held on Tuesday\, February 24th.  \n\n\n\n\n\n\n\nWe will gather at Metzys Cantina starting at 6:30 PM to order food and get settled in. The “State of the Swamp” is from 7-9 PM and Metzys has been generous enough to stay open late so we can socialize for as long as we want.  \n\n\n\n\n\n\n\nAll we ask that you plan to order food and drink.  \n\n\n\n\n\n\n\nREGISTRATION IS REQUIRED and the venue can seat 50 people\, so please make sure to reserve your spot.  Contact ndcc@newburyportdems. com for more information. \n\n\n\n\n\n\n\n\nRegister to Reserve Spot\n\n\n\n\n\n\n\n\nA core principle behind all Indivisible events is a commitment to nonviolent action. We expect all participants to seek to de-escalate any potential confrontation with those who disagree with our values.
URL:https://turnpurple2blue.org/event/state-of-the-swamp-newburyport-viewing-party-community-gathering-registration-required/
LOCATION:Metzy’s Cantina\, 5 Boston Way\, Newburyport\, Massachusetts\, 01950\, United States
CATEGORIES:Community Gatherings
ATTACH;FMTTYPE=image/avif:https://turnpurple2blue.org/wp-content/uploads/2026/02/State-of-the-Swamp-MOBILIZE-1200-x-630-px_20260216203345458112.png.avif
END:VEVENT
BEGIN:VEVENT
DTSTART;TZID=America/New_York:20260225T150000
DTEND;TZID=America/New_York:20260225T160000
DTSTAMP:20260422T074133
CREATED:20260210T014436Z
LAST-MODIFIED:20260210T014440Z
UID:10004319-1772031600-1772035200@turnpurple2blue.org
SUMMARY:Bystander Know Your Rights Training
DESCRIPTION:This immigration bystander training aims to provide you with tools and strategies to safely and effectively respond when witnessing immigration enforcement. Topics covered will include how to recognize an ICE operation\, clear do’s and don’ts\, safe practices for offering support\, and the use of community hotlines\, mutual aid\, and accompaniment programs. \n\n\n\n\n\n\n\n\nRegister for Details
URL:https://turnpurple2blue.org/event/bystander-know-your-rights-training/
LOCATION:Virtual Event – Join from Anywhere
CATEGORIES:Community Gatherings
ATTACH;FMTTYPE=image/png:https://turnpurple2blue.org/wp-content/uploads/2026/02/KYR-2024-website-images-11-1-768x432-1.png
END:VEVENT
BEGIN:VEVENT
DTSTART;TZID=America/New_York:20260226T190000
DTEND;TZID=America/New_York:20260226T210000
DTSTAMP:20260422T074133
CREATED:20260210T132108Z
LAST-MODIFIED:20260210T132113Z
UID:10004322-1772132400-1772139600@turnpurple2blue.org
SUMMARY:Candidate Night Social Congressional District MA-6 | Event in Boxford
DESCRIPTION:Join us as we welcome the Democratic candidates running for Congressional District MA-6. \n\n\n\n\n\n\n\nAfter introductions and a couple of group questions\, candidates will move around the room to engage in one-on-one and in small group discussions. Attendees will have the opportunity to speak with the candidates\, ask questions\, discuss issues\, and get to know each candidate better. \n\n\n\n\n\n\n\n\nRegister for Details
URL:https://turnpurple2blue.org/event/candidate-night-social-congressional-district-ma-6-event-in-boxford/
LOCATION:Private Address\, Boxford\, Boxford\, Massachusetts\, 01921\, United States
CATEGORIES:Community Gatherings
ATTACH;FMTTYPE=image/avif:https://turnpurple2blue.org/wp-content/uploads/2026/02/Feb-2026_20251120202251277290.png-2.avif
ORGANIZER;CN="Our Community Indivisible":MAILTO:OurCommunityIndivisible@gmail.com
END:VEVENT
BEGIN:VEVENT
DTSTART;TZID=America/New_York:20260228T080000
DTEND;TZID=America/New_York:20260301T170000
DTSTAMP:20260422T074133
CREATED:20260216T171234Z
LAST-MODIFIED:20260216T171239Z
UID:10004402-1772265600-1772384400@turnpurple2blue.org
SUMMARY:Grassroots Campaign Training 2026 | Multiple Dates & Locations
DESCRIPTION:Mass Alliance’s signature Grassroots Campaign Training\, is a comprehensive two-day bootcamp that will teach you all you need to know to run and win a grassroots campaign for public office  including mailers\, GOTV planning\, fundraising\, messaging\, social media\, and more. Link to application: tinyurl.com/gct26ma \n\n\n\n\n\n\n\nTraining Dates / Locations: \n\n\n\nFeb 28-Mar 1 Worcester (Deadline to apply: Feb 12) \n\n\n\nMar 14-15 Lynn (Deadline to apply:  Feb 27) \n\n\n\nMar 21-22 Springfield (Deadline to apply: Mar 5) \n\n\n\nApril 11-12 Quincy (Deadline to apply: Mar 2) \n\n\n\n\n\n\n\nRegistration Fee   $200 \n\n\n\nRegistration Fee + Scholarship Fund Contribution: $250 \n\n\n\n(Sliding scale available) \n\n\n\n\n\n\n\nBreakfast & Lunch Provided \n\n\n\n\n\n\n\nWe will review your application and contact you within a week with payment instructions upon submitting this form.  Location will be provided upon registration. \n\n\n\n\n\n\n\nPlease e-mail contact@massalliance.org for additional information.  \n\n\n\n\n\n\n\n\nRegister for Details\n\n\n\n\n\n\n\n\nA core principle behind all Indivisible events is a commitment to nonviolent action. We expect all participants to seek to de-escalate any potential confrontation with those who disagree with our values. 
URL:https://turnpurple2blue.org/event/grassroots-campaign-training-2026-multiple-dates-locations/2026-02-28/
LOCATION:Various Locations – Register for Details
CATEGORIES:Action Hours,Community Gatherings
ATTACH;FMTTYPE=image/png:https://turnpurple2blue.org/wp-content/uploads/2026/02/GCT-26-Social-Media-Post-768x994-1.png
END:VEVENT
BEGIN:VEVENT
DTSTART;TZID=America/New_York:20260228T100000
DTEND;TZID=America/New_York:20260228T120000
DTSTAMP:20260422T074133
CREATED:20260218T135036Z
LAST-MODIFIED:20260218T135042Z
UID:10004437-1772272800-1772280000@turnpurple2blue.org
SUMMARY:Stand Up For Democracy | Sign-Holding Event
DESCRIPTION:Join us to Stand Up for Democracy. Raise your voice for the Constitution\, Civil Rights\, Due Process\, Defunding ICE! Fascism must go! Restore our freedoms and rights. This is a high traffic area with space to gather around Stoughton downtown.  \n\n\n\n\n\n\n\nSupport the End Fascism Brigade or hold a sign\, wave a flag. Bring signs\, bull horns\, flags. Showing up is part of the Struggle. We appreciate your support. Donations collected for the Stoughton Food Pantry. Dress for cold\, wind\, snow.  \n\n\n\n\n\n\n\n\nRSVP for Updates\n\n\n\n\n\n\n\n\nA core principle behind all Indivisible events is a commitment to nonviolent action. We expect all participants to seek to de-escalate any potential confrontation with those who disagree with our values.
URL:https://turnpurple2blue.org/event/stand-up-for-democracy-sign-holding-event/
LOCATION:First Parish Stoughton\, 790 Washington St\, Stoughton\, Massachusetts\, 02702\, United States
CATEGORIES:Action Hours,Community Gatherings,Protests
ATTACH;FMTTYPE=image/png:https://turnpurple2blue.org/wp-content/uploads/2025/03/rsvp-now.png
END:VEVENT
BEGIN:VEVENT
DTSTART;TZID=America/New_York:20260228T134500
DTEND;TZID=America/New_York:20260228T160000
DTSTAMP:20260422T074133
CREATED:20260217T170726Z
LAST-MODIFIED:20260217T170732Z
UID:10004436-1772286300-1772294400@turnpurple2blue.org
SUMMARY:Community Resilience\, Readiness and Resistance Workshop
DESCRIPTION:Building our capacity for resilience is an important component of the community organizing work we’re doing here in eastern Massachusetts. The current administration is going to be in power at least through January 2029. That is 30+ more months. They have only been in power for 12 months so far\, which means that we are only about 20% of the way through this presidential term. Figuring out ways to stay engaged will be critical because we are all needed – particularly as we become more comfortable with being engaged in resistance activity and as we move into noncooperation activities. We can each find our own ways of making this work sustainable but it will take some openness to learning\, experimentation\, and practice. \n\n\n\n\n\n\n\nIn the face of increasing authoritarianism\, this workshop will provide a framework for cultivating readiness and resilience as foundations for long-term resistance\, personal and collective care\, and preparedness for other challenges that lie ahead. Participants will leave with concrete steps for building personal\, household\, community\, and organizational resilience and strengthening our movement to build a democracy that works for everyone. \n\n\n\n\n\n\n\nFounded by Rebecca Riccio\, the BTC is a group of volunteer activists and organizers associated with a variety of racial and social justice-oriented organizations in Greater Boston.  \n\n\n\n\n\n\n\n$10 Donation Suggested to support BTC and provide afternoon snacks!! \n\n\n\n\n\n\n\nParking: \n\n\n\n\n\n\n\nHighland Ave & Surrounding Streets: 2-hour visitor parking with meters. Note: Somerville residents permits take priority on many streets \n\n\n\n\n\n\n\nMunicipal Lots: Grove Street Lot A (Rite Aid Lot) at Grove St. & Highland Ave and Grove Street Lot B between Highland Ave and Elm St. \n\n\n\n\n\n\n\n\nRSVP for Updates\n\n\n\n\n\n\n\n\nA core principle behind all Indivisible events is a commitment to nonviolent action. We expect all participants to seek to de-escalate any potential confrontation with those who disagree with our values.
URL:https://turnpurple2blue.org/event/community-resilience-readiness-and-resistance-workshop-2/
LOCATION:Somerville Public Library\, 79 Highland Ave\, Somerville\, Massachusetts\, 02148\, United States
CATEGORIES:Action Hours,Community Gatherings
ATTACH;FMTTYPE=image/webp:https://turnpurple2blue.org/wp-content/uploads/2026/02/CommunityResilience.png.webp
END:VEVENT
END:VCALENDAR