BEGIN:VCALENDAR
VERSION:2.0
PRODID:-//Turn Purple 2 Blue - ECPv6.15.20//NONSGML v1.0//EN
CALSCALE:GREGORIAN
METHOD:PUBLISH
X-WR-CALNAME:Turn Purple 2 Blue
X-ORIGINAL-URL:https://turnpurple2blue.org
X-WR-CALDESC:Events for Turn Purple 2 Blue
REFRESH-INTERVAL;VALUE=DURATION:PT1H
X-Robots-Tag:noindex
X-PUBLISHED-TTL:PT1H
BEGIN:VTIMEZONE
TZID:America/New_York
BEGIN:DAYLIGHT
TZOFFSETFROM:-0500
TZOFFSETTO:-0400
TZNAME:EDT
DTSTART:20250309T070000
END:DAYLIGHT
BEGIN:STANDARD
TZOFFSETFROM:-0400
TZOFFSETTO:-0500
TZNAME:EST
DTSTART:20251102T060000
END:STANDARD
BEGIN:DAYLIGHT
TZOFFSETFROM:-0500
TZOFFSETTO:-0400
TZNAME:EDT
DTSTART:20260308T070000
END:DAYLIGHT
BEGIN:STANDARD
TZOFFSETFROM:-0400
TZOFFSETTO:-0500
TZNAME:EST
DTSTART:20261101T060000
END:STANDARD
BEGIN:DAYLIGHT
TZOFFSETFROM:-0500
TZOFFSETTO:-0400
TZNAME:EDT
DTSTART:20270314T070000
END:DAYLIGHT
BEGIN:STANDARD
TZOFFSETFROM:-0400
TZOFFSETTO:-0500
TZNAME:EST
DTSTART:20271107T060000
END:STANDARD
END:VTIMEZONE
BEGIN:VEVENT
DTSTART;TZID=America/New_York:20260123T133000
DTEND;TZID=America/New_York:20260123T153000
DTSTAMP:20260422T171611
CREATED:20260114T194305Z
LAST-MODIFIED:20260114T194311Z
UID:10003957-1769175000-1769182200@turnpurple2blue.org
SUMMARY:Worcester County Indivisible Alliance Coffee Shop Discussion Group
DESCRIPTION:We are a NEW Central Mass Indivisible group called Worcester County Indivisible Alliance (WCIA) looking to bring people together for community\, education\, and initiatives that will make a real difference in these difficult times.  \n\n\n\nPlease attend our Worcester County bi-monthly Coffee Discussion Group\, created by one of our members to bring folks together for a smart and impactful discussion on current events. We meet at local coffee shops typically on a Friday from 1:30 – 3:30pm. Please reach out to the organizer to learn more and to confirm the current location of our next event. We welcome new attendees interested in discussing current events while building new relationships.  \n\n\n\nA core principle behind all Indivisible events is a commitment to nonviolent action. We expect all participants to seek to de-escalate any potential confrontation with those who disagree with our values. \n\n\n\nPrivate event. Sign up for details. \n\n\n\n\nSign Up
URL:https://turnpurple2blue.org/event/worcester-county-indivisible-alliance-coffee-shop-discussion-group/2026-01-23/
CATEGORIES:Community Gatherings
ATTACH;FMTTYPE=image/png:https://turnpurple2blue.org/wp-content/uploads/2025/06/Mobilize20Generalized20Indivisible20Event20Campaign20Image201_20231214173802957298-gOiVqn.png
END:VEVENT
END:VCALENDAR