BEGIN:VCALENDAR
VERSION:2.0
PRODID:-//Turn Purple 2 Blue - ECPv6.15.20//NONSGML v1.0//EN
CALSCALE:GREGORIAN
METHOD:PUBLISH
X-WR-CALNAME:Turn Purple 2 Blue
X-ORIGINAL-URL:https://turnpurple2blue.org
X-WR-CALDESC:Events for Turn Purple 2 Blue
REFRESH-INTERVAL;VALUE=DURATION:PT1H
X-Robots-Tag:noindex
X-PUBLISHED-TTL:PT1H
BEGIN:VTIMEZONE
TZID:America/New_York
BEGIN:DAYLIGHT
TZOFFSETFROM:-0500
TZOFFSETTO:-0400
TZNAME:EDT
DTSTART:20250309T070000
END:DAYLIGHT
BEGIN:STANDARD
TZOFFSETFROM:-0400
TZOFFSETTO:-0500
TZNAME:EST
DTSTART:20251102T060000
END:STANDARD
BEGIN:DAYLIGHT
TZOFFSETFROM:-0500
TZOFFSETTO:-0400
TZNAME:EDT
DTSTART:20260308T070000
END:DAYLIGHT
BEGIN:STANDARD
TZOFFSETFROM:-0400
TZOFFSETTO:-0500
TZNAME:EST
DTSTART:20261101T060000
END:STANDARD
BEGIN:DAYLIGHT
TZOFFSETFROM:-0500
TZOFFSETTO:-0400
TZNAME:EDT
DTSTART:20270314T070000
END:DAYLIGHT
BEGIN:STANDARD
TZOFFSETFROM:-0400
TZOFFSETTO:-0500
TZNAME:EST
DTSTART:20271107T060000
END:STANDARD
END:VTIMEZONE
BEGIN:VEVENT
DTSTART;TZID=America/New_York:20260729T190000
DTEND;TZID=America/New_York:20260729T203000
DTSTAMP:20260421T084013
CREATED:20260410T164338Z
LAST-MODIFIED:20260410T164344Z
UID:10004931-1785351600-1785357000@turnpurple2blue.org
SUMMARY:Greater Methuen Indivisible Monthly Meeting: Meet\, Greet\, and Plan! | Community Gathering in Methuen
DESCRIPTION:This a local Indivisible event! \n\n\n\n\n\n\n\nWelcome to Greater Methuen Indivisible (GMI)! You are invited to get to know like-minded concerned citizens\, to discuss local\, state\, and national issues\, and to plan actions we can take in our community that support our values. We meet the last Wednesday of each month from 7-8:30pm at the Nevin’s Library. Your energy\, skills\, and ideas are essential as we continue to make positive contributions to our community together. Look forward to seeing you! \n\n\n\n\n\n\n\n\nRSVP for Updates\n\n\n\n\n\n\n\n\nA core principle behind all Indivisible events is a commitment to nonviolent action. We expect all participants to seek to de-escalate any potential confrontation with those who disagree with our values.
URL:https://turnpurple2blue.org/event/greater-methuen-indivisible-monthly-meeting-meet-greet-and-plan-community-gathering-in-methuen/2026-07-29/
LOCATION:Nevins Memorial Library\, 305 Broadway\, Methuen\, Massachusetts\, 01844
CATEGORIES:Community Gatherings
ATTACH;FMTTYPE=image/png:https://turnpurple2blue.org/wp-content/uploads/2025/03/rsvpnow.png
END:VEVENT
BEGIN:VEVENT
DTSTART;TZID=America/New_York:20260813T183000
DTEND;TZID=America/New_York:20260813T203000
DTSTAMP:20260421T084013
CREATED:20260310T195552Z
LAST-MODIFIED:20260310T195557Z
UID:10004635-1786645800-1786653000@turnpurple2blue.org
SUMMARY:Monthly Training and/or Huddle | Community Gathering in Maynard
DESCRIPTION:This a local Indivisible Maynard Area event! \n\n\n\n\n\n\n\nWe meet the 2nd Thursday each month at the Maynard Firehouse to get informed and to take action. Find out different ways our group is standing up for democracy and how you can get involved from helping our neighbors\, to postcarding\, to organizing standouts \,to calling our elected officials\, to helping pass local ordinances\, and state and federal legislation\, and more. \n\n\n\n\n\n\n\n\nRegister for Updates\n\n\n\n\n\n\n\n\nA core principle behind all Indivisible events is a commitment to nonviolent action. We expect all participants to seek to de-escalate any potential confrontation with those who disagree with our values.
URL:https://turnpurple2blue.org/event/monthly-training-and-or-huddle-community-gathering-in-maynard/2026-08-13/
LOCATION:Maynard Fire Department\, 30 Sudbury St\, Maynard\, Massachusetts\, 01754\, United States
CATEGORIES:Action Hours,Community Gatherings
ATTACH;FMTTYPE=image/png:https://turnpurple2blue.org/wp-content/uploads/2025/03/rsvp-now.png
END:VEVENT
BEGIN:VEVENT
DTSTART;TZID=America/New_York:20260826T190000
DTEND;TZID=America/New_York:20260826T203000
DTSTAMP:20260421T084013
CREATED:20260410T164338Z
LAST-MODIFIED:20260410T164344Z
UID:10004932-1787770800-1787776200@turnpurple2blue.org
SUMMARY:Greater Methuen Indivisible Monthly Meeting: Meet\, Greet\, and Plan! | Community Gathering in Methuen
DESCRIPTION:This a local Indivisible event! \n\n\n\n\n\n\n\nWelcome to Greater Methuen Indivisible (GMI)! You are invited to get to know like-minded concerned citizens\, to discuss local\, state\, and national issues\, and to plan actions we can take in our community that support our values. We meet the last Wednesday of each month from 7-8:30pm at the Nevin’s Library. Your energy\, skills\, and ideas are essential as we continue to make positive contributions to our community together. Look forward to seeing you! \n\n\n\n\n\n\n\n\nRSVP for Updates\n\n\n\n\n\n\n\n\nA core principle behind all Indivisible events is a commitment to nonviolent action. We expect all participants to seek to de-escalate any potential confrontation with those who disagree with our values.
URL:https://turnpurple2blue.org/event/greater-methuen-indivisible-monthly-meeting-meet-greet-and-plan-community-gathering-in-methuen/2026-08-26/
LOCATION:Nevins Memorial Library\, 305 Broadway\, Methuen\, Massachusetts\, 01844
CATEGORIES:Community Gatherings
ATTACH;FMTTYPE=image/png:https://turnpurple2blue.org/wp-content/uploads/2025/03/rsvpnow.png
END:VEVENT
BEGIN:VEVENT
DTSTART;TZID=America/New_York:20260910T183000
DTEND;TZID=America/New_York:20260910T203000
DTSTAMP:20260421T084013
CREATED:20260310T195552Z
LAST-MODIFIED:20260310T195557Z
UID:10004636-1789065000-1789072200@turnpurple2blue.org
SUMMARY:Monthly Training and/or Huddle | Community Gathering in Maynard
DESCRIPTION:This a local Indivisible Maynard Area event! \n\n\n\n\n\n\n\nWe meet the 2nd Thursday each month at the Maynard Firehouse to get informed and to take action. Find out different ways our group is standing up for democracy and how you can get involved from helping our neighbors\, to postcarding\, to organizing standouts \,to calling our elected officials\, to helping pass local ordinances\, and state and federal legislation\, and more. \n\n\n\n\n\n\n\n\nRegister for Updates\n\n\n\n\n\n\n\n\nA core principle behind all Indivisible events is a commitment to nonviolent action. We expect all participants to seek to de-escalate any potential confrontation with those who disagree with our values.
URL:https://turnpurple2blue.org/event/monthly-training-and-or-huddle-community-gathering-in-maynard/2026-09-10/
LOCATION:Maynard Fire Department\, 30 Sudbury St\, Maynard\, Massachusetts\, 01754\, United States
CATEGORIES:Action Hours,Community Gatherings
ATTACH;FMTTYPE=image/png:https://turnpurple2blue.org/wp-content/uploads/2025/03/rsvp-now.png
END:VEVENT
BEGIN:VEVENT
DTSTART;TZID=America/New_York:20260930T190000
DTEND;TZID=America/New_York:20260930T203000
DTSTAMP:20260421T084013
CREATED:20260410T164338Z
LAST-MODIFIED:20260410T164344Z
UID:10004933-1790794800-1790800200@turnpurple2blue.org
SUMMARY:Greater Methuen Indivisible Monthly Meeting: Meet\, Greet\, and Plan! | Community Gathering in Methuen
DESCRIPTION:This a local Indivisible event! \n\n\n\n\n\n\n\nWelcome to Greater Methuen Indivisible (GMI)! You are invited to get to know like-minded concerned citizens\, to discuss local\, state\, and national issues\, and to plan actions we can take in our community that support our values. We meet the last Wednesday of each month from 7-8:30pm at the Nevin’s Library. Your energy\, skills\, and ideas are essential as we continue to make positive contributions to our community together. Look forward to seeing you! \n\n\n\n\n\n\n\n\nRSVP for Updates\n\n\n\n\n\n\n\n\nA core principle behind all Indivisible events is a commitment to nonviolent action. We expect all participants to seek to de-escalate any potential confrontation with those who disagree with our values.
URL:https://turnpurple2blue.org/event/greater-methuen-indivisible-monthly-meeting-meet-greet-and-plan-community-gathering-in-methuen/2026-09-30/
LOCATION:Nevins Memorial Library\, 305 Broadway\, Methuen\, Massachusetts\, 01844
CATEGORIES:Community Gatherings
ATTACH;FMTTYPE=image/png:https://turnpurple2blue.org/wp-content/uploads/2025/03/rsvpnow.png
END:VEVENT
BEGIN:VEVENT
DTSTART;TZID=America/New_York:20261008T183000
DTEND;TZID=America/New_York:20261008T203000
DTSTAMP:20260421T084013
CREATED:20260310T195552Z
LAST-MODIFIED:20260310T195557Z
UID:10004637-1791484200-1791491400@turnpurple2blue.org
SUMMARY:Monthly Training and/or Huddle | Community Gathering in Maynard
DESCRIPTION:This a local Indivisible Maynard Area event! \n\n\n\n\n\n\n\nWe meet the 2nd Thursday each month at the Maynard Firehouse to get informed and to take action. Find out different ways our group is standing up for democracy and how you can get involved from helping our neighbors\, to postcarding\, to organizing standouts \,to calling our elected officials\, to helping pass local ordinances\, and state and federal legislation\, and more. \n\n\n\n\n\n\n\n\nRegister for Updates\n\n\n\n\n\n\n\n\nA core principle behind all Indivisible events is a commitment to nonviolent action. We expect all participants to seek to de-escalate any potential confrontation with those who disagree with our values.
URL:https://turnpurple2blue.org/event/monthly-training-and-or-huddle-community-gathering-in-maynard/2026-10-08/
LOCATION:Maynard Fire Department\, 30 Sudbury St\, Maynard\, Massachusetts\, 01754\, United States
CATEGORIES:Action Hours,Community Gatherings
ATTACH;FMTTYPE=image/png:https://turnpurple2blue.org/wp-content/uploads/2025/03/rsvp-now.png
END:VEVENT
BEGIN:VEVENT
DTSTART;TZID=America/New_York:20261028T190000
DTEND;TZID=America/New_York:20261028T203000
DTSTAMP:20260421T084013
CREATED:20260410T164338Z
LAST-MODIFIED:20260410T164344Z
UID:10004934-1793214000-1793219400@turnpurple2blue.org
SUMMARY:Greater Methuen Indivisible Monthly Meeting: Meet\, Greet\, and Plan! | Community Gathering in Methuen
DESCRIPTION:This a local Indivisible event! \n\n\n\n\n\n\n\nWelcome to Greater Methuen Indivisible (GMI)! You are invited to get to know like-minded concerned citizens\, to discuss local\, state\, and national issues\, and to plan actions we can take in our community that support our values. We meet the last Wednesday of each month from 7-8:30pm at the Nevin’s Library. Your energy\, skills\, and ideas are essential as we continue to make positive contributions to our community together. Look forward to seeing you! \n\n\n\n\n\n\n\n\nRSVP for Updates\n\n\n\n\n\n\n\n\nA core principle behind all Indivisible events is a commitment to nonviolent action. We expect all participants to seek to de-escalate any potential confrontation with those who disagree with our values.
URL:https://turnpurple2blue.org/event/greater-methuen-indivisible-monthly-meeting-meet-greet-and-plan-community-gathering-in-methuen/2026-10-28/
LOCATION:Nevins Memorial Library\, 305 Broadway\, Methuen\, Massachusetts\, 01844
CATEGORIES:Community Gatherings
ATTACH;FMTTYPE=image/png:https://turnpurple2blue.org/wp-content/uploads/2025/03/rsvpnow.png
END:VEVENT
BEGIN:VEVENT
DTSTART;TZID=America/New_York:20261112T183000
DTEND;TZID=America/New_York:20261112T203000
DTSTAMP:20260421T084013
CREATED:20260310T195552Z
LAST-MODIFIED:20260310T195557Z
UID:10004638-1794508200-1794515400@turnpurple2blue.org
SUMMARY:Monthly Training and/or Huddle | Community Gathering in Maynard
DESCRIPTION:This a local Indivisible Maynard Area event! \n\n\n\n\n\n\n\nWe meet the 2nd Thursday each month at the Maynard Firehouse to get informed and to take action. Find out different ways our group is standing up for democracy and how you can get involved from helping our neighbors\, to postcarding\, to organizing standouts \,to calling our elected officials\, to helping pass local ordinances\, and state and federal legislation\, and more. \n\n\n\n\n\n\n\n\nRegister for Updates\n\n\n\n\n\n\n\n\nA core principle behind all Indivisible events is a commitment to nonviolent action. We expect all participants to seek to de-escalate any potential confrontation with those who disagree with our values.
URL:https://turnpurple2blue.org/event/monthly-training-and-or-huddle-community-gathering-in-maynard/2026-11-12/
LOCATION:Maynard Fire Department\, 30 Sudbury St\, Maynard\, Massachusetts\, 01754\, United States
CATEGORIES:Action Hours,Community Gatherings
ATTACH;FMTTYPE=image/png:https://turnpurple2blue.org/wp-content/uploads/2025/03/rsvp-now.png
END:VEVENT
BEGIN:VEVENT
DTSTART;TZID=America/New_York:20261210T183000
DTEND;TZID=America/New_York:20261210T203000
DTSTAMP:20260421T084013
CREATED:20260310T195552Z
LAST-MODIFIED:20260310T195557Z
UID:10004639-1796927400-1796934600@turnpurple2blue.org
SUMMARY:Monthly Training and/or Huddle | Community Gathering in Maynard
DESCRIPTION:This a local Indivisible Maynard Area event! \n\n\n\n\n\n\n\nWe meet the 2nd Thursday each month at the Maynard Firehouse to get informed and to take action. Find out different ways our group is standing up for democracy and how you can get involved from helping our neighbors\, to postcarding\, to organizing standouts \,to calling our elected officials\, to helping pass local ordinances\, and state and federal legislation\, and more. \n\n\n\n\n\n\n\n\nRegister for Updates\n\n\n\n\n\n\n\n\nA core principle behind all Indivisible events is a commitment to nonviolent action. We expect all participants to seek to de-escalate any potential confrontation with those who disagree with our values.
URL:https://turnpurple2blue.org/event/monthly-training-and-or-huddle-community-gathering-in-maynard/2026-12-10/
LOCATION:Maynard Fire Department\, 30 Sudbury St\, Maynard\, Massachusetts\, 01754\, United States
CATEGORIES:Action Hours,Community Gatherings
ATTACH;FMTTYPE=image/png:https://turnpurple2blue.org/wp-content/uploads/2025/03/rsvp-now.png
END:VEVENT
BEGIN:VEVENT
DTSTART;TZID=America/New_York:20261230T190000
DTEND;TZID=America/New_York:20261230T203000
DTSTAMP:20260421T084013
CREATED:20260410T164338Z
LAST-MODIFIED:20260410T164344Z
UID:10004935-1798657200-1798662600@turnpurple2blue.org
SUMMARY:Greater Methuen Indivisible Monthly Meeting: Meet\, Greet\, and Plan! | Community Gathering in Methuen
DESCRIPTION:This a local Indivisible event! \n\n\n\n\n\n\n\nWelcome to Greater Methuen Indivisible (GMI)! You are invited to get to know like-minded concerned citizens\, to discuss local\, state\, and national issues\, and to plan actions we can take in our community that support our values. We meet the last Wednesday of each month from 7-8:30pm at the Nevin’s Library. Your energy\, skills\, and ideas are essential as we continue to make positive contributions to our community together. Look forward to seeing you! \n\n\n\n\n\n\n\n\nRSVP for Updates\n\n\n\n\n\n\n\n\nA core principle behind all Indivisible events is a commitment to nonviolent action. We expect all participants to seek to de-escalate any potential confrontation with those who disagree with our values.
URL:https://turnpurple2blue.org/event/greater-methuen-indivisible-monthly-meeting-meet-greet-and-plan-community-gathering-in-methuen/2026-12-30/
LOCATION:Nevins Memorial Library\, 305 Broadway\, Methuen\, Massachusetts\, 01844
CATEGORIES:Community Gatherings
ATTACH;FMTTYPE=image/png:https://turnpurple2blue.org/wp-content/uploads/2025/03/rsvpnow.png
END:VEVENT
END:VCALENDAR