BEGIN:VCALENDAR
VERSION:2.0
PRODID:-//Turn Purple 2 Blue - ECPv6.15.20//NONSGML v1.0//EN
CALSCALE:GREGORIAN
METHOD:PUBLISH
X-WR-CALNAME:Turn Purple 2 Blue
X-ORIGINAL-URL:https://turnpurple2blue.org
X-WR-CALDESC:Events for Turn Purple 2 Blue
REFRESH-INTERVAL;VALUE=DURATION:PT1H
X-Robots-Tag:noindex
X-PUBLISHED-TTL:PT1H
BEGIN:VTIMEZONE
TZID:America/New_York
BEGIN:DAYLIGHT
TZOFFSETFROM:-0500
TZOFFSETTO:-0400
TZNAME:EDT
DTSTART:20250309T070000
END:DAYLIGHT
BEGIN:STANDARD
TZOFFSETFROM:-0400
TZOFFSETTO:-0500
TZNAME:EST
DTSTART:20251102T060000
END:STANDARD
BEGIN:DAYLIGHT
TZOFFSETFROM:-0500
TZOFFSETTO:-0400
TZNAME:EDT
DTSTART:20260308T070000
END:DAYLIGHT
BEGIN:STANDARD
TZOFFSETFROM:-0400
TZOFFSETTO:-0500
TZNAME:EST
DTSTART:20261101T060000
END:STANDARD
BEGIN:DAYLIGHT
TZOFFSETFROM:-0500
TZOFFSETTO:-0400
TZNAME:EDT
DTSTART:20270314T070000
END:DAYLIGHT
BEGIN:STANDARD
TZOFFSETFROM:-0400
TZOFFSETTO:-0500
TZNAME:EST
DTSTART:20271107T060000
END:STANDARD
END:VTIMEZONE
BEGIN:VEVENT
DTSTART;TZID=America/New_York:20260308T163000
DTEND;TZID=America/New_York:20260308T183000
DTSTAMP:20260421T184128
CREATED:20260225T151457Z
LAST-MODIFIED:20260225T152612Z
UID:10004496-1772987400-1772994600@turnpurple2blue.org
SUMMARY:Indivisible Westford Poster Making for NO KINGS | Community Gathering in Westford
DESCRIPTION:Join us for a poster-making event to make posters for No Kings 3. \n\n\n\n\n\n\n\nPoster-making supplies will be available\, but we appreciate if you can also bring your own. Refreshments will be provided. We have participated and hosted these events in the past\, and it’s a great opportunity to work with your fellow activists\, use your creativity\, and have some fun.   \n\n\n\n\n\n\n\n\nRSVP for Updates\n\n\n\n\n\n\n\n\nA core principle behind all Indivisible events is a commitment to nonviolent action. We expect all participants to seek to de-escalate any potential confrontation with those who disagree with our values.
URL:https://turnpurple2blue.org/event/indivisible-westford-poster-making-for-no-kings-community-gathering-in-westford/
LOCATION:First Parish Church United\, 48 Main St\, Westford\, Massachusetts\, 01186
CATEGORIES:Action Hours,Community Gatherings
ATTACH;FMTTYPE=image/jpeg:https://turnpurple2blue.org/wp-content/uploads/2026/02/hannah-busing-Zyx1bK9mqmA-unsplash.jpg
GEO:42.5816209;-71.4393076
X-APPLE-STRUCTURED-LOCATION;VALUE=URI;X-ADDRESS=First Parish Church United 48 Main St Westford Massachusetts 01186;X-APPLE-RADIUS=500;X-TITLE=48 Main St:geo:-71.4393076,42.5816209
END:VEVENT
BEGIN:VEVENT
DTSTART;TZID=America/New_York:20260310T180000
DTEND;TZID=America/New_York:20260310T200000
DTSTAMP:20260421T184128
CREATED:20260310T174222Z
LAST-MODIFIED:20260310T174227Z
UID:10004622-1773165600-1773172800@turnpurple2blue.org
SUMMARY:Help Make Signs for Upcoming No Kings Rally! | Community Gathering in Melrose
DESCRIPTION:Put your hands to work\, express yourself and help make No Kings signs for yourself or others (we’d like to have extras to loan out on the day). Materials will be provided – big markers\, paints\, brushes\, poster board and slogan ideas will be at your disposal! Drop in for as long as you like. \n\n\n\n\n\n\n\n\nRegister for Updates\n\n\n\n\n\n\n\n\nA core principle behind all Indivisible events is a commitment to nonviolent action. We expect all participants to seek to de-escalate any potential confrontation with those who disagree with our values.
URL:https://turnpurple2blue.org/event/help-make-signs-for-upcoming-no-kings-rally-community-gathering-in-melrose/2026-03-10/
LOCATION:Melrose Unitarian Universalist Church\, 70 W. Emerson St.\, Melrose\, Massachusetts\, 02176
CATEGORIES:Action Hours,Community Gatherings
ATTACH;FMTTYPE=image/png:https://turnpurple2blue.org/wp-content/uploads/2025/03/rsvp-now.png
GEO:42.4587891;-71.0664788
X-APPLE-STRUCTURED-LOCATION;VALUE=URI;X-ADDRESS=Melrose Unitarian Universalist Church 70 W. Emerson St. Melrose Massachusetts 02176;X-APPLE-RADIUS=500;X-TITLE=70 W. Emerson St.:geo:-71.0664788,42.4587891
END:VEVENT
BEGIN:VEVENT
DTSTART;TZID=America/New_York:20260310T183000
DTEND;TZID=America/New_York:20260310T200000
DTSTAMP:20260421T184128
CREATED:20260218T160520Z
LAST-MODIFIED:20260218T160526Z
UID:10004462-1773167400-1773172800@turnpurple2blue.org
SUMMARY:Nashoba Indivisible Monthly In-Person Gathering
DESCRIPTION:This a local Nashoba Indivisible Area event. \n\n\n\n\n\n\n\nWe meet monthly from 6:30pm to 8pm to get informed and to take action.  \n\n\n\n\n\n\n\nWe will also be collecting canned and dried packaged food to donate to the Wheat food pantry serving people in our community\, \n\n\n\n\n\n\n\nSpace is limited\, so RSVP is required. If you would like to receive our emails on other events or join our group\, you can go to our webpage and join our group there: nashobaindivisible.org \n\n\n\n\n\n\n\nA core principle behind all Indivisible events is a commitment to nonviolent action. We expect all participants to seek to de-escalate any potential confrontation with those who disagree with our values. \n\n\n\n\n\n\n\n\nRSVP Required for Details\n\n\n\n\n\n\n\n\nA core principle behind all Indivisible events is a commitment to nonviolent action. We expect all participants to seek to de-escalate any potential confrontation with those who disagree with our values.
URL:https://turnpurple2blue.org/event/nashoba-indivisible-monthly-in-person-gathering/2026-03-10/
LOCATION:Private Address – Register for Exact Details
CATEGORIES:Action Hours,Community Gatherings
ATTACH;FMTTYPE=image/png:https://turnpurple2blue.org/wp-content/uploads/2025/03/rsvp-now.png
END:VEVENT
BEGIN:VEVENT
DTSTART;TZID=America/New_York:20260312T183000
DTEND;TZID=America/New_York:20260312T203000
DTSTAMP:20260421T184128
CREATED:20260310T195552Z
LAST-MODIFIED:20260310T195557Z
UID:10004630-1773340200-1773347400@turnpurple2blue.org
SUMMARY:Monthly Training and/or Huddle | Community Gathering in Maynard
DESCRIPTION:This a local Indivisible Maynard Area event! \n\n\n\n\n\n\n\nWe meet the 2nd Thursday each month at the Maynard Firehouse to get informed and to take action. Find out different ways our group is standing up for democracy and how you can get involved from helping our neighbors\, to postcarding\, to organizing standouts \,to calling our elected officials\, to helping pass local ordinances\, and state and federal legislation\, and more. \n\n\n\n\n\n\n\n\nRegister for Updates\n\n\n\n\n\n\n\n\nA core principle behind all Indivisible events is a commitment to nonviolent action. We expect all participants to seek to de-escalate any potential confrontation with those who disagree with our values.
URL:https://turnpurple2blue.org/event/monthly-training-and-or-huddle-community-gathering-in-maynard/2026-03-12/
LOCATION:Maynard Fire Department\, 30 Sudbury St\, Maynard\, Massachusetts\, 01754\, United States
CATEGORIES:Action Hours,Community Gatherings
ATTACH;FMTTYPE=image/png:https://turnpurple2blue.org/wp-content/uploads/2025/03/rsvp-now.png
END:VEVENT
BEGIN:VEVENT
DTSTART;TZID=America/New_York:20260312T190000
DTEND;TZID=America/New_York:20260312T200000
DTSTAMP:20260421T184128
CREATED:20260310T174759Z
LAST-MODIFIED:20260310T174805Z
UID:10004624-1773342000-1773345600@turnpurple2blue.org
SUMMARY:Chelmsford Connected March Meeting | Community Gathering in Chelmsford
DESCRIPTION:Come join Chelmsford Connected for our next in person meeting. We will have updates from our newly formed subcommittees\, discussion about the next No King’s rally\, and time to catch up with our neighbors.  \n\n\n\n\n\n\n\n\nRegister for Updates\n\n\n\n\n\n\n\n\nA core principle behind all Indivisible events is a commitment to nonviolent action. We expect all participants to seek to de-escalate any potential confrontation with those who disagree with our values.
URL:https://turnpurple2blue.org/event/chelmsford-connected-march-meeting-community-gathering-in-chelmsford/
LOCATION:Chelmsford Public Library\, 25 Boston Road\, Chelmsford\, Massachusetts\, 01824
CATEGORIES:Community Gatherings
ATTACH;FMTTYPE=image/png:https://turnpurple2blue.org/wp-content/uploads/2025/03/rsvp-now.png
END:VEVENT
BEGIN:VEVENT
DTSTART;TZID=America/New_York:20260314T080000
DTEND;TZID=America/New_York:20260315T170000
DTSTAMP:20260421T184128
CREATED:20260216T171234Z
LAST-MODIFIED:20260216T171239Z
UID:10004403-1773475200-1773594000@turnpurple2blue.org
SUMMARY:Grassroots Campaign Training 2026 | Multiple Dates & Locations
DESCRIPTION:Mass Alliance’s signature Grassroots Campaign Training\, is a comprehensive two-day bootcamp that will teach you all you need to know to run and win a grassroots campaign for public office  including mailers\, GOTV planning\, fundraising\, messaging\, social media\, and more. Link to application: tinyurl.com/gct26ma \n\n\n\n\n\n\n\nTraining Dates / Locations: \n\n\n\nFeb 28-Mar 1 Worcester (Deadline to apply: Feb 12) \n\n\n\nMar 14-15 Lynn (Deadline to apply:  Feb 27) \n\n\n\nMar 21-22 Springfield (Deadline to apply: Mar 5) \n\n\n\nApril 11-12 Quincy (Deadline to apply: Mar 2) \n\n\n\n\n\n\n\nRegistration Fee   $200 \n\n\n\nRegistration Fee + Scholarship Fund Contribution: $250 \n\n\n\n(Sliding scale available) \n\n\n\n\n\n\n\nBreakfast & Lunch Provided \n\n\n\n\n\n\n\nWe will review your application and contact you within a week with payment instructions upon submitting this form.  Location will be provided upon registration. \n\n\n\n\n\n\n\nPlease e-mail contact@massalliance.org for additional information.  \n\n\n\n\n\n\n\n\nRegister for Details\n\n\n\n\n\n\n\n\nA core principle behind all Indivisible events is a commitment to nonviolent action. We expect all participants to seek to de-escalate any potential confrontation with those who disagree with our values. 
URL:https://turnpurple2blue.org/event/grassroots-campaign-training-2026-multiple-dates-locations/2026-03-14/
LOCATION:Various Locations – Register for Details
CATEGORIES:Action Hours,Community Gatherings
ATTACH;FMTTYPE=image/png:https://turnpurple2blue.org/wp-content/uploads/2026/02/GCT-26-Social-Media-Post-768x994-1.png
END:VEVENT
END:VCALENDAR