BEGIN:VCALENDAR
VERSION:2.0
PRODID:-//Turn Purple 2 Blue - ECPv6.15.13.1//NONSGML v1.0//EN
CALSCALE:GREGORIAN
METHOD:PUBLISH
X-WR-CALNAME:Turn Purple 2 Blue
X-ORIGINAL-URL:https://turnpurple2blue.org
X-WR-CALDESC:Events for Turn Purple 2 Blue
REFRESH-INTERVAL;VALUE=DURATION:PT1H
X-Robots-Tag:noindex
X-PUBLISHED-TTL:PT1H
BEGIN:VTIMEZONE
TZID:America/New_York
BEGIN:DAYLIGHT
TZOFFSETFROM:-0500
TZOFFSETTO:-0400
TZNAME:EDT
DTSTART:20250309T070000
END:DAYLIGHT
BEGIN:STANDARD
TZOFFSETFROM:-0400
TZOFFSETTO:-0500
TZNAME:EST
DTSTART:20251102T060000
END:STANDARD
BEGIN:DAYLIGHT
TZOFFSETFROM:-0500
TZOFFSETTO:-0400
TZNAME:EDT
DTSTART:20260308T070000
END:DAYLIGHT
BEGIN:STANDARD
TZOFFSETFROM:-0400
TZOFFSETTO:-0500
TZNAME:EST
DTSTART:20261101T060000
END:STANDARD
BEGIN:DAYLIGHT
TZOFFSETFROM:-0500
TZOFFSETTO:-0400
TZNAME:EDT
DTSTART:20270314T070000
END:DAYLIGHT
BEGIN:STANDARD
TZOFFSETFROM:-0400
TZOFFSETTO:-0500
TZNAME:EST
DTSTART:20271107T060000
END:STANDARD
END:VTIMEZONE
BEGIN:VEVENT
DTSTART;TZID=America/New_York:20260317T190000
DTEND;TZID=America/New_York:20260329T213000
DTSTAMP:20260108T205529
CREATED:20250909T163930Z
LAST-MODIFIED:20251009T203141Z
UID:10002624-1773774000-1774819800@turnpurple2blue.org
SUMMARY:Suffs
DESCRIPTION:BEHIND EVERY POWERFUL WOMAN… ARE MORE POWERFUL WOMEN. \n\n\n\n\nBuy Tickets\n\n\n\n\nDirect from Broadway\, comes the acclaimed Tony Award®-winning musical SUFFS about the brilliant\, passionate\, and funny American women who fought tirelessly for the right to vote. Created by Shaina Taub\, the first woman to ever independently win Tony Awards for Best Book and Best Score in the same season\, this “thrilling\, inspiring and dazzlingly entertaining” (Variety) new musical boldly explores the triumphs and failures of a struggle for equality that’s far from over. Winner of the Outer Critics’ Circle Award for Best New Musical. \n\n\n\n“Like all of the best Broadway musicals\, Suffs humanizes\, empowers\, moves\, and entertains.” (Chicago Tribune)
URL:https://turnpurple2blue.org/event/suffs/
LOCATION:Emerson Colonial Theatre\, 106 Boylston St\, Boston\, Massachusetts\, 02116
CATEGORIES:Community Gatherings
ATTACH;FMTTYPE=image/png:https://turnpurple2blue.org/wp-content/uploads/2025/09/suffs.png
GEO:42.3522621;-71.0653971
X-APPLE-STRUCTURED-LOCATION;VALUE=URI;X-ADDRESS=Emerson Colonial Theatre 106 Boylston St Boston Massachusetts 02116;X-APPLE-RADIUS=500;X-TITLE=106 Boylston St:geo:-71.0653971,42.3522621
END:VEVENT
END:VCALENDAR