BEGIN:VCALENDAR
VERSION:2.0
PRODID:-//Turn Purple 2 Blue - ECPv6.15.20//NONSGML v1.0//EN
CALSCALE:GREGORIAN
METHOD:PUBLISH
X-WR-CALNAME:Turn Purple 2 Blue
X-ORIGINAL-URL:https://turnpurple2blue.org
X-WR-CALDESC:Events for Turn Purple 2 Blue
REFRESH-INTERVAL;VALUE=DURATION:PT1H
X-Robots-Tag:noindex
X-PUBLISHED-TTL:PT1H
BEGIN:VTIMEZONE
TZID:America/New_York
BEGIN:DAYLIGHT
TZOFFSETFROM:-0500
TZOFFSETTO:-0400
TZNAME:EDT
DTSTART:20250309T070000
END:DAYLIGHT
BEGIN:STANDARD
TZOFFSETFROM:-0400
TZOFFSETTO:-0500
TZNAME:EST
DTSTART:20251102T060000
END:STANDARD
BEGIN:DAYLIGHT
TZOFFSETFROM:-0500
TZOFFSETTO:-0400
TZNAME:EDT
DTSTART:20260308T070000
END:DAYLIGHT
BEGIN:STANDARD
TZOFFSETFROM:-0400
TZOFFSETTO:-0500
TZNAME:EST
DTSTART:20261101T060000
END:STANDARD
BEGIN:DAYLIGHT
TZOFFSETFROM:-0500
TZOFFSETTO:-0400
TZNAME:EDT
DTSTART:20270314T070000
END:DAYLIGHT
BEGIN:STANDARD
TZOFFSETFROM:-0400
TZOFFSETTO:-0500
TZNAME:EST
DTSTART:20271107T060000
END:STANDARD
END:VTIMEZONE
BEGIN:VEVENT
DTSTART;TZID=America/New_York:20260512T183000
DTEND;TZID=America/New_York:20260512T200000
DTSTAMP:20260422T013031
CREATED:20260218T160520Z
LAST-MODIFIED:20260218T160526Z
UID:10004464-1778610600-1778616000@turnpurple2blue.org
SUMMARY:Nashoba Indivisible Monthly In-Person Gathering
DESCRIPTION:This a local Nashoba Indivisible Area event. \n\n\n\n\n\n\n\nWe meet monthly from 6:30pm to 8pm to get informed and to take action.  \n\n\n\n\n\n\n\nWe will also be collecting canned and dried packaged food to donate to the Wheat food pantry serving people in our community\, \n\n\n\n\n\n\n\nSpace is limited\, so RSVP is required. If you would like to receive our emails on other events or join our group\, you can go to our webpage and join our group there: nashobaindivisible.org \n\n\n\n\n\n\n\nA core principle behind all Indivisible events is a commitment to nonviolent action. We expect all participants to seek to de-escalate any potential confrontation with those who disagree with our values. \n\n\n\n\n\n\n\n\nRSVP Required for Details\n\n\n\n\n\n\n\n\nA core principle behind all Indivisible events is a commitment to nonviolent action. We expect all participants to seek to de-escalate any potential confrontation with those who disagree with our values.
URL:https://turnpurple2blue.org/event/nashoba-indivisible-monthly-in-person-gathering/2026-05-12/
LOCATION:Private Address – Register for Exact Details
CATEGORIES:Action Hours,Community Gatherings
ATTACH;FMTTYPE=image/png:https://turnpurple2blue.org/wp-content/uploads/2025/03/rsvp-now.png
END:VEVENT
BEGIN:VEVENT
DTSTART;TZID=America/New_York:20260513T200000
DTEND;TZID=America/New_York:20260513T213000
DTSTAMP:20260422T013031
CREATED:20260227T171200Z
LAST-MODIFIED:20260227T171207Z
UID:10004495-1778702400-1778707800@turnpurple2blue.org
SUMMARY:Block by Block Training & Action Series | Virtual Training by SURJ
DESCRIPTION:Join us for our ‘Block by Block’ Training & Action Series—a hands-on program designed to help you launch and lead a team for 2026 national campaign! \n\n\n\n\n\n\n\nBlock by Block is SURJ’s 2026 national campaign to elect champions for working people\, block MAGA\, and fight for the future we deserve. We do this through three strategies: Mobilize through mass action\, Elect working class champions\, and Grow a strong\, active base. \n\n\n\n\n\n\n\nThis online training series is designed to train and support new groups\, circles and chapters to run Block by Block: Solidarity Rising in your communities for the rest of the year. Groups will deepen organizing skills\, align with national strategy\, and be ready to take action locally. We’ll meet every other week online for training. On the off weeks\, your group will gather locally to practice skills\, grow your base\, and take action. \n\n\n\n\n\n\n\nThis training series will consist of three modules\, each focused on one part of our strategy: \n\n\n\n\n\n\n\nGrow Module — March 4 & 18\, 2026\n\n\n\n\n\n\n\nLearn how to bring new people into your group\, plug them into meaningful roles\, build strong and accountable teams\, and develop leaders who can carry the work forward. Growing our base is essential to winning—this is how we build the scale and discipline needed to carry out Block by Block for the rest of the year. \n\n\n\n\n\n\n\nMobilize Module — April 1\, 15 & 29\, 2026\n\n\n\n\n\n\n\nGet trained to organize coordinated\, strategic action using tools of mass noncooperation. Prepare to move quickly when our rights and democracy are threatened\, and build toward May Day: A Day Without Workers. \n\n\n\n\n\n\n\nElect Module — May 13\, 2026\n\n\n\n\n\n\n\nLearn why governing power is a key part of our strategy and the role your circle\, chapter\, or group can play in supporting progressive candidates and blocking MAGA power. \n\n\n\n\n\n\n\nBy the end of this series\, your group will be ready to grow your base\, mobilize for action\, and take part in electoral strategy. We’ll provide all the structure\, toolkits\, and guidance you need to plug into our national program and make a real difference—block by block. \n\n\n\n\n\n\n\nWe encourage at least one member from every group\, circle\, or chapter to join\, but ideally more! Sign up for all the sessions—even if you can’t make them all\, we’ll send recordings so you won’t miss anything. And for more info on the Block by Block campaign\, check out the 1-pager. \n\n\n\n\n\n\n\n\nRegister for Details
URL:https://turnpurple2blue.org/event/block-by-block-training-action-series-virtual-training-by-surj-2/2026-05-13/
LOCATION:Virtual Event – Join from Anywhere
CATEGORIES:Action Hours,Community Gatherings
ATTACH;FMTTYPE=image/png:https://turnpurple2blue.org/wp-content/uploads/2026/02/block-by-block.png
END:VEVENT
BEGIN:VEVENT
DTSTART;TZID=America/New_York:20260514T183000
DTEND;TZID=America/New_York:20260514T203000
DTSTAMP:20260422T013031
CREATED:20260310T195552Z
LAST-MODIFIED:20260310T195557Z
UID:10004632-1778783400-1778790600@turnpurple2blue.org
SUMMARY:Monthly Training and/or Huddle | Community Gathering in Maynard
DESCRIPTION:This a local Indivisible Maynard Area event! \n\n\n\n\n\n\n\nWe meet the 2nd Thursday each month at the Maynard Firehouse to get informed and to take action. Find out different ways our group is standing up for democracy and how you can get involved from helping our neighbors\, to postcarding\, to organizing standouts \,to calling our elected officials\, to helping pass local ordinances\, and state and federal legislation\, and more. \n\n\n\n\n\n\n\n\nRegister for Updates\n\n\n\n\n\n\n\n\nA core principle behind all Indivisible events is a commitment to nonviolent action. We expect all participants to seek to de-escalate any potential confrontation with those who disagree with our values.
URL:https://turnpurple2blue.org/event/monthly-training-and-or-huddle-community-gathering-in-maynard/2026-05-14/
LOCATION:Maynard Fire Department\, 30 Sudbury St\, Maynard\, Massachusetts\, 01754\, United States
CATEGORIES:Action Hours,Community Gatherings
ATTACH;FMTTYPE=image/png:https://turnpurple2blue.org/wp-content/uploads/2025/03/rsvp-now.png
END:VEVENT
END:VCALENDAR