BEGIN:VCALENDAR
VERSION:2.0
PRODID:-//Turn Purple 2 Blue - ECPv6.15.20//NONSGML v1.0//EN
CALSCALE:GREGORIAN
METHOD:PUBLISH
X-ORIGINAL-URL:https://turnpurple2blue.org
X-WR-CALDESC:Events for Turn Purple 2 Blue
REFRESH-INTERVAL;VALUE=DURATION:PT1H
X-Robots-Tag:noindex
X-PUBLISHED-TTL:PT1H
BEGIN:VTIMEZONE
TZID:America/New_York
BEGIN:DAYLIGHT
TZOFFSETFROM:-0500
TZOFFSETTO:-0400
TZNAME:EDT
DTSTART:20250309T070000
END:DAYLIGHT
BEGIN:STANDARD
TZOFFSETFROM:-0400
TZOFFSETTO:-0500
TZNAME:EST
DTSTART:20251102T060000
END:STANDARD
BEGIN:DAYLIGHT
TZOFFSETFROM:-0500
TZOFFSETTO:-0400
TZNAME:EDT
DTSTART:20260308T070000
END:DAYLIGHT
BEGIN:STANDARD
TZOFFSETFROM:-0400
TZOFFSETTO:-0500
TZNAME:EST
DTSTART:20261101T060000
END:STANDARD
BEGIN:DAYLIGHT
TZOFFSETFROM:-0500
TZOFFSETTO:-0400
TZNAME:EDT
DTSTART:20270314T070000
END:DAYLIGHT
BEGIN:STANDARD
TZOFFSETFROM:-0400
TZOFFSETTO:-0500
TZNAME:EST
DTSTART:20271107T060000
END:STANDARD
END:VTIMEZONE
BEGIN:VEVENT
DTSTART;TZID=America/New_York:20260419T133000
DTEND;TZID=America/New_York:20260419T150000
DTSTAMP:20260420T021838
CREATED:20260331T190507Z
LAST-MODIFIED:20260331T190625Z
UID:10004769-1776605400-1776610800@turnpurple2blue.org
SUMMARY:One Sun\, One Earth\, One People: Sacred Celebration
DESCRIPTION:Boston Interfaith Climate Allies invites you to gather at the Embrace Memorial on Boston Common and process to the Cathedral Church of St. Paul for this celebration with honored guest speaker\, climate activist\, author\, Sunday School teacher Bill McKibben. \n\n\n\nGather at April 19\, at 1:30 PM at the Embrace. \n\n\n\n\nRSVP for updates
URL:https://turnpurple2blue.org/event/one-sun-one-earth-one-people-sacred-celebration/
LOCATION:Boston Common (Embrace Statue)\, Tremont and West St\, Boston\, Massachusetts\, 02108
CATEGORIES:Community Gatherings
ATTACH;FMTTYPE=image/png:https://turnpurple2blue.org/wp-content/uploads/2026/03/One-Sun.png
END:VEVENT
BEGIN:VEVENT
DTSTART;TZID=America/New_York:20260425T140000
DTEND;TZID=America/New_York:20260425T150000
DTSTAMP:20260420T021838
CREATED:20260410T163538Z
LAST-MODIFIED:20260410T163543Z
UID:10004927-1777125600-1777129200@turnpurple2blue.org
SUMMARY:EARTHDAY 2026 Merrimac | Community Gathering in Merrimac
DESCRIPTION:Celebrate and care for 🌺earth🌎climate🌳clean power⚡air🌬️water🏞️food🍇pollinator🐝garden🌻forest🌲river🏞️lake. \n\n\n\n\n\n\n\nForward Merrimac \n\n\n\n\n\n\n\n**For your safety in Merrimac Square; please be on the concrete sidewalks – not on the pavement or bricks in the circle as large vehicles drive on them.** Please bring your friends and family\, be aware of your surroundings\, de-escalate any confrontation\, step away and report to a Safety Marshall if need be. ✳️How to Prepare for Your Event: ✅ Bring yourself\, friends\, family\, signs\, or props → Make your message visible! Sign ideas include: “EARTH IS OUR HOME” \, “CLEAN POWER” \, “RECYCLE REUSE REDUCE” \, “FREE SPEECH”\, “PEACEFUL ASSEMBLY” . ✅ Record everything→ Post photos/videos with #EarthdayMerrimacMA hashtag. Avoid posting images of people’s faces. There’s a parking lot by 25 School Street. See more volunteer opportunities at: sites.google.com/view/fwdm (Trigger Warning: Sensory Overload – many Emojis for visual thinkers) 💖 . 🌎 .🌳 .🌴.🌻. ♾️ . 🦋 .🪻. ♿ . 🐕‍🦺 . ☮️ .✌🏼. 🧘🏼 .🕊️. ☯️ . 🎶 . 🎤 . 😁 . 🐋 . 🌊 . 💙 . 🇺🇲 . 🇵🇷 . 🏳️‍🌈 . 🏳️‍⚧️ . 🚫🧊 . ❌👑. 🆘🪧. 👥 . ✳️ . \n\n\n\n\n\n\n\n\nRSVP for Updates\n\n\n\n\n\n\n\n\nA core principle behind all Indivisible events is a commitment to nonviolent action. We expect all participants to seek to de-escalate any potential confrontation with those who disagree with our values.
URL:https://turnpurple2blue.org/event/earthday-2026-merrimac-community-gathering-in-merrimac-2/
LOCATION:Massachusetts
CATEGORIES:Community Gatherings,Protests
ATTACH;FMTTYPE=image/png:https://turnpurple2blue.org/wp-content/uploads/2025/03/rsvpnow.png
END:VEVENT
END:VCALENDAR