BEGIN:VCALENDAR
VERSION:2.0
PRODID:-//Turn Purple 2 Blue - ECPv6.15.20//NONSGML v1.0//EN
CALSCALE:GREGORIAN
METHOD:PUBLISH
X-ORIGINAL-URL:https://turnpurple2blue.org
X-WR-CALDESC:Events for Turn Purple 2 Blue
REFRESH-INTERVAL;VALUE=DURATION:PT1H
X-Robots-Tag:noindex
X-PUBLISHED-TTL:PT1H
BEGIN:VTIMEZONE
TZID:America/New_York
BEGIN:DAYLIGHT
TZOFFSETFROM:-0500
TZOFFSETTO:-0400
TZNAME:EDT
DTSTART:20250309T070000
END:DAYLIGHT
BEGIN:STANDARD
TZOFFSETFROM:-0400
TZOFFSETTO:-0500
TZNAME:EST
DTSTART:20251102T060000
END:STANDARD
BEGIN:DAYLIGHT
TZOFFSETFROM:-0500
TZOFFSETTO:-0400
TZNAME:EDT
DTSTART:20260308T070000
END:DAYLIGHT
BEGIN:STANDARD
TZOFFSETFROM:-0400
TZOFFSETTO:-0500
TZNAME:EST
DTSTART:20261101T060000
END:STANDARD
BEGIN:DAYLIGHT
TZOFFSETFROM:-0500
TZOFFSETTO:-0400
TZNAME:EDT
DTSTART:20270314T070000
END:DAYLIGHT
BEGIN:STANDARD
TZOFFSETFROM:-0400
TZOFFSETTO:-0500
TZNAME:EST
DTSTART:20271107T060000
END:STANDARD
END:VTIMEZONE
BEGIN:VEVENT
DTSTART;TZID=America/New_York:20260106T083000
DTEND;TZID=America/New_York:20260106T100000
DTSTAMP:20260425T192358
CREATED:20260105T175938Z
LAST-MODIFIED:20260105T175944Z
UID:10003803-1767688200-1767693600@turnpurple2blue.org
SUMMARY:Standout at Framingham ISAP Office
DESCRIPTION:Join us as we draw attention to the invasive cruelty of ICE’s ISAP program.  The Intensive Supervision Appearance Program (ISAP) utilizes private contractors to surveil and monitor undocumented neighbors via biometric scans and ankle monitors. \n\n\n\nPark at Life Time Fitness.  Protest on public sidewalk facing the intersection at 10 Speen St.  Signs welcome.
URL:https://turnpurple2blue.org/event/standout-at-framingham-isap-office-2/2026-01-06/
LOCATION:Lifetime Fitness Parking Lot\, 490 Old Connecticut Path\, Framingham\, Massachusetts\, 01701
CATEGORIES:Protests
ATTACH;FMTTYPE=image/png:https://turnpurple2blue.org/wp-content/uploads/2025/10/framingham.png
GEO:42.3128824;-71.3948911
X-APPLE-STRUCTURED-LOCATION;VALUE=URI;X-ADDRESS=Lifetime Fitness Parking Lot 490 Old Connecticut Path Framingham Massachusetts 01701;X-APPLE-RADIUS=500;X-TITLE=490 Old Connecticut Path:geo:-71.3948911,42.3128824
END:VEVENT
BEGIN:VEVENT
DTSTART;TZID=America/New_York:20260106T130000
DTEND;TZID=America/New_York:20260106T143000
DTSTAMP:20260425T192358
CREATED:20260103T144318Z
LAST-MODIFIED:20260103T144324Z
UID:10003608-1767704400-1767709800@turnpurple2blue.org
SUMMARY:Annual January 6th Never Forget\, Never Back Down Rally
DESCRIPTION:It is almost impossible to believe that\, in the wake of the 5th anniversary of the January 6th\, 2021 Insurrection\, the Fellon/Rapist/Chronic\, Habitual Liar has another year to try and destroy democracy \n\n\n\nJoin those of us who are sane\, who remember the attack on our Capital Building and the attempted overturning of our Constitution to remind the MAGA Republicans that they do not leave the knowledge of their corruption behind as they try harder to destroy our democracy! \n\n\n\n\nRSVP for address\n\n\n\n\nIn 2026\, we held 11 Overpass Standouts and multiple Street-side protests. Our work is cut out for us in 2026. We are gathering on January 6th to remember the assault on our democracy 5 years ago and now daily with ICE raids. We want MAGA to know that we are fighting back. Whatever corruption and criminal activity they commit\, we are watching and will hold them accountable. Let them know”Cowards Wear Masks!” \n\n\n\nJanuary 6th is the first of many actions we will take to save our democracy. Please join us\, no matter the weather\, and remind MAGA that their actions will catch up with them. They will be punished for their rejection of the rule of law\, their rejection of our Constitution\, their brutalityin the name of the USA. \n\n\n\nDemocracy is stronger than greed! Let’s make a show of its strength on January 6th!
URL:https://turnpurple2blue.org/event/annual-january-6th-never-forget-never-back-down-rally/
LOCATION:Massachusetts
CATEGORIES:Protests
ATTACH;FMTTYPE=image/png:https://turnpurple2blue.org/wp-content/uploads/2025/03/rsvp-now.png
END:VEVENT
BEGIN:VEVENT
DTSTART;TZID=America/New_York:20260106T170000
DTEND;TZID=America/New_York:20260106T180000
DTSTAMP:20260425T192358
CREATED:20260106T211636Z
LAST-MODIFIED:20260106T211641Z
UID:10003877-1767718800-1767722400@turnpurple2blue.org
SUMMARY:1/6/2026 Candlelight Vigil for Peace
DESCRIPTION:Please join us for a candlelight vigil tomorrow evening\, Tuesday\, 1/6/2026 from 5:15pm-6pm on the steps of Gloucester City Hall to appeal for Peace. \n\n\n\n\nRSVP for updates\n\n\n\n\nA core principle behind all Indivisible events is a commitment to nonviolent action. We expect all participants to seek to de-escalate any potential confrontation with those who disagree with our values.
URL:https://turnpurple2blue.org/event/1-6-2026-candlelight-vigil-for-peace/
LOCATION:Gloucester\, Massachusetts\, 01930
CATEGORIES:Protests
ATTACH;FMTTYPE=image/png:https://turnpurple2blue.org/wp-content/uploads/2025/03/rsvp-now.png
END:VEVENT
END:VCALENDAR