BEGIN:VCALENDAR
VERSION:2.0
PRODID:-//Turn Purple 2 Blue - ECPv6.15.20//NONSGML v1.0//EN
CALSCALE:GREGORIAN
METHOD:PUBLISH
X-WR-CALNAME:Turn Purple 2 Blue
X-ORIGINAL-URL:https://turnpurple2blue.org
X-WR-CALDESC:Events for Turn Purple 2 Blue
REFRESH-INTERVAL;VALUE=DURATION:PT1H
X-Robots-Tag:noindex
X-PUBLISHED-TTL:PT1H
BEGIN:VTIMEZONE
TZID:America/New_York
BEGIN:DAYLIGHT
TZOFFSETFROM:-0500
TZOFFSETTO:-0400
TZNAME:EDT
DTSTART:20250309T070000
END:DAYLIGHT
BEGIN:STANDARD
TZOFFSETFROM:-0400
TZOFFSETTO:-0500
TZNAME:EST
DTSTART:20251102T060000
END:STANDARD
BEGIN:DAYLIGHT
TZOFFSETFROM:-0500
TZOFFSETTO:-0400
TZNAME:EDT
DTSTART:20260308T070000
END:DAYLIGHT
BEGIN:STANDARD
TZOFFSETFROM:-0400
TZOFFSETTO:-0500
TZNAME:EST
DTSTART:20261101T060000
END:STANDARD
BEGIN:DAYLIGHT
TZOFFSETFROM:-0500
TZOFFSETTO:-0400
TZNAME:EDT
DTSTART:20270314T070000
END:DAYLIGHT
BEGIN:STANDARD
TZOFFSETFROM:-0400
TZOFFSETTO:-0500
TZNAME:EST
DTSTART:20271107T060000
END:STANDARD
END:VTIMEZONE
BEGIN:VEVENT
DTSTART;TZID=America/New_York:20260109T083000
DTEND;TZID=America/New_York:20260109T100000
DTSTAMP:20260419T144744
CREATED:20251129T144028Z
LAST-MODIFIED:20251129T144037Z
UID:10003217-1767947400-1767952800@turnpurple2blue.org
SUMMARY:Bridge Visibility Action
DESCRIPTION:Swing Left JP will hold a Bridge Brigade Visibility every Friday morning on Lewis Terrace in Newtonville\, 8:30 – 10 AM. Join us. \n\n\n\n\nRSVP for updates
URL:https://turnpurple2blue.org/event/bridge-visibility-action/2026-01-09/
LOCATION:Lewis Terrace\, Newton\, Massachusetts\, 02458
CATEGORIES:Protests
ATTACH;FMTTYPE=image/png:https://turnpurple2blue.org/wp-content/uploads/2025/09/visiblity-brigade.png
END:VEVENT
BEGIN:VEVENT
DTSTART;TZID=America/New_York:20260109T133000
DTEND;TZID=America/New_York:20260109T150000
DTSTAMP:20260419T144744
CREATED:20251104T101229Z
LAST-MODIFIED:20260105T212910Z
UID:10003029-1767965400-1767970800@turnpurple2blue.org
SUMMARY:De-ICE Hanscom Friday Standouts
DESCRIPTION:This weekly afternoon standout is on Fridays from 1:30 to 3:00 at the Hanscom Rotary (intersection of Hanscom Dr. and Old Bedford Rd. in Lincoln\, MA.) Please park along Old Bedford Road or Hanscom Drive without impeding traffic or blocking bike lanes. \n\n\n\n\n\n\n\nDe-ICE Hanscom is a coalition organizing peaceful standouts with the goal of eliminating ICE transport flights from Hanscom Field. ICE is using these flights to swiftly move immigrants out of New England in order to hinder effective legal representation.  \n\n\n\n\n\n\n\nCoalition groups include Boston Workers Circle\, Concord Indivisible\, Greater Assabet Indivisible Network (GAIN)\, Indivisible Acton Area\, Jewish Alliance for Law & Social Action (JALSA)\, Lexington Alarm\, and Maynard Indivisible. \n\n\n\n\n\n\n\nSign up to get information and updates about our weekly standouts. We’ll keep you in the loop if we need to reschedule or cancel for weather or other considerations\, and apprise you of our goals and progress. \n\n\n\n\n\n\n\n\nSign Up to Get Updates
URL:https://turnpurple2blue.org/event/de-ice-hanscom-friday-standouts/2026-01-09/
LOCATION:Hanscom Rotary\, Intersection of Old Bedford Rd and Hanscom Dr\, Lincoln\, MA
CATEGORIES:Protests
ATTACH;FMTTYPE=image/jpeg:https://turnpurple2blue.org/wp-content/uploads/2025/11/De-Ice-Hanscom-Banner-Medium-Banner-US-Landscape.jpg
GEO:42.4561275;-71.2891917
X-APPLE-STRUCTURED-LOCATION;VALUE=URI;X-ADDRESS=Hanscom Rotary Intersection of Old Bedford Rd and Hanscom Dr Lincoln MA;X-APPLE-RADIUS=500;X-TITLE=Intersection of Old Bedford Rd and Hanscom Dr:geo:-71.2891917,42.4561275
END:VEVENT
BEGIN:VEVENT
DTSTART;TZID=America/New_York:20260109T170000
DTEND;TZID=America/New_York:20260109T180000
DTSTAMP:20260419T144744
CREATED:20260108T224324Z
LAST-MODIFIED:20260108T224427Z
UID:10003901-1767978000-1767981600@turnpurple2blue.org
SUMMARY:Candlelight Vigil for Renee Nicole Good
DESCRIPTION:The First Parish in Bedford Public Witness Team invites you to join us for a candlelight vigil on the Common to honor Renee Nicole Good on Friday night\, January 9\, from 5:00 – 6:00 PM. This event is in addition to the regularly scheduled action Saturday morning at 10:00 AM.  \n\n\n\n\nRSVP for updates\n\n\n\n\nCandles will be provided. Rev. Jamie will offer a prayer. Dress warm\, plan for rain\, and bring an umbrella. In addition to standing on the Common silently with candles\, the action will include a procession that will loop along the Great Road on both sides\, using the Walk Signal at the South Rd. intersection and the crosswalk at Elm St.
URL:https://turnpurple2blue.org/event/candlelight-vigil-for-renee-nicole-good/
LOCATION:Bedford Town Common\, 75 Great Rd\, Bedford\, MA\, 01730
CATEGORIES:Protests
ATTACH;FMTTYPE=image/png:https://turnpurple2blue.org/wp-content/uploads/2026/01/Renee-good.png
GEO:42.491285;-71.279863
X-APPLE-STRUCTURED-LOCATION;VALUE=URI;X-ADDRESS=Bedford Town Common 75 Great Rd Bedford MA 01730;X-APPLE-RADIUS=500;X-TITLE=75 Great Rd:geo:-71.279863,42.491285
END:VEVENT
END:VCALENDAR