BEGIN:VCALENDAR
VERSION:2.0
PRODID:-//Turn Purple 2 Blue - ECPv6.15.20//NONSGML v1.0//EN
CALSCALE:GREGORIAN
METHOD:PUBLISH
X-WR-CALNAME:Turn Purple 2 Blue
X-ORIGINAL-URL:https://turnpurple2blue.org
X-WR-CALDESC:Events for Turn Purple 2 Blue
REFRESH-INTERVAL;VALUE=DURATION:PT1H
X-Robots-Tag:noindex
X-PUBLISHED-TTL:PT1H
BEGIN:VTIMEZONE
TZID:America/New_York
BEGIN:DAYLIGHT
TZOFFSETFROM:-0500
TZOFFSETTO:-0400
TZNAME:EDT
DTSTART:20250309T070000
END:DAYLIGHT
BEGIN:STANDARD
TZOFFSETFROM:-0400
TZOFFSETTO:-0500
TZNAME:EST
DTSTART:20251102T060000
END:STANDARD
BEGIN:DAYLIGHT
TZOFFSETFROM:-0500
TZOFFSETTO:-0400
TZNAME:EDT
DTSTART:20260308T070000
END:DAYLIGHT
BEGIN:STANDARD
TZOFFSETFROM:-0400
TZOFFSETTO:-0500
TZNAME:EST
DTSTART:20261101T060000
END:STANDARD
BEGIN:DAYLIGHT
TZOFFSETFROM:-0500
TZOFFSETTO:-0400
TZNAME:EDT
DTSTART:20270314T070000
END:DAYLIGHT
BEGIN:STANDARD
TZOFFSETFROM:-0400
TZOFFSETTO:-0500
TZNAME:EST
DTSTART:20271107T060000
END:STANDARD
END:VTIMEZONE
BEGIN:VEVENT
DTSTART;TZID=America/New_York:20260314T100000
DTEND;TZID=America/New_York:20260314T113000
DTSTAMP:20260419T101817
CREATED:20260210T020928Z
LAST-MODIFIED:20260210T021421Z
UID:10004320-1773482400-1773487800@turnpurple2blue.org
SUMMARY:SECOND SATURDAYS Standout | Protest
DESCRIPTION:Join us as we gather in front of Fitchburg City Hall on the second Saturday of each month to support democracy and the rule of law – and to protest the policies of trump and this shambolic and cruel administration. Signs are welcome\, and there are always extra signs and flags to borrow. \n\n\n\n\n\n\n\nAmple parking is available at 166 Boulder Drive if you’re unable to find parking on Main Street. \n\n\n\n\n\n\n\nJoin our Facebook page (Indivisible Fitchburg MA) or our website (https://indivisiblefitchburgma.org) for updates and info on pop-up protests!  \n\n\n\n\n\n\n\nSee Facebook event here: https://fb.me/e/3IH2tXOjM \n\n\n\n\n\n\n\nThis Indivisible event takes place in the sun\, rain\, or snow! \n\n\n\n\n\n\n\nPlease email cindy@indivisiblefitchburgma.org with any questions. Hope to see you soon! \n\n\n\n\n\n\n\n\nRegister for Updates\n\n\n\n\n\n\n\n\nA core principle behind all Indivisible events is a commitment to nonviolent action. We expect all participants to seek to de-escalate any potential confrontation with those who disagree with our values.
URL:https://turnpurple2blue.org/event/second-saturdays-standout-protest/
LOCATION:Fitchburg City Hall\, 718 Main St\, Fitchburg\, MA\, 01420
CATEGORIES:Protests
ATTACH;FMTTYPE=image/png:https://turnpurple2blue.org/wp-content/uploads/2025/09/Indivisible-RSVP.png
GEO:42.5839558;-71.8037785
X-APPLE-STRUCTURED-LOCATION;VALUE=URI;X-ADDRESS=Fitchburg City Hall 718 Main St Fitchburg MA 01420;X-APPLE-RADIUS=500;X-TITLE=718 Main St:geo:-71.8037785,42.5839558
END:VEVENT
BEGIN:VEVENT
DTSTART;TZID=America/New_York:20260314T100000
DTEND;TZID=America/New_York:20260314T113000
DTSTAMP:20260419T101817
CREATED:20260310T201541Z
LAST-MODIFIED:20260310T201546Z
UID:10004640-1773482400-1773487800@turnpurple2blue.org
SUMMARY:Spring into Action | Protest Event in Watertown
DESCRIPTION:SPRING INTO ACTION\, ICE Out of Watertown \n\n\n\n\n\n\n\nStandout Against ICE beginning at 10 Closing Circle at 11:15 \n\n\n\n\n\n\n\nWear Green for Spring\, Bring a Sign\, Bring a Friend \n\n\n\n\n\n\n\n\nRSVP For Updates\n\n\n\n\n\n\n\n\nA core principle behind all Indivisible events is a commitment to nonviolent action. We expect all participants to seek to de-escalate any potential confrontation with those who disagree with our values.
URL:https://turnpurple2blue.org/event/spring-into-action-protest-event-in-watertown/
LOCATION:Watertown Square\, Main Street at Galen\, Watertown\, Massachusetts\, 02472\, United States
CATEGORIES:Protests
ATTACH;FMTTYPE=image/png:https://turnpurple2blue.org/wp-content/uploads/2025/03/rsvp-now.png
END:VEVENT
BEGIN:VEVENT
DTSTART;TZID=America/New_York:20260314T110000
DTEND;TZID=America/New_York:20260314T113000
DTSTAMP:20260419T101817
CREATED:20260206T131139Z
LAST-MODIFIED:20260206T131253Z
UID:10004299-1773486000-1773487800@turnpurple2blue.org
SUMMARY:ICE OUT FOR GOOD and ALEX | Multiple Locations\, Cape Ann\, MA
DESCRIPTION:Wednesday\, January 7th\, an American citizen was killed by Immigration and Customs Enforcement (ICE) in Minneapolis\, Minnesota. This killing is part of a broader pattern of unchecked violence\, impunity\, and abuse carried out by federal immigration enforcement agencies against members of our communities.  \n\n\n\n\n\n\n\nA broad coalition of groups across the country is calling for a coordinated Ice Out For Good actions in solidarity for Minnesota\, and to demand accountability\, honor the life lost\, and make visible the human cost of ICE’s actions. \n\n\n\n\n\n\n\n\nRegister for Details/Updates\n\n\n\n\n\n\n\n\nA core principle behind all ICE Out For Good events is a commitment to nonviolent action and no civil disobedience. We expect all participants to seek to de-escalate any potential confrontation with those who disagree with our values\, and to act lawfully at these events. Weapons of any kind\, including those legally permitted\, should not be brought to events. All events should be held in public spaces or on public property. Indivisible is managing data and communications with participants. By registering\, you agree to receive info from Indivisible about the event\, receive communications via e-mail or SMS message from Indivisible\, and receive any other updates and opportunities to take action or support ICE OUT FOR GOOD partner organizations. You also agree to have any data entered in this registration collected by Indivisible. Indivisible will treat your data according to our organization’s applicable privacy policy: https://indivisible.org/privacy-policy
URL:https://turnpurple2blue.org/event/ice-out-for-good-and-alex-multiple-locations-cape-ann-ma/2026-03-14/
LOCATION:Dock Square\, Willow Rest\, Plum Cove Beach\, Dock Square\, Willow Rest\, Plum Cove Beach\, Gloucester\, Massachusetts\, 01930\, United States
CATEGORIES:Protests
ATTACH;FMTTYPE=image/png:https://turnpurple2blue.org/wp-content/uploads/2025/09/Indivisible-RSVP.png
END:VEVENT
BEGIN:VEVENT
DTSTART;TZID=America/New_York:20260314T110000
DTEND;TZID=America/New_York:20260314T120000
DTSTAMP:20260419T101817
CREATED:20260130T214044Z
LAST-MODIFIED:20260130T214050Z
UID:10004071-1773486000-1773489600@turnpurple2blue.org
SUMMARY:Weekly Standout
DESCRIPTION:This a local Indivisible event! Indivisible North Quabbin hosts a weekly Stand Out. This happens every Saturday with neighbors coming together to stand up for democracy and non-violent action. \n\n\n\n\nRSVP for updates\n\n\n\n\nA core principle behind all Indivisible events is a commitment to nonviolent action. We expect all participants to seek to de-escalate any potential confrontation with those who disagree with our values.
URL:https://turnpurple2blue.org/event/weekly-standout/2026-03-14/
LOCATION:Memorial Park\, So. Main St and Water St.\, Orange\, Massachusetts\, 01364
CATEGORIES:Protests
ATTACH;FMTTYPE=image/png:https://turnpurple2blue.org/wp-content/uploads/2025/03/rsvp-now.png
GEO:42.5894308;-72.3095743
X-APPLE-STRUCTURED-LOCATION;VALUE=URI;X-ADDRESS=Memorial Park So. Main St and Water St. Orange Massachusetts 01364;X-APPLE-RADIUS=500;X-TITLE=So. Main St and Water St.:geo:-72.3095743,42.5894308
END:VEVENT
BEGIN:VEVENT
DTSTART;TZID=America/New_York:20260314T110000
DTEND;TZID=America/New_York:20260314T120000
DTSTAMP:20260419T101817
CREATED:20260204T212509Z
LAST-MODIFIED:20260204T212514Z
UID:10004209-1773486000-1773489600@turnpurple2blue.org
SUMMARY:Malden Democrats Stand Out for Democracy
DESCRIPTION:The Malden Democratic City Committee hosts a weekly pro-democracy stand out every Saturday. \n\n\n\nAll are welcome. \n\n\n\nPlease bring your own sign or an American flag. \n\n\n\nThis is a family friendly event. \n\n\n\n\nRSVP for Exact Address\n\n\n\n\nParking is available on surrounding side streets as well as at the nearby hockey rink as long as there isn’t a game being held.
URL:https://turnpurple2blue.org/event/malden-democrats-stand-out-for-democracy/2026-03-14/
LOCATION:Malden-Private Address\, Malden\, Massachusetts
CATEGORIES:Protests
ATTACH;FMTTYPE=image/png:https://turnpurple2blue.org/wp-content/uploads/2026/02/malden.png
END:VEVENT
BEGIN:VEVENT
DTSTART;TZID=America/New_York:20260314T110000
DTEND;TZID=America/New_York:20260314T120000
DTSTAMP:20260419T101817
CREATED:20260212T214008Z
LAST-MODIFIED:20260212T214014Z
UID:10004345-1773486000-1773489600@turnpurple2blue.org
SUMMARY:Democracy Standout
DESCRIPTION:Join Indivisible Waltham for bi-monthly standouts on the 2nd and 4th Saturdays of the Month. (Except this month: Feb 16 instead of Feb 14) Rally themes relate to preserving our democracy\, rejecting authoritarianism\, calling for accountability from our elected officials\, and an end to the lawlessness of the Trump administration\, in particular an end to ICE\, which has become a lawless paramilitary that is being used to wage economic\, psychological\, and physical war against communities in “blue states” and “blue cities” that Trump wants to punish or attempt to extort.
URL:https://turnpurple2blue.org/event/democracy-standout/2026-03-14/
LOCATION:Near Waltham Common\, Main and Moody Streets\, Waltham\, Massachusetts\, 02451
CATEGORIES:Protests
ATTACH;FMTTYPE=image/png:https://turnpurple2blue.org/wp-content/uploads/2026/02/Indivisible-waltham.png
END:VEVENT
BEGIN:VEVENT
DTSTART;TZID=America/New_York:20260314T110000
DTEND;TZID=America/New_York:20260314T120000
DTSTAMP:20260419T101817
CREATED:20260306T165515Z
LAST-MODIFIED:20260404T141523Z
UID:10004571-1773486000-1773489600@turnpurple2blue.org
SUMMARY:de-ICE Citizens Bank Standout
DESCRIPTION:Join us for a peaceful standout each Wednesday and Saturday calling on Citizens Bank to stop financing private prison corporations that build and operate ICE detention centers\, where immigrants are held in abusive and inhumane conditions. \n\n\n\n\nSign up for Updates\n\n\n\n\nWe will have leaflets to share with customers and passersby. Participants are encouraged to bring signs demanding that Citizens Bank stop funding ICE prisons. \n\n\n\nThis is an easy\, accessible action—come and help build community pressure Citizens for change.
URL:https://turnpurple2blue.org/event/de-ice-citizens-bank-standout-2/2026-03-14/
LOCATION:Citizens Bank\, 315 Harvard St\, Brookline\, Massachusetts\, 02446
CATEGORIES:Protests
ATTACH;FMTTYPE=image/png:https://turnpurple2blue.org/wp-content/uploads/2026/02/De-Ice-Citizens-Bank.png
END:VEVENT
BEGIN:VEVENT
DTSTART;TZID=America/New_York:20260314T110000
DTEND;TZID=America/New_York:20260314T130000
DTSTAMP:20260419T101817
CREATED:20260216T212553Z
LAST-MODIFIED:20260216T212600Z
UID:10004408-1773486000-1773493200@turnpurple2blue.org
SUMMARY:No Fear with Street Theater Group
DESCRIPTION:A new protest group named “No Fear Street Theater” will be hosting ICE protests near the Burlington ICE Office on Saturdays! Everyone is welcome!  More info here
URL:https://turnpurple2blue.org/event/no-fear-with-street-theater-group-4/2026-03-14/
LOCATION:Burlington Mall Rd and District Ave\, Burlington Mall Rd and District Ave\, Burlington\, Massachusetts\, 01813
CATEGORIES:Protests
ATTACH;FMTTYPE=image/png:https://turnpurple2blue.org/wp-content/uploads/2025/06/ice-melts-under-resistance.png
GEO:42.4858849;-71.211809
X-APPLE-STRUCTURED-LOCATION;VALUE=URI;X-ADDRESS=Burlington Mall Rd and District Ave Burlington Mall Rd and District Ave Burlington Massachusetts 01813;X-APPLE-RADIUS=500;X-TITLE=Burlington Mall Rd and District Ave:geo:-71.211809,42.4858849
END:VEVENT
BEGIN:VEVENT
DTSTART;TZID=America/New_York:20260314T120000
DTEND;TZID=America/New_York:20260314T130000
DTSTAMP:20260419T101817
CREATED:20260204T165739Z
LAST-MODIFIED:20260204T165746Z
UID:10004201-1773489600-1773493200@turnpurple2blue.org
SUMMARY:Honk & Wave Standout for Democracy
DESCRIPTION:Grab your sign and a friend or two\, and come on down to Riley Plaza each Saturday for our Weekly Standout Rallies. Signs provided if you need one. Come join us as we protest the atrocities of current administration\, and build community together to work for a positive Democratic future. \n\n\n\nCheck us out at salem’scall.com for up-to-date listings of our calendar of events and actions. We hope to see you soon! \n\n\n\nThis a local Indivisible event! \n\n\n\n\nRSVP for updates\n\n\n\n\nA core principle behind all Indivisible events is a commitment to nonviolent action. We expect all participants to seek to de-escalate any potential confrontation with those who disagree with our values.
URL:https://turnpurple2blue.org/event/honk-wave-standout-for-democracy/2026-03-14/
LOCATION:Riley Plaza\, 1-21 Margin St\, Salem\, MA\, 01970
CATEGORIES:Protests
ATTACH;FMTTYPE=image/png:https://turnpurple2blue.org/wp-content/uploads/2025/03/rsvp-now.png
GEO:42.5159039;-70.8974288
X-APPLE-STRUCTURED-LOCATION;VALUE=URI;X-ADDRESS=Riley Plaza 1-21 Margin St Salem MA 01970;X-APPLE-RADIUS=500;X-TITLE=1-21 Margin St:geo:-70.8974288,42.5159039
END:VEVENT
BEGIN:VEVENT
DTSTART;TZID=America/New_York:20260314T123000
DTEND;TZID=America/New_York:20260314T133000
DTSTAMP:20260419T101817
CREATED:20260101T201357Z
LAST-MODIFIED:20260101T201404Z
UID:10003536-1773491400-1773495000@turnpurple2blue.org
SUMMARY:Billerica Common Coalition
DESCRIPTION:Every Saturday 12:30-1:30 a dedicated group of Democracy Defenders join together on Billerica Common to stand out with messages of defiance and hope. We are fueled by resistance! We typically have a central message that changes each week. \n\n\n\n\nRSVP for updates\n\n\n\n\nA core principle behind all Indivisible events is a commitment to nonviolent action. We expect all participants to seek to de-escalate any potential confrontation with those who disagree with our values.
URL:https://turnpurple2blue.org/event/billerica-common-coalition/2026-03-14/
LOCATION:Billerica Town Center\, 15 Concord Road\, Billerica\, Massachusetts\, 01821
CATEGORIES:Protests
ATTACH;FMTTYPE=image/png:https://turnpurple2blue.org/wp-content/uploads/2026/01/Refuse-fascism.png
END:VEVENT
BEGIN:VEVENT
DTSTART;TZID=America/New_York:20260314T130000
DTEND;TZID=America/New_York:20260314T140000
DTSTAMP:20260419T101817
CREATED:20260203T203524Z
LAST-MODIFIED:20260203T204305Z
UID:10004175-1773493200-1773496800@turnpurple2blue.org
SUMMARY:Brookline Rally for Democracy\, March 2026
DESCRIPTION:Brookline Rally for Democracy: Every Saturday at 1:00 PM | Coolidge Corner \n\n\n\n\n\n\n\nJoin members of three Brookline pro-democracy groups — indivisible Activist Evenings\, Brookline Pax\, and Speak Out\, Seniors! — for our weekly rally at Coolidge Corner. \n\n\n\n\n\n\n\nWe gather to raise our voices and our signs in defense of democracy\, justice\, and decency — and to stand united against the abuses of the Trump administration and the forces that threaten our rights and freedoms. \n\n\n\n\n\n\n\nWe stand for: \n\n\n\n• Immigrant rights\, human rights\, and racial justice \n\n\n\n• Free speech\, the Constitution\, and the rule of law \n\n\n\n• Access to health and healthcare for all \n\n\n\n• Protection of our planet and the future we leave to the next generation \n\n\n\n\n\n\n\nWe choose empathy over cruelty\, peace over violence\, and hope over fear. \n\n\n\n\n\n\n\nOur rallies are peaceful\, spirited\, and uplifting — a chance to connect\, recharge\, and stand up for what matters. Bring your friends\, your voice\, and your sign (or borrow one of ours!). \n\n\n\n\n\n\n\nAll are welcome!  The rally is multi-generational and family-friendly; those using walkers or other mobility devices may use them to sit to participate. \n\n\n\n\n\n\n\nIn the event of inclement weather\, we’ll each use our best judgment about whether to attend. We hope you’ll do the same!  \n\n\n\n\n\n\n\nPlease join us\, one rally at a time.  We’ll continue for as long as it takes. \n\n\n\n\n\n\n\n\nRSVP for Updates
URL:https://turnpurple2blue.org/event/brookline-rally-for-democracy-march-2026/2026-03-14/
LOCATION:Coolidge Corner\, Beacon Street & Harvard Street\, Brookline\, Massachusetts\, 02446\, United States
CATEGORIES:Protests
ATTACH;FMTTYPE=image/avif:https://turnpurple2blue.org/wp-content/uploads/2026/02/IMG_6117_20251028235144028225.png.avif
END:VEVENT
END:VCALENDAR