BEGIN:VCALENDAR
VERSION:2.0
PRODID:-//Turn Purple 2 Blue - ECPv6.15.20//NONSGML v1.0//EN
CALSCALE:GREGORIAN
METHOD:PUBLISH
X-WR-CALNAME:Turn Purple 2 Blue
X-ORIGINAL-URL:https://turnpurple2blue.org
X-WR-CALDESC:Events for Turn Purple 2 Blue
REFRESH-INTERVAL;VALUE=DURATION:PT1H
X-Robots-Tag:noindex
X-PUBLISHED-TTL:PT1H
BEGIN:VTIMEZONE
TZID:America/New_York
BEGIN:DAYLIGHT
TZOFFSETFROM:-0500
TZOFFSETTO:-0400
TZNAME:EDT
DTSTART:20250309T070000
END:DAYLIGHT
BEGIN:STANDARD
TZOFFSETFROM:-0400
TZOFFSETTO:-0500
TZNAME:EST
DTSTART:20251102T060000
END:STANDARD
BEGIN:DAYLIGHT
TZOFFSETFROM:-0500
TZOFFSETTO:-0400
TZNAME:EDT
DTSTART:20260308T070000
END:DAYLIGHT
BEGIN:STANDARD
TZOFFSETFROM:-0400
TZOFFSETTO:-0500
TZNAME:EST
DTSTART:20261101T060000
END:STANDARD
BEGIN:DAYLIGHT
TZOFFSETFROM:-0500
TZOFFSETTO:-0400
TZNAME:EDT
DTSTART:20270314T070000
END:DAYLIGHT
BEGIN:STANDARD
TZOFFSETFROM:-0400
TZOFFSETTO:-0500
TZNAME:EST
DTSTART:20271107T060000
END:STANDARD
END:VTIMEZONE
BEGIN:VEVENT
DTSTART;TZID=America/New_York:20260425T110000
DTEND;TZID=America/New_York:20260425T120000
DTSTAMP:20260420T173748
CREATED:20260204T212509Z
LAST-MODIFIED:20260204T212514Z
UID:10004215-1777114800-1777118400@turnpurple2blue.org
SUMMARY:Malden Democrats Stand Out for Democracy
DESCRIPTION:The Malden Democratic City Committee hosts a weekly pro-democracy stand out every Saturday. \n\n\n\nAll are welcome. \n\n\n\nPlease bring your own sign or an American flag. \n\n\n\nThis is a family friendly event. \n\n\n\n\nRSVP for Exact Address\n\n\n\n\nParking is available on surrounding side streets as well as at the nearby hockey rink as long as there isn’t a game being held.
URL:https://turnpurple2blue.org/event/malden-democrats-stand-out-for-democracy/2026-04-25/
LOCATION:Malden-Private Address\, Malden\, Massachusetts
CATEGORIES:Protests
ATTACH;FMTTYPE=image/png:https://turnpurple2blue.org/wp-content/uploads/2026/02/malden.png
END:VEVENT
BEGIN:VEVENT
DTSTART;TZID=America/New_York:20260425T110000
DTEND;TZID=America/New_York:20260425T120000
DTSTAMP:20260420T173748
CREATED:20260323T211412Z
LAST-MODIFIED:20260331T192056Z
UID:10004772-1777114800-1777118400@turnpurple2blue.org
SUMMARY:Democracy Standout
DESCRIPTION:Join Indivisible Waltham for bi-monthly standouts on the 2nd and 4th Saturdays of the Month.  Rally themes relate to preserving our democracy\, rejecting authoritarianism\, calling for accountability from our elected officials\, and an end to the lawlessness of the Trump administration\, in particular an end to ICE\, which has become a lawless paramilitary that is being used to wage economic\, psychological\, and physical war against communities in “blue states” and “blue cities” that Trump wants to punish or attempt to extort.
URL:https://turnpurple2blue.org/event/democracy-standout-2/2026-04-25/
LOCATION:Near Waltham Common\, Main and Moody Streets\, Waltham\, Massachusetts\, 02451
CATEGORIES:Protests
ATTACH;FMTTYPE=image/png:https://turnpurple2blue.org/wp-content/uploads/2026/02/Indivisible-waltham.png
END:VEVENT
BEGIN:VEVENT
DTSTART;TZID=America/New_York:20260425T110000
DTEND;TZID=America/New_York:20260425T120000
DTSTAMP:20260420T173748
CREATED:20260404T140822Z
LAST-MODIFIED:20260404T141128Z
UID:10004678-1777114800-1777118400@turnpurple2blue.org
SUMMARY:Stop Citizens Bank From Financing Private ICE Prisons
DESCRIPTION:Join Mystic Mashup at local Citizen Bank branches to send Citizens Bank a clear message: financing private prison and immigration detention facility operators The GEO Group and CoreCivic is bad for business. \n\n\n\nWe’ll stand out on the public sidewalk in front of Citizens Banks in Medford Square and Davis Square on Saturdays from 11-12. (We’ll take a break on 3/28 so that we can attend No Kings III.) \n\n\n\nPlease only bring signs specific to this action: Cages  Aren’t Communities; Citizens Bank – Stop Financing ICE gulags; Citizens Bank + ICE = Human Rights Abuse; ICE Prisons Don’t Strengthen Our Communities; Citizens Bank- Cut Ties With ICE Gulags; etc. We’ll have some extra signs\, too. \n\n\n\nLearn more at https://www.boycottcitizens.org/ \n\n\n\nA core principle behind all of these events is a commitment to nonviolent action. We expect all participants to seek to de-escalate any potential confrontation with those who disagree with our values and to act lawfully at these events. Weapons of any kind\, including those legally permitted\, should not be brought to events. Please do not block business entrances or traffic.
URL:https://turnpurple2blue.org/event/stop-citizens-bank-from-financing-private-ice-prisons-3/2026-04-25/
LOCATION:Citizens Bank- Medford Square\, 1 Riverside Ave\, Medford\, Massachusetts\, 02155
CATEGORIES:Protests
ATTACH;FMTTYPE=image/png:https://turnpurple2blue.org/wp-content/uploads/2026/03/citizens-bank-funds-ice-prison.png
END:VEVENT
BEGIN:VEVENT
DTSTART;TZID=America/New_York:20260425T110000
DTEND;TZID=America/New_York:20260425T120000
DTSTAMP:20260420T173748
CREATED:20260404T140934Z
LAST-MODIFIED:20260404T140939Z
UID:10004669-1777114800-1777118400@turnpurple2blue.org
SUMMARY:Stop Citizens Bank From Financing Private ICE Prisons
DESCRIPTION:Join Mystic Mashup at local Citizen Bank branches to send Citizens Bank a clear message: financing private prison and immigration detention facility operators The GEO Group and CoreCivic is bad for business. \n\n\n\nWe’ll stand out on the public sidewalk in front of Citizens Banks in Medford Square and Davis Square on Saturdays from 11-12. (We’ll take a break on 3/28 so that we can attend No Kings III.) \n\n\n\nPlease only bring signs specific to this action: Cages  Aren’t Communities; Citizens Bank – Stop Financing ICE gulags; Citizens Bank + ICE = Human Rights Abuse; ICE Prisons Don’t Strengthen Our Communities; Citizens Bank- Cut Ties With ICE Gulags; etc. We’ll have some extra signs\, too. \n\n\n\nLearn more at https://www.boycottcitizens.org/ \n\n\n\nA core principle behind all of these events is a commitment to nonviolent action. We expect all participants to seek to de-escalate any potential confrontation with those who disagree with our values and to act lawfully at these events. Weapons of any kind\, including those legally permitted\, should not be brought to events. Please do not block business entrances or traffic.
URL:https://turnpurple2blue.org/event/stop-citizens-bank-from-financing-private-ice-prisons-4/2026-04-25/
LOCATION:Citizen’s Bank – Davis Square\, 212 Elm Street\, Sommerville\, Massachusetts\, 02144
CATEGORIES:Protests
ATTACH;FMTTYPE=image/png:https://turnpurple2blue.org/wp-content/uploads/2026/03/citizens-bank-funds-ice-prison.png
END:VEVENT
BEGIN:VEVENT
DTSTART;TZID=America/New_York:20260425T110000
DTEND;TZID=America/New_York:20260425T120000
DTSTAMP:20260420T173748
CREATED:20260408T135416Z
LAST-MODIFIED:20260408T135421Z
UID:10004886-1777114800-1777118400@turnpurple2blue.org
SUMMARY:De-ICE Citizens - Littleton
DESCRIPTION:Show up at Citizens Bank to expose their customers and shareholders to the bank’s immoral financing of for-profit ICE detention center companies. \n\n\n\n\nRSVP for updates\n\n\n\n\nJoin the growing movement to influence the bank’s management to choose morality over money\, just as past movements successfully forced other banks to stop financing private prison companies. \n\n\n\nLearn more at www.indivisiblelittletonmass.com. \n\n\n\nA core principle behind all Indivisible events is a commitment to nonviolent action. We expect all participants to seek to de-escalate any potential confrontation with those who disagree with our values. If you are hosting your own event\, we expect hosts to ensure all participants in your event uphold this commitment. We recommend all participants review our safety and security resource before your event: https://indivisi.org/safety
URL:https://turnpurple2blue.org/event/de-ice-citizens-littleton/
LOCATION:Citizens Bank-Littleton\, 272 Great Road\, Littleton\, Massachusetts\, 01460
CATEGORIES:Protests
ATTACH;FMTTYPE=image/png:https://turnpurple2blue.org/wp-content/uploads/2025/12/boycott-citizens.png
END:VEVENT
BEGIN:VEVENT
DTSTART;TZID=America/New_York:20260425T110000
DTEND;TZID=America/New_York:20260425T120000
DTSTAMP:20260420T173748
CREATED:20260419T214329Z
LAST-MODIFIED:20260420T160127Z
UID:10004991-1777114800-1777118400@turnpurple2blue.org
SUMMARY:Communities Not Cages: National Day of Action to Stop ICE Warehouse Detention -- Roslindale
DESCRIPTION:Join us outside as part of a nationwide day of action to oppose the Trump administration’s expansion of ICE warehouse detention and its attack on the due process rights of immigrants and all Americans. \n\n\n\nThe Department of Homeland Security is moving to lock thousands of people in massive detention warehouses — disappearing them from their families\, their lawyers\, and their communities. We’re taking to the streets to make clear that stands for dignity\, justice\, and the rule of law. \n\n\n\n\nRSVP for updates\n\n\n\n\nWe’ll gather to: \n\n\n\n\nShow visible\, public opposition to ICE detention expansion and the criminalization of immigration\n\n\n\nShow visible\, public opposition to corporations that enable and profit from ICE prisons\, including Citizens Bank\n\n\n\nStand in solidarity with detained immigrants and the communities fighting to protect them\n\n\n\nDemand that our elected officials defend due process for everyone\n\n\n\n\nBring a sign. Bring your neighbors. Bring your voice. \n\n\n\nThis action is part of the Communities Not Cages National Day of Action organized by the Disappeared In America campaign and partners including Detention Watch Network\, Indivisible\, Public Citizen\, The Workers Circle\, MoveOn and many others. \n\n\n\nA core principle behind all Disappeared In America events is a commitment to nonviolent action. We expect all participants to seek to de-escalate any potential confrontation with those who disagree with our values and to act lawfully at these events. Weapons of any kind\, including those legally permitted\, should not be brought to events.
URL:https://turnpurple2blue.org/event/communities-not-cages-national-day-of-action-to-stop-ice-warehouse-detention-roslindale/
LOCATION:Citizens Bank – Boston\, 777 South St\, Boston\, Massachusetts\, 02131
CATEGORIES:Protests
ATTACH;FMTTYPE=image/png:https://turnpurple2blue.org/wp-content/uploads/2026/04/citizens-bank-national-day-of-action.png
END:VEVENT
BEGIN:VEVENT
DTSTART;TZID=America/New_York:20260425T110000
DTEND;TZID=America/New_York:20260425T120000
DTSTAMP:20260420T173748
CREATED:20260420T135622Z
LAST-MODIFIED:20260420T135628Z
UID:10004577-1777114800-1777118400@turnpurple2blue.org
SUMMARY:de-ICE Citizens Bank Standout
DESCRIPTION:Join us for a peaceful standout each Wednesday and Saturday calling on Citizens Bank to stop financing private prison corporations that build and operate ICE detention centers\, where immigrants are held in abusive and inhumane conditions. \n\n\n\n\nSign up for Updates\n\n\n\n\nWe will have leaflets to share with customers and passersby. Participants are encouraged to bring signs demanding that Citizens Bank stop funding ICE prisons. \n\n\n\nThis is an easy\, accessible action—come and help build community pressure Citizens for change.
URL:https://turnpurple2blue.org/event/de-ice-citizens-bank-standout-5/
LOCATION:Citizens Bank\, 315 Harvard St\, Brookline\, Massachusetts\, 02446
CATEGORIES:Protests
ATTACH;FMTTYPE=image/png:https://turnpurple2blue.org/wp-content/uploads/2026/04/citizens-bank-national-day-of-action.png
END:VEVENT
BEGIN:VEVENT
DTSTART;TZID=America/New_York:20260425T110000
DTEND;TZID=America/New_York:20260425T130000
DTSTAMP:20260420T173748
CREATED:20260216T212553Z
LAST-MODIFIED:20260216T212600Z
UID:10004414-1777114800-1777122000@turnpurple2blue.org
SUMMARY:No Fear with Street Theater Group
DESCRIPTION:A new protest group named “No Fear Street Theater” will be hosting ICE protests near the Burlington ICE Office on Saturdays! Everyone is welcome!  More info here
URL:https://turnpurple2blue.org/event/no-fear-with-street-theater-group-4/2026-04-25/
LOCATION:Burlington Mall Rd and District Ave\, Burlington Mall Rd and District Ave\, Burlington\, Massachusetts\, 01813
CATEGORIES:Protests
ATTACH;FMTTYPE=image/png:https://turnpurple2blue.org/wp-content/uploads/2025/06/ice-melts-under-resistance.png
GEO:42.4858849;-71.211809
X-APPLE-STRUCTURED-LOCATION;VALUE=URI;X-ADDRESS=Burlington Mall Rd and District Ave Burlington Mall Rd and District Ave Burlington Massachusetts 01813;X-APPLE-RADIUS=500;X-TITLE=Burlington Mall Rd and District Ave:geo:-71.211809,42.4858849
END:VEVENT
BEGIN:VEVENT
DTSTART;TZID=America/New_York:20260425T120000
DTEND;TZID=America/New_York:20260425T130000
DTSTAMP:20260420T173748
CREATED:20260403T151339Z
LAST-MODIFIED:20260403T152830Z
UID:10004825-1777118400-1777122000@turnpurple2blue.org
SUMMARY:Defend Democray Danvers | Protest Event in Peabody
DESCRIPTION:This is a weekly visibility event inviting everyone from the Danvers/Peabody and other Northshore Communities to come together and stand against the injustices of the Trump administration. We gather every Saturday from noon to 1 pm on the Danvers Rail Trail overpass bridge on Rte 114. \n\n\n\n\n\n\n\n\nRSVP for Updates\n\n\n\n\n\n\n\n\nA core principle behind all Indivisible events is a commitment to nonviolent action. We expect all participants to seek to de-escalate any potential confrontation with those who disagree with our values.
URL:https://turnpurple2blue.org/event/defend-democray-danvers-protest-event-in-peabody/2026-04-25/
LOCATION:Andover St Rail Trail Overpass\, 100 Brooksby Village Dr\, Peabody\, Massachusetts\, 01960\, United States
CATEGORIES:Protests
ATTACH;FMTTYPE=image/png:https://turnpurple2blue.org/wp-content/uploads/2025/03/rsvp-now.png
END:VEVENT
BEGIN:VEVENT
DTSTART;TZID=America/New_York:20260425T120000
DTEND;TZID=America/New_York:20260425T133000
DTSTAMP:20260420T173748
CREATED:20260419T214823Z
LAST-MODIFIED:20260420T160113Z
UID:10004992-1777118400-1777123800@turnpurple2blue.org
SUMMARY:Communities Not Cages: National Day of Action to Stop ICE Warehouse Detention -- Burlington
DESCRIPTION:Join local Singing Resistance leaders to sing songs of resistance and change at the Burlington ICE Facility as part of a nationwide day of action to oppose the Trump administration’s expansion of ICE warehouse detention and its attack on the due process rights of immigrants and all Americans. \n\n\n\n\nRSVP for updates\n\n\n\n\nThe Department of Homeland Security is moving to lock thousands of people in massive detention warehouses — disappearing them from their families\, their lawyers\, and their communities. We’re taking to the streets to make clear that stands for dignity\, justice\, and the rule of law. \n\n\n\nWe’ll gather to: \n\n\n\n\nShow visible\, public opposition to ICE detention expansion and the criminalization of immigration\n\n\n\nStand in solidarity with detained immigrants and the communities fighting to protect them\n\n\n\nDemand that our elected officials defend due process for everyone\n\n\n\n\nBring a sign. Bring your neighbors. Bring your voice. \n\n\n\nThis action is part of the Communities Not Cages National Day of Action organized by the Disappeared In America campaign and partners including Detention Watch Network\, Indivisible\, Public Citizen\, The Workers Circle\, MoveOn and many others. \n\n\n\nA core principle behind all Disappeared In America events is a commitment to nonviolent action. We expect all participants to seek to de-escalate any potential confrontation with those who disagree with our values and to act lawfully at these events. This facility has a dedicated group of pro-ICE activists and the best reaction to them is no reaction\, ignoring them completely. Weapons of any kind\, including those legally permitted\, should not be brought to events.
URL:https://turnpurple2blue.org/event/communities-not-cages-national-day-of-action-to-stop-ice-warehouse-detention-burlington/
LOCATION:Burlington ICE Enforcement & Removal Operations Office\, 1000 District Avenue\, Burlington\, MA\, 01803
CATEGORIES:Protests
ATTACH;FMTTYPE=image/png:https://turnpurple2blue.org/wp-content/uploads/2026/04/april-25.png
GEO:42.4825992;-71.2088135
X-APPLE-STRUCTURED-LOCATION;VALUE=URI;X-ADDRESS=Burlington ICE Enforcement & Removal Operations Office 1000 District Avenue Burlington MA 01803;X-APPLE-RADIUS=500;X-TITLE=1000 District Avenue:geo:-71.2088135,42.4825992
END:VEVENT
BEGIN:VEVENT
DTSTART;TZID=America/New_York:20260425T130000
DTEND;TZID=America/New_York:20260425T140000
DTSTAMP:20260420T173748
CREATED:20260203T215630Z
LAST-MODIFIED:20260203T215635Z
UID:10004195-1777122000-1777125600@turnpurple2blue.org
SUMMARY:Brookline Rally for Democracy\, April 2026
DESCRIPTION:Join members of three Brookline pro-democracy groups — indivisible Activist Evenings\, Brookline Pax\, and Speak Out\, Seniors! — for our weekly rally at Coolidge Corner at 1:00 PM. \n\n\n\n\n\n\n\nWe gather to raise our voices and our signs in defense of democracy\, justice\, and decency — and to stand united against the abuses of the Trump administration and the forces that threaten our rights and freedoms. \n\n\n\n\n\n\n\nWe stand for: \n\n\n\n• Immigrant rights\, human rights\, and racial justice \n\n\n\n• Free speech\, the Constitution\, and the rule of law \n\n\n\n• Access to health and healthcare for all \n\n\n\n• Protection of our planet and the future we leave to the next generation \n\n\n\n\n\n\n\nWe choose empathy over cruelty\, peace over violence\, and hope over fear. \n\n\n\n\n\n\n\nOur rallies are peaceful\, spirited\, and uplifting — a chance to connect\, recharge\, and stand up for what matters. Bring your friends\, your voice\, and your sign (or borrow one of ours!). \n\n\n\n\n\n\n\nAll are welcome!  The rally is multi-generational and family-friendly; those using walkers or other mobility devices may use them to sit to participate. \n\n\n\n\n\n\n\nIn the event of inclement weather\, we’ll each use our best judgment about whether to attend. We hope you’ll do the same!  \n\n\n\n\n\n\n\nPlease join us\, one rally at a time.  We’ll continue for as long as it takes. \n\n\n\n\n\n\n\n\nRSVP for Updates
URL:https://turnpurple2blue.org/event/brookline-rally-for-democracy-april-2026/2026-04-25/
LOCATION:Coolidge Corner\, Beacon Street & Harvard Street\, Brookline\, Massachusetts\, 02446\, United States
CATEGORIES:Protests
ATTACH;FMTTYPE=image/avif:https://turnpurple2blue.org/wp-content/uploads/2026/02/IMG_6117_20251028235144028225.png.avif
END:VEVENT
BEGIN:VEVENT
DTSTART;TZID=America/New_York:20260425T130000
DTEND;TZID=America/New_York:20260425T143000
DTSTAMP:20260420T173748
CREATED:20260419T205934Z
LAST-MODIFIED:20260420T160208Z
UID:10004984-1777122000-1777127400@turnpurple2blue.org
SUMMARY:Communities Not Cages -- Brockton standout
DESCRIPTION:Reporting shows that DHS/ICE are actively scouting\, purchasing\, and planning to convert approximately 23 warehouses nationwide into new immigration detention and processing facilities. These sites are expected to detain between 1\,500 and 10\,000 people each\, signaling a massive expansion of detention capacity and the normalization of large-scale confinement in facilities built for storing things\, not imprisoning people. \n\n\n\nSome of the people confined in these warehouses might be our neighbors from here in Brockton. \n\n\n\nLocal action has already forced the cancellation of some of the proposed facilities. Further action is possible. \n\n\n\nAlthough no new facilities have appeared in Massachusetts so far\, ICE is already holding people at their Burlington office and at the Plymouth County House of Corrections. \n\n\n\n\nRSVP for exact location\n\n\n\n\nDetention Watch Network is spearheading a National Day of Action on April 25. Come to a Communities Not Cages standout hosted by Brockton Indivisible! Bring flags to wave\, and signs showing solidarity with our immigrant neighbors\, and efforts to force the federal government to treat detained people humanely. \n\n\n\nA core principle behind all Indivisible events is a commitment to nonviolent action. We expect all participants to seek to de-escalate any potential confrontation with those who disagree with our values.
URL:https://turnpurple2blue.org/event/communities-not-cages-brockton-standout/
LOCATION:Brockton Private Address\, Brockton\, Massachusetts
CATEGORIES:Protests
ATTACH;FMTTYPE=image/png:https://turnpurple2blue.org/wp-content/uploads/2026/04/april-25.png
END:VEVENT
BEGIN:VEVENT
DTSTART;TZID=America/New_York:20260425T140000
DTEND;TZID=America/New_York:20260425T150000
DTSTAMP:20260420T173748
CREATED:20260410T163538Z
LAST-MODIFIED:20260410T163543Z
UID:10004927-1777125600-1777129200@turnpurple2blue.org
SUMMARY:EARTHDAY 2026 Merrimac | Community Gathering in Merrimac
DESCRIPTION:Celebrate and care for 🌺earth🌎climate🌳clean power⚡air🌬️water🏞️food🍇pollinator🐝garden🌻forest🌲river🏞️lake. \n\n\n\n\n\n\n\nForward Merrimac \n\n\n\n\n\n\n\n**For your safety in Merrimac Square; please be on the concrete sidewalks – not on the pavement or bricks in the circle as large vehicles drive on them.** Please bring your friends and family\, be aware of your surroundings\, de-escalate any confrontation\, step away and report to a Safety Marshall if need be. ✳️How to Prepare for Your Event: ✅ Bring yourself\, friends\, family\, signs\, or props → Make your message visible! Sign ideas include: “EARTH IS OUR HOME” \, “CLEAN POWER” \, “RECYCLE REUSE REDUCE” \, “FREE SPEECH”\, “PEACEFUL ASSEMBLY” . ✅ Record everything→ Post photos/videos with #EarthdayMerrimacMA hashtag. Avoid posting images of people’s faces. There’s a parking lot by 25 School Street. See more volunteer opportunities at: sites.google.com/view/fwdm (Trigger Warning: Sensory Overload – many Emojis for visual thinkers) 💖 . 🌎 .🌳 .🌴.🌻. ♾️ . 🦋 .🪻. ♿ . 🐕‍🦺 . ☮️ .✌🏼. 🧘🏼 .🕊️. ☯️ . 🎶 . 🎤 . 😁 . 🐋 . 🌊 . 💙 . 🇺🇲 . 🇵🇷 . 🏳️‍🌈 . 🏳️‍⚧️ . 🚫🧊 . ❌👑. 🆘🪧. 👥 . ✳️ . \n\n\n\n\n\n\n\n\nRSVP for Updates\n\n\n\n\n\n\n\n\nA core principle behind all Indivisible events is a commitment to nonviolent action. We expect all participants to seek to de-escalate any potential confrontation with those who disagree with our values.
URL:https://turnpurple2blue.org/event/earthday-2026-merrimac-community-gathering-in-merrimac-2/
LOCATION:MA
CATEGORIES:Community Gatherings,Protests
ATTACH;FMTTYPE=image/png:https://turnpurple2blue.org/wp-content/uploads/2025/03/rsvpnow.png
END:VEVENT
BEGIN:VEVENT
DTSTART;TZID=America/New_York:20260425T140000
DTEND;TZID=America/New_York:20260425T153000
DTSTAMP:20260420T173748
CREATED:20260419T203335Z
LAST-MODIFIED:20260420T160220Z
UID:10004981-1777125600-1777131000@turnpurple2blue.org
SUMMARY:National Day of Action: Stop Ice Detention Centers
DESCRIPTION:This a local Indivisible event! \n\n\n\nThe Department of Homeland Security (DHS) and Immigration and Customs Enforcement (ICE) are expanding their existing detention network beyond jails\, prisons\, and military bases to include large warehouse and industrial spaces for mass detention. \n\n\n\nOne of our local Babson College students\, Ani\, was detained and deported illegally! \n\n\n\n\nRSVP for updates\n\n\n\n\nJoin us in protest of this appalling situation. ICE out now!!! \n\n\n\nA core principle behind all Indivisible events is a commitment to nonviolent action. We expect all participants to seek to de-escalate any potential confrontation with those who disagree with our values.
URL:https://turnpurple2blue.org/event/national-day-of-action-stop-ice-detention-centers/
LOCATION:Wellesley Town Hall Green\, 525 Washington St\, Wellesley\, Massachusetts\, 02482
CATEGORIES:Protests
ATTACH;FMTTYPE=image/png:https://turnpurple2blue.org/wp-content/uploads/2026/04/april-25.png
GEO:42.2979567;-71.2915837
X-APPLE-STRUCTURED-LOCATION;VALUE=URI;X-ADDRESS=Wellesley Town Hall Green 525 Washington St Wellesley Massachusetts 02482;X-APPLE-RADIUS=500;X-TITLE=525 Washington St:geo:-71.2915837,42.2979567
END:VEVENT
BEGIN:VEVENT
DTSTART;TZID=America/New_York:20260425T160000
DTEND;TZID=America/New_York:20260425T170000
DTSTAMP:20260420T173748
CREATED:20260324T141538Z
LAST-MODIFIED:20260324T141544Z
UID:10004722-1777132800-1777136400@turnpurple2blue.org
SUMMARY:Marblehead Weekly Rally for Pro-Democracy
DESCRIPTION:Please join us every Saturday in Marblehead from 4PM-5PM at Glabicky Field\, Route114 at the Maple & Lafayette streets intersection to show we do not to accept tRUMP’s deportations\, corruption\, cuts to Social Security/Medicare and his total disregard for human beings. \n\n\n\n\nRSVP for updates\n\n\n\n\nThis a local Indivisible event! \n\n\n\nA core principle behind all Indivisible events is a commitment to nonviolent action. We expect all participants to seek to de-escalate any potential confrontation with those who disagree with our values.
URL:https://turnpurple2blue.org/event/marblehead-weekly-rally-for-pro-democracy-2/2026-04-25/
LOCATION:Glabicky Field\, Maple and Lafayette\, Marblehead\, Massachusetts
CATEGORIES:Protests
ATTACH;FMTTYPE=image/png:https://turnpurple2blue.org/wp-content/uploads/2025/03/rsvp-now.png
GEO:42.4928566;-70.8820929
X-APPLE-STRUCTURED-LOCATION;VALUE=URI;X-ADDRESS=Glabicky Field Maple and Lafayette Marblehead Massachusetts;X-APPLE-RADIUS=500;X-TITLE=Maple and Lafayette:geo:-70.8820929,42.4928566
END:VEVENT
END:VCALENDAR