BEGIN:VCALENDAR
VERSION:2.0
PRODID:-//Turn Purple 2 Blue - ECPv6.15.20//NONSGML v1.0//EN
CALSCALE:GREGORIAN
METHOD:PUBLISH
X-WR-CALNAME:Turn Purple 2 Blue
X-ORIGINAL-URL:https://turnpurple2blue.org
X-WR-CALDESC:Events for Turn Purple 2 Blue
REFRESH-INTERVAL;VALUE=DURATION:PT1H
X-Robots-Tag:noindex
X-PUBLISHED-TTL:PT1H
BEGIN:VTIMEZONE
TZID:America/New_York
BEGIN:DAYLIGHT
TZOFFSETFROM:-0500
TZOFFSETTO:-0400
TZNAME:EDT
DTSTART:20250309T070000
END:DAYLIGHT
BEGIN:STANDARD
TZOFFSETFROM:-0400
TZOFFSETTO:-0500
TZNAME:EST
DTSTART:20251102T060000
END:STANDARD
BEGIN:DAYLIGHT
TZOFFSETFROM:-0500
TZOFFSETTO:-0400
TZNAME:EDT
DTSTART:20260308T070000
END:DAYLIGHT
BEGIN:STANDARD
TZOFFSETFROM:-0400
TZOFFSETTO:-0500
TZNAME:EST
DTSTART:20261101T060000
END:STANDARD
BEGIN:DAYLIGHT
TZOFFSETFROM:-0500
TZOFFSETTO:-0400
TZNAME:EDT
DTSTART:20270314T070000
END:DAYLIGHT
BEGIN:STANDARD
TZOFFSETFROM:-0400
TZOFFSETTO:-0500
TZNAME:EST
DTSTART:20271107T060000
END:STANDARD
END:VTIMEZONE
BEGIN:VEVENT
DTSTART;TZID=America/New_York:20260621T120000
DTEND;TZID=America/New_York:20260621T133000
DTSTAMP:20260420T003854
CREATED:20260419T201200Z
LAST-MODIFIED:20260419T201206Z
UID:10004953-1782043200-1782048600@turnpurple2blue.org
SUMMARY:Patriots Standing Up for Democracy
DESCRIPTION:This a local Indivisible event! \n\n\n\nWe have our peaceful Stand Outs weekly. Every Sunday from noon to 1:30pm we line the street around our Common and hold signs that are relevant to fighting for our Democracy. We sing songs and we do chants\, we are unified in our love for our country and we know it is important for us to stand up and be seen\, be heard and be with other Patriots that care about our country. We have copies of the Constitution and flags along with signs that can be used. We welcome all to stand tall with us. We also collect food and funds for our town’s Food Pantry. We are in this together and helping our community in this small way is an act of empathy\, understanding and kindness that we encourage. \n\n\n\n\nRSVP for updates\n\n\n\n\nA core principle behind all Indivisible events is a commitment to nonviolent action. We expect all participants to seek to de-escalate any potential confrontation with those who disagree with our values.
URL:https://turnpurple2blue.org/event/patriots-standing-up-for-democracy-4/2026-06-21/
LOCATION:Barre Town Common\, MA-122\, Barre\, Massachusetts\, 01005
CATEGORIES:Protests
ATTACH;FMTTYPE=image/png:https://turnpurple2blue.org/wp-content/uploads/2025/03/rsvp-now.png
GEO:42.4221367;-72.1027056
X-APPLE-STRUCTURED-LOCATION;VALUE=URI;X-ADDRESS=Barre Town Common MA-122 Barre Massachusetts 01005;X-APPLE-RADIUS=500;X-TITLE=MA-122:geo:-72.1027056,42.4221367
END:VEVENT
END:VCALENDAR