BEGIN:VCALENDAR
VERSION:2.0
PRODID:-//Turn Purple 2 Blue - ECPv6.15.20//NONSGML v1.0//EN
CALSCALE:GREGORIAN
METHOD:PUBLISH
X-WR-CALNAME:Turn Purple 2 Blue
X-ORIGINAL-URL:https://turnpurple2blue.org
X-WR-CALDESC:Events for Turn Purple 2 Blue
REFRESH-INTERVAL;VALUE=DURATION:PT1H
X-Robots-Tag:noindex
X-PUBLISHED-TTL:PT1H
BEGIN:VTIMEZONE
TZID:America/New_York
BEGIN:DAYLIGHT
TZOFFSETFROM:-0500
TZOFFSETTO:-0400
TZNAME:EDT
DTSTART:20250309T070000
END:DAYLIGHT
BEGIN:STANDARD
TZOFFSETFROM:-0400
TZOFFSETTO:-0500
TZNAME:EST
DTSTART:20251102T060000
END:STANDARD
BEGIN:DAYLIGHT
TZOFFSETFROM:-0500
TZOFFSETTO:-0400
TZNAME:EDT
DTSTART:20260308T070000
END:DAYLIGHT
BEGIN:STANDARD
TZOFFSETFROM:-0400
TZOFFSETTO:-0500
TZNAME:EST
DTSTART:20261101T060000
END:STANDARD
BEGIN:DAYLIGHT
TZOFFSETFROM:-0500
TZOFFSETTO:-0400
TZNAME:EDT
DTSTART:20270314T070000
END:DAYLIGHT
BEGIN:STANDARD
TZOFFSETFROM:-0400
TZOFFSETTO:-0500
TZNAME:EST
DTSTART:20271107T060000
END:STANDARD
END:VTIMEZONE
BEGIN:VEVENT
DTSTART;TZID=America/New_York:20260718T104500
DTEND;TZID=America/New_York:20260718T120000
DTSTAMP:20260419T232442
CREATED:20260326T193032Z
LAST-MODIFIED:20260326T193037Z
UID:10004745-1784371500-1784376000@turnpurple2blue.org
SUMMARY:HANDS OFF UKRAINE 🇺🇦
DESCRIPTION:More than 4 years since the full scale Russian Invasion in Ukraine and they are still under attack thanks to Trump and his minions defending and praising Putin and Russia. Bring Ukraine Flags 🇺🇦 to show your support for Ukraine as the communities continue being droned and nuked by Putin. \n\n\n\nThis a local Indivisible event! \n\n\n\nHere is where you’ll describe your local event. Please be specific about important details and include anything a first time attendee\, or new group member\, might find helpful! \n\n\n\n\nRSVP for updates\n\n\n\n\nA core principle behind all Indivisible events is a commitment to nonviolent action. We expect all participants to seek to de-escalate any potential confrontation with those who disagree with our values.
URL:https://turnpurple2blue.org/event/hands-off-ukraine-%f0%9f%87%ba%f0%9f%87%a6/
LOCATION:Odell Veterans Memorial Park\, 56-98 Broadway\, Beverly\, MA\, 01915
CATEGORIES:Protests
ATTACH;FMTTYPE=image/png:https://turnpurple2blue.org/wp-content/uploads/2025/03/rsvp-now.png
GEO:42.5472643;-70.8846439
X-APPLE-STRUCTURED-LOCATION;VALUE=URI;X-ADDRESS=Odell Veterans Memorial Park 56-98 Broadway Beverly MA 01915;X-APPLE-RADIUS=500;X-TITLE=56-98 Broadway:geo:-70.8846439,42.5472643
END:VEVENT
BEGIN:VEVENT
DTSTART;TZID=America/New_York:20260718T110000
DTEND;TZID=America/New_York:20260718T120000
DTSTAMP:20260419T232442
CREATED:20260204T212509Z
LAST-MODIFIED:20260204T212514Z
UID:10004227-1784372400-1784376000@turnpurple2blue.org
SUMMARY:Malden Democrats Stand Out for Democracy
DESCRIPTION:The Malden Democratic City Committee hosts a weekly pro-democracy stand out every Saturday. \n\n\n\nAll are welcome. \n\n\n\nPlease bring your own sign or an American flag. \n\n\n\nThis is a family friendly event. \n\n\n\n\nRSVP for Exact Address\n\n\n\n\nParking is available on surrounding side streets as well as at the nearby hockey rink as long as there isn’t a game being held.
URL:https://turnpurple2blue.org/event/malden-democrats-stand-out-for-democracy/2026-07-18/
LOCATION:Malden-Private Address\, Malden\, Massachusetts
CATEGORIES:Protests
ATTACH;FMTTYPE=image/png:https://turnpurple2blue.org/wp-content/uploads/2026/02/malden.png
END:VEVENT
BEGIN:VEVENT
DTSTART;TZID=America/New_York:20260718T113000
DTEND;TZID=America/New_York:20260718T123000
DTSTAMP:20260419T232442
CREATED:20260407T152731Z
LAST-MODIFIED:20260407T152736Z
UID:10004861-1784374200-1784377800@turnpurple2blue.org
SUMMARY:Greater Methuen Indivisible Standout for Democracy | Protest Event in Methuen
DESCRIPTION:This a local Indivisible event! \n\n\n\n\n\n\n\nBring your energy\, your voice\, your joy\, and a sign that speaks your truth as you stand with other democracy defenders to show that hate and fear have no home here! Extra signs are available. This is a peaceful\, family-oriented gathering. We ask that participants not engage with anyone who may disagree with our values. \n\n\n\n\n\n\n\n\nRSVP for Updates\n\n\n\n\n\n\n\n\nA core principle behind all Indivisible events is a commitment to nonviolent action. We expect all participants to seek to de-escalate any potential confrontation with those who disagree with our values.
URL:https://turnpurple2blue.org/event/greater-methuen-indivisible-standout-for-democracy-protest-event-in-methuen-2/2026-07-18/
LOCATION:200 Haverhill St\, 200 Haverhill St\, Methuen\, Massachusetts\, 01844\, United States
CATEGORIES:Protests
ATTACH;FMTTYPE=image/png:https://turnpurple2blue.org/wp-content/uploads/2025/03/rsvpnow.png
END:VEVENT
BEGIN:VEVENT
DTSTART;TZID=America/New_York:20260718T130000
DTEND;TZID=America/New_York:20260718T150000
DTSTAMP:20260419T232442
CREATED:20260121T235527Z
LAST-MODIFIED:20260121T235532Z
UID:10004029-1784379600-1784386800@turnpurple2blue.org
SUMMARY:Monthly Standout Against Authoritarianism
DESCRIPTION:This a Indivisible Maynard Area event! \n\n\n\nWe meet the 3rd Saturday of every month from 1-3pm At Veterans Memorial Park to stand up against authoritarianism. Signs welcome! Let’s stand together as a community to fight for our democracy and our rights. \n\n\n\n\nRSVP for updates\n\n\n\n\nA core principle behind all Indivisible events is a commitment to nonviolent action. We expect all participants to seek to de-escalate any potential confrontation with those who disagree with our values.
URL:https://turnpurple2blue.org/event/monthly-standout-against-authoritarianism/2026-07-18/
LOCATION:Veteran’s Memorial Park\, Summer St\, Maynard\, Massachusetts\, 01754
CATEGORIES:Protests
ATTACH;FMTTYPE=image/png:https://turnpurple2blue.org/wp-content/uploads/2025/03/rsvp-now.png
GEO:42.4358926;-71.464172
X-APPLE-STRUCTURED-LOCATION;VALUE=URI;X-ADDRESS=Veteran’s Memorial Park Summer St Maynard Massachusetts 01754;X-APPLE-RADIUS=500;X-TITLE=Summer St:geo:-71.464172,42.4358926
END:VEVENT
END:VCALENDAR