BEGIN:VCALENDAR
VERSION:2.0
PRODID:-//Turn Purple 2 Blue - ECPv6.15.20//NONSGML v1.0//EN
CALSCALE:GREGORIAN
METHOD:PUBLISH
X-WR-CALNAME:Turn Purple 2 Blue
X-ORIGINAL-URL:https://turnpurple2blue.org
X-WR-CALDESC:Events for Turn Purple 2 Blue
REFRESH-INTERVAL;VALUE=DURATION:PT1H
X-Robots-Tag:noindex
X-PUBLISHED-TTL:PT1H
BEGIN:VTIMEZONE
TZID:America/New_York
BEGIN:DAYLIGHT
TZOFFSETFROM:-0500
TZOFFSETTO:-0400
TZNAME:EDT
DTSTART:20240310T070000
END:DAYLIGHT
BEGIN:STANDARD
TZOFFSETFROM:-0400
TZOFFSETTO:-0500
TZNAME:EST
DTSTART:20241103T060000
END:STANDARD
BEGIN:DAYLIGHT
TZOFFSETFROM:-0500
TZOFFSETTO:-0400
TZNAME:EDT
DTSTART:20250309T070000
END:DAYLIGHT
BEGIN:STANDARD
TZOFFSETFROM:-0400
TZOFFSETTO:-0500
TZNAME:EST
DTSTART:20251102T060000
END:STANDARD
BEGIN:DAYLIGHT
TZOFFSETFROM:-0500
TZOFFSETTO:-0400
TZNAME:EDT
DTSTART:20260308T070000
END:DAYLIGHT
BEGIN:STANDARD
TZOFFSETFROM:-0400
TZOFFSETTO:-0500
TZNAME:EST
DTSTART:20261101T060000
END:STANDARD
END:VTIMEZONE
BEGIN:VEVENT
DTSTART;TZID=America/New_York:20250517T100000
DTEND;TZID=America/New_York:20250517T103000
DTSTAMP:20260423T184341
CREATED:20250613T195849Z
LAST-MODIFIED:20250613T202021Z
UID:10000838-1747476000-1747477800@turnpurple2blue.org
SUMMARY:Swing Blue Alliance Frontline Update
DESCRIPTION:Join us for our monthly 30-minute Frontline Update \n\n\n\nWe’ve crafted a focused agenda covering key priorities and top campaigns to keep you aligned with our mission. Dive in for a high-level overview of where we’re heading and the impactful initiatives driving us forward. \n\n\n\nStay afterward for Q&A and discussions. \n\n\n\n\nRSVP
URL:https://turnpurple2blue.org/event/swing-blue-alliance-frontline-update/2025-05-17/
LOCATION:https://turnpurple2blue.org/event/swing-blue-alliance-frontline-update/2025-05-17/
CATEGORIES:Action Hours
ATTACH;FMTTYPE=image/png:https://turnpurple2blue.org/wp-content/uploads/2025/05/frontline-updates.png
END:VEVENT
END:VCALENDAR