BEGIN:VCALENDAR
VERSION:2.0
PRODID:-//Turn Purple 2 Blue - ECPv6.15.20//NONSGML v1.0//EN
CALSCALE:GREGORIAN
METHOD:PUBLISH
X-WR-CALNAME:Turn Purple 2 Blue
X-ORIGINAL-URL:https://turnpurple2blue.org
X-WR-CALDESC:Events for Turn Purple 2 Blue
REFRESH-INTERVAL;VALUE=DURATION:PT1H
X-Robots-Tag:noindex
X-PUBLISHED-TTL:PT1H
BEGIN:VTIMEZONE
TZID:America/New_York
BEGIN:DAYLIGHT
TZOFFSETFROM:-0500
TZOFFSETTO:-0400
TZNAME:EDT
DTSTART:20250309T070000
END:DAYLIGHT
BEGIN:STANDARD
TZOFFSETFROM:-0400
TZOFFSETTO:-0500
TZNAME:EST
DTSTART:20251102T060000
END:STANDARD
BEGIN:DAYLIGHT
TZOFFSETFROM:-0500
TZOFFSETTO:-0400
TZNAME:EDT
DTSTART:20260308T070000
END:DAYLIGHT
BEGIN:STANDARD
TZOFFSETFROM:-0400
TZOFFSETTO:-0500
TZNAME:EST
DTSTART:20261101T060000
END:STANDARD
BEGIN:DAYLIGHT
TZOFFSETFROM:-0500
TZOFFSETTO:-0400
TZNAME:EDT
DTSTART:20270314T070000
END:DAYLIGHT
BEGIN:STANDARD
TZOFFSETFROM:-0400
TZOFFSETTO:-0500
TZNAME:EST
DTSTART:20271107T060000
END:STANDARD
END:VTIMEZONE
BEGIN:VEVENT
DTSTART;TZID=America/New_York:20260425T110000
DTEND;TZID=America/New_York:20260425T130000
DTSTAMP:20260423T194431
CREATED:20260216T212553Z
LAST-MODIFIED:20260216T212600Z
UID:10004414-1777114800-1777122000@turnpurple2blue.org
SUMMARY:No Fear with Street Theater Group
DESCRIPTION:A new protest group named “No Fear Street Theater” will be hosting ICE protests near the Burlington ICE Office on Saturdays! Everyone is welcome!  More info here
URL:https://turnpurple2blue.org/event/no-fear-with-street-theater-group-4/2026-04-25/
LOCATION:Burlington Mall Rd and District Ave\, Burlington Mall Rd and District Ave\, Burlington\, Massachusetts\, 01813
CATEGORIES:Protests
ATTACH;FMTTYPE=image/png:https://turnpurple2blue.org/wp-content/uploads/2025/06/ice-melts-under-resistance.png
GEO:42.4858849;-71.211809
X-APPLE-STRUCTURED-LOCATION;VALUE=URI;X-ADDRESS=Burlington Mall Rd and District Ave Burlington Mall Rd and District Ave Burlington Massachusetts 01813;X-APPLE-RADIUS=500;X-TITLE=Burlington Mall Rd and District Ave:geo:-71.211809,42.4858849
END:VEVENT
BEGIN:VEVENT
DTSTART;TZID=America/New_York:20260502T110000
DTEND;TZID=America/New_York:20260502T130000
DTSTAMP:20260423T194431
CREATED:20260216T212553Z
LAST-MODIFIED:20260216T212600Z
UID:10004415-1777719600-1777726800@turnpurple2blue.org
SUMMARY:No Fear with Street Theater Group
DESCRIPTION:A new protest group named “No Fear Street Theater” will be hosting ICE protests near the Burlington ICE Office on Saturdays! Everyone is welcome!  More info here
URL:https://turnpurple2blue.org/event/no-fear-with-street-theater-group-4/2026-05-02/
LOCATION:Burlington Mall Rd and District Ave\, Burlington Mall Rd and District Ave\, Burlington\, Massachusetts\, 01813
CATEGORIES:Protests
ATTACH;FMTTYPE=image/png:https://turnpurple2blue.org/wp-content/uploads/2025/06/ice-melts-under-resistance.png
GEO:42.4858849;-71.211809
X-APPLE-STRUCTURED-LOCATION;VALUE=URI;X-ADDRESS=Burlington Mall Rd and District Ave Burlington Mall Rd and District Ave Burlington Massachusetts 01813;X-APPLE-RADIUS=500;X-TITLE=Burlington Mall Rd and District Ave:geo:-71.211809,42.4858849
END:VEVENT
BEGIN:VEVENT
DTSTART;TZID=America/New_York:20260509T110000
DTEND;TZID=America/New_York:20260509T130000
DTSTAMP:20260423T194431
CREATED:20260216T212553Z
LAST-MODIFIED:20260216T212600Z
UID:10004416-1778324400-1778331600@turnpurple2blue.org
SUMMARY:No Fear with Street Theater Group
DESCRIPTION:A new protest group named “No Fear Street Theater” will be hosting ICE protests near the Burlington ICE Office on Saturdays! Everyone is welcome!  More info here
URL:https://turnpurple2blue.org/event/no-fear-with-street-theater-group-4/2026-05-09/
LOCATION:Burlington Mall Rd and District Ave\, Burlington Mall Rd and District Ave\, Burlington\, Massachusetts\, 01813
CATEGORIES:Protests
ATTACH;FMTTYPE=image/png:https://turnpurple2blue.org/wp-content/uploads/2025/06/ice-melts-under-resistance.png
GEO:42.4858849;-71.211809
X-APPLE-STRUCTURED-LOCATION;VALUE=URI;X-ADDRESS=Burlington Mall Rd and District Ave Burlington Mall Rd and District Ave Burlington Massachusetts 01813;X-APPLE-RADIUS=500;X-TITLE=Burlington Mall Rd and District Ave:geo:-71.211809,42.4858849
END:VEVENT
BEGIN:VEVENT
DTSTART;TZID=America/New_York:20260516T110000
DTEND;TZID=America/New_York:20260516T130000
DTSTAMP:20260423T194431
CREATED:20260216T212553Z
LAST-MODIFIED:20260216T212600Z
UID:10004417-1778929200-1778936400@turnpurple2blue.org
SUMMARY:No Fear with Street Theater Group
DESCRIPTION:A new protest group named “No Fear Street Theater” will be hosting ICE protests near the Burlington ICE Office on Saturdays! Everyone is welcome!  More info here
URL:https://turnpurple2blue.org/event/no-fear-with-street-theater-group-4/2026-05-16/
LOCATION:Burlington Mall Rd and District Ave\, Burlington Mall Rd and District Ave\, Burlington\, Massachusetts\, 01813
CATEGORIES:Protests
ATTACH;FMTTYPE=image/png:https://turnpurple2blue.org/wp-content/uploads/2025/06/ice-melts-under-resistance.png
GEO:42.4858849;-71.211809
X-APPLE-STRUCTURED-LOCATION;VALUE=URI;X-ADDRESS=Burlington Mall Rd and District Ave Burlington Mall Rd and District Ave Burlington Massachusetts 01813;X-APPLE-RADIUS=500;X-TITLE=Burlington Mall Rd and District Ave:geo:-71.211809,42.4858849
END:VEVENT
BEGIN:VEVENT
DTSTART;TZID=America/New_York:20260523T110000
DTEND;TZID=America/New_York:20260523T130000
DTSTAMP:20260423T194431
CREATED:20260216T212553Z
LAST-MODIFIED:20260216T212600Z
UID:10004418-1779534000-1779541200@turnpurple2blue.org
SUMMARY:No Fear with Street Theater Group
DESCRIPTION:A new protest group named “No Fear Street Theater” will be hosting ICE protests near the Burlington ICE Office on Saturdays! Everyone is welcome!  More info here
URL:https://turnpurple2blue.org/event/no-fear-with-street-theater-group-4/2026-05-23/
LOCATION:Burlington Mall Rd and District Ave\, Burlington Mall Rd and District Ave\, Burlington\, Massachusetts\, 01813
CATEGORIES:Protests
ATTACH;FMTTYPE=image/png:https://turnpurple2blue.org/wp-content/uploads/2025/06/ice-melts-under-resistance.png
GEO:42.4858849;-71.211809
X-APPLE-STRUCTURED-LOCATION;VALUE=URI;X-ADDRESS=Burlington Mall Rd and District Ave Burlington Mall Rd and District Ave Burlington Massachusetts 01813;X-APPLE-RADIUS=500;X-TITLE=Burlington Mall Rd and District Ave:geo:-71.211809,42.4858849
END:VEVENT
END:VCALENDAR