BEGIN:VCALENDAR
VERSION:2.0
PRODID:-//Turn Purple 2 Blue - ECPv6.15.20//NONSGML v1.0//EN
CALSCALE:GREGORIAN
METHOD:PUBLISH
X-WR-CALNAME:Turn Purple 2 Blue
X-ORIGINAL-URL:https://turnpurple2blue.org
X-WR-CALDESC:Events for Turn Purple 2 Blue
REFRESH-INTERVAL;VALUE=DURATION:PT1H
X-Robots-Tag:noindex
X-PUBLISHED-TTL:PT1H
BEGIN:VTIMEZONE
TZID:America/New_York
BEGIN:DAYLIGHT
TZOFFSETFROM:-0500
TZOFFSETTO:-0400
TZNAME:EDT
DTSTART:20250309T070000
END:DAYLIGHT
BEGIN:STANDARD
TZOFFSETFROM:-0400
TZOFFSETTO:-0500
TZNAME:EST
DTSTART:20251102T060000
END:STANDARD
BEGIN:DAYLIGHT
TZOFFSETFROM:-0500
TZOFFSETTO:-0400
TZNAME:EDT
DTSTART:20260308T070000
END:DAYLIGHT
BEGIN:STANDARD
TZOFFSETFROM:-0400
TZOFFSETTO:-0500
TZNAME:EST
DTSTART:20261101T060000
END:STANDARD
BEGIN:DAYLIGHT
TZOFFSETFROM:-0500
TZOFFSETTO:-0400
TZNAME:EDT
DTSTART:20270314T070000
END:DAYLIGHT
BEGIN:STANDARD
TZOFFSETFROM:-0400
TZOFFSETTO:-0500
TZNAME:EST
DTSTART:20271107T060000
END:STANDARD
END:VTIMEZONE
BEGIN:VEVENT
DTSTART;TZID=America/New_York:20260128T100000
DTEND;TZID=America/New_York:20260128T130000
DTSTAMP:20260421T155644
CREATED:20251230T183442Z
LAST-MODIFIED:20251230T183447Z
UID:10003462-1769594400-1769605200@turnpurple2blue.org
SUMMARY:Pro-Vaccine Advocacy Day
DESCRIPTION:Massachusetts Families for Vaccines is pleased to invite you to our Day of Advocacy on Wednesday\, January 28\, 2026! This event will support our campaign to pass H.2554/S.1557 to remove the non-medical exemption from required school vaccines. \n\n\n\nWe will gather at 10:00am in Room 428 to hear from bill sponsor Representative Andy Vargas\, learn about MAFV’s poll showing strong support for passing H.2554/S.1557\, hear from experts about the importance of strengthening vaccine requirements in schools\, and watch a clip from the documentary Shot in the Arm. (You can view the trailer here.) Refreshments will be provided. After the presentation\, we strongly encourage you to visit your legislators’ offices to share why passing H.2554/S.1557 is important to you. \n\n\n\nIf you are able to attend\, please fill out the form below so that we can help you arrange meetings with your legislators in advance. You can also contact katie@mafamiliesforvaccines.org to RSVP or with any questions. \n\n\n\n\nRSVP here\n\n\n\n\nEven if you are not able to make it\, we strongly encourage you to invite your legislators and their staff members to the presentation and to share the event with your networks. You can use our quick form to email both your state representative and state senator at once here.
URL:https://turnpurple2blue.org/event/pro-vaccine-advocacy-day/
LOCATION:Massachusetts State House\, 24 Beacon St\, Boston\, MA\, 02133
CATEGORIES:Action Hours
ATTACH;FMTTYPE=image/png:https://turnpurple2blue.org/wp-content/uploads/2025/12/ma-families-for-vaccines.png
GEO:42.3587596;-71.063803
X-APPLE-STRUCTURED-LOCATION;VALUE=URI;X-ADDRESS=Massachusetts State House 24 Beacon St Boston MA 02133;X-APPLE-RADIUS=500;X-TITLE=24 Beacon St:geo:-71.063803,42.3587596
END:VEVENT
END:VCALENDAR